BEGIN:VCALENDAR
VERSION:2.0
PRODID:-//sehlde.info - ECPv6.15.20//NONSGML v1.0//EN
CALSCALE:GREGORIAN
METHOD:PUBLISH
X-WR-CALNAME:sehlde.info
X-ORIGINAL-URL:https://sehlde.info/content
X-WR-CALDESC:Veranstaltungen für sehlde.info
REFRESH-INTERVAL;VALUE=DURATION:PT1H
X-Robots-Tag:noindex
X-PUBLISHED-TTL:PT1H
BEGIN:VTIMEZONE
TZID:Europe/Berlin
BEGIN:DAYLIGHT
TZOFFSETFROM:+0100
TZOFFSETTO:+0200
TZNAME:CEST
DTSTART:20170326T010000
END:DAYLIGHT
BEGIN:STANDARD
TZOFFSETFROM:+0200
TZOFFSETTO:+0100
TZNAME:CET
DTSTART:20171029T010000
END:STANDARD
BEGIN:DAYLIGHT
TZOFFSETFROM:+0100
TZOFFSETTO:+0200
TZNAME:CEST
DTSTART:20180325T010000
END:DAYLIGHT
BEGIN:STANDARD
TZOFFSETFROM:+0200
TZOFFSETTO:+0100
TZNAME:CET
DTSTART:20181028T010000
END:STANDARD
BEGIN:DAYLIGHT
TZOFFSETFROM:+0100
TZOFFSETTO:+0200
TZNAME:CEST
DTSTART:20190331T010000
END:DAYLIGHT
BEGIN:STANDARD
TZOFFSETFROM:+0200
TZOFFSETTO:+0100
TZNAME:CET
DTSTART:20191027T010000
END:STANDARD
END:VTIMEZONE
BEGIN:VEVENT
DTSTART;TZID=Europe/Berlin:20181103T140000
DTEND;TZID=Europe/Berlin:20181103T140000
DTSTAMP:20260422T151738
CREATED:20181022T051316Z
LAST-MODIFIED:20181022T051316Z
UID:1542-1541253600-1541253600@sehlde.info
SUMMARY:Grünkohlwanderung mit Mitgliederversammlung
DESCRIPTION:Liebe Genossin\, Lieber Genosse\, \nin diesem Jahr haben wir uns etwas ganz Besonderes ausgedacht. Wir verbinden ie beliebte Grünkohlwanderung mit einer zweiten Mitgliederversammlung. \nDazu laden wir euch herzlich ein! \nWir treffen und am 3. November 2018 um 14.00 Uhr am Sportplatz in Sehlde zu gemeinsamen Wanderung (ca. sieben Kilometer). \nNach der RÜckkkehr findet um 18.00 Uhr eine Mitgliederversammlung statt. Ab 19.30 gibt es von Rita selbstgekochten Grünkohl mit ALlem\, was dazugehört. Das Essen kostet pro person 10\,00 Euro\, die Getränke zahl jeder selber. \nAnmeldung bis zum 26. Oktober 2018 bei Päslers.
URL:https://sehlde.info/content/event/gruenkohlwanderung-mit-mitgliederversammlung/
LOCATION:Sportheim\, Birkenweg\, Sehlde\, 38279\, Deutschland
CATEGORIES:intern,Mit Voranmeldung,SPD Sehlde
END:VEVENT
END:VCALENDAR