BEGIN:VCALENDAR
VERSION:2.0
PRODID:-//sehlde.info - ECPv6.15.20//NONSGML v1.0//EN
CALSCALE:GREGORIAN
METHOD:PUBLISH
X-ORIGINAL-URL:https://sehlde.info/content
X-WR-CALDESC:Veranstaltungen für sehlde.info
REFRESH-INTERVAL;VALUE=DURATION:PT1H
X-Robots-Tag:noindex
X-PUBLISHED-TTL:PT1H
BEGIN:VTIMEZONE
TZID:Europe/Helsinki
BEGIN:DAYLIGHT
TZOFFSETFROM:+0200
TZOFFSETTO:+0300
TZNAME:EEST
DTSTART:20170326T010000
END:DAYLIGHT
BEGIN:STANDARD
TZOFFSETFROM:+0300
TZOFFSETTO:+0200
TZNAME:EET
DTSTART:20171029T010000
END:STANDARD
BEGIN:DAYLIGHT
TZOFFSETFROM:+0200
TZOFFSETTO:+0300
TZNAME:EEST
DTSTART:20180325T010000
END:DAYLIGHT
BEGIN:STANDARD
TZOFFSETFROM:+0300
TZOFFSETTO:+0200
TZNAME:EET
DTSTART:20181028T010000
END:STANDARD
BEGIN:DAYLIGHT
TZOFFSETFROM:+0200
TZOFFSETTO:+0300
TZNAME:EEST
DTSTART:20190331T010000
END:DAYLIGHT
BEGIN:STANDARD
TZOFFSETFROM:+0300
TZOFFSETTO:+0200
TZNAME:EET
DTSTART:20191027T010000
END:STANDARD
END:VTIMEZONE
BEGIN:VEVENT
DTSTART;TZID=Europe/Helsinki:20181209T150000
DTEND;TZID=Europe/Helsinki:20181209T150000
DTSTAMP:20260424T154443
CREATED:20171213T085511Z
LAST-MODIFIED:20171213T085511Z
UID:1281-1544367600-1544367600@sehlde.info
SUMMARY:Adventsfeier
DESCRIPTION:ab dem 60. Lebensjahr. \nAlle Angaben ohne Gewähr.\nsehlde.info übernimmt keine Haftung für die Richtigkeit dieses Termins.
URL:https://sehlde.info/content/event/adventsfeier/
LOCATION:Sporthalle Sehlde\, Sportplatz Birkenweg\, Sehlde\, 38279\, Deutschland
CATEGORIES:Gemeinde,Kirchengemeinde,Öffentlich,Vereinekalender
ATTACH;FMTTYPE=image/jpeg:https://sehlde.info/content/wp-content/uploads/2017/12/IMG_20171210_160742748.jpg
END:VEVENT
END:VCALENDAR