BEGIN:VCALENDAR
VERSION:2.0
PRODID:-//sehlde.info - ECPv6.15.20//NONSGML v1.0//EN
CALSCALE:GREGORIAN
METHOD:PUBLISH
X-ORIGINAL-URL:https://sehlde.info/content
X-WR-CALDESC:Veranstaltungen für sehlde.info
REFRESH-INTERVAL;VALUE=DURATION:PT1H
X-Robots-Tag:noindex
X-PUBLISHED-TTL:PT1H
BEGIN:VTIMEZONE
TZID:Europe/Berlin
BEGIN:DAYLIGHT
TZOFFSETFROM:+0100
TZOFFSETTO:+0200
TZNAME:CEST
DTSTART:20180325T010000
END:DAYLIGHT
BEGIN:STANDARD
TZOFFSETFROM:+0200
TZOFFSETTO:+0100
TZNAME:CET
DTSTART:20181028T010000
END:STANDARD
BEGIN:DAYLIGHT
TZOFFSETFROM:+0100
TZOFFSETTO:+0200
TZNAME:CEST
DTSTART:20190331T010000
END:DAYLIGHT
BEGIN:STANDARD
TZOFFSETFROM:+0200
TZOFFSETTO:+0100
TZNAME:CET
DTSTART:20191027T010000
END:STANDARD
BEGIN:DAYLIGHT
TZOFFSETFROM:+0100
TZOFFSETTO:+0200
TZNAME:CEST
DTSTART:20200329T010000
END:DAYLIGHT
BEGIN:STANDARD
TZOFFSETFROM:+0200
TZOFFSETTO:+0100
TZNAME:CET
DTSTART:20201025T010000
END:STANDARD
END:VTIMEZONE
BEGIN:VEVENT
DTSTART;TZID=Europe/Berlin:20190201T150000
DTEND;TZID=Europe/Berlin:20190201T193000
DTSTAMP:20260424T171250
CREATED:20181228T230034Z
LAST-MODIFIED:20181227T191939Z
UID:1779-1549033200-1549049400@sehlde.info
SUMMARY:Öffentliche Blutspende
DESCRIPTION:In Zusammenarbeit mit dem Deutschen Roten Kreuz. Als Dankeschön für Ihre Spende können Sie sich an einem reichhaltigen Buffet stärken. Spenden ab 18 Jahren\, Erstspender und Kinder sind herzlich willkommen.
URL:https://sehlde.info/content/event/oeffentliche-blutspende/
LOCATION:Feuerwehrhaus\, Am Friedhof\, Sehlde\, 38279\, Deutschland
CATEGORIES:Feuerwehr,Öffentlich,Vereinekalender
ATTACH;FMTTYPE=image/jpeg:https://sehlde.info/content/wp-content/uploads/2017/12/22008148_688358104690827_3612776519385522350_n1.jpg
END:VEVENT
BEGIN:VEVENT
DTSTART;TZID=Europe/Berlin:20190201T180000
DTEND;TZID=Europe/Berlin:20190201T180000
DTSTAMP:20260424T171250
CREATED:20181228T230016Z
LAST-MODIFIED:20181227T191640Z
UID:1777-1549044000-1549044000@sehlde.info
SUMMARY:Jahreshauptversammlung SPD OV Sehlde
DESCRIPTION:
URL:https://sehlde.info/content/event/jahreshauptversammlung-spd-ov-sehlde/
LOCATION:Sportheim\, Birkenweg\, Sehlde\, 38279\, Deutschland
CATEGORIES:intern,SPD Sehlde,Vereinekalender
END:VEVENT
END:VCALENDAR