BEGIN:VCALENDAR
VERSION:2.0
PRODID:-//sehlde.info - ECPv6.15.20//NONSGML v1.0//EN
CALSCALE:GREGORIAN
METHOD:PUBLISH
X-WR-CALNAME:sehlde.info
X-ORIGINAL-URL:https://sehlde.info/content
X-WR-CALDESC:Veranstaltungen für sehlde.info
REFRESH-INTERVAL;VALUE=DURATION:PT1H
X-Robots-Tag:noindex
X-PUBLISHED-TTL:PT1H
BEGIN:VTIMEZONE
TZID:Europe/Berlin
BEGIN:DAYLIGHT
TZOFFSETFROM:+0100
TZOFFSETTO:+0200
TZNAME:CEST
DTSTART:20180325T010000
END:DAYLIGHT
BEGIN:STANDARD
TZOFFSETFROM:+0200
TZOFFSETTO:+0100
TZNAME:CET
DTSTART:20181028T010000
END:STANDARD
BEGIN:DAYLIGHT
TZOFFSETFROM:+0100
TZOFFSETTO:+0200
TZNAME:CEST
DTSTART:20190331T010000
END:DAYLIGHT
BEGIN:STANDARD
TZOFFSETFROM:+0200
TZOFFSETTO:+0100
TZNAME:CET
DTSTART:20191027T010000
END:STANDARD
BEGIN:DAYLIGHT
TZOFFSETFROM:+0100
TZOFFSETTO:+0200
TZNAME:CEST
DTSTART:20200329T010000
END:DAYLIGHT
BEGIN:STANDARD
TZOFFSETFROM:+0200
TZOFFSETTO:+0100
TZNAME:CET
DTSTART:20201025T010000
END:STANDARD
END:VTIMEZONE
BEGIN:VEVENT
DTSTART;TZID=Europe/Berlin:20190518T153000
DTEND;TZID=Europe/Berlin:20190518T153000
DTSTAMP:20260425T001025
CREATED:20190503T142044Z
LAST-MODIFIED:20190503T142044Z
UID:1938-1558193400-1558193400@sehlde.info
SUMMARY:Samtgemeinde Feuerwehr Wettkämpfe
DESCRIPTION:am 18. Mai 2019 startet unsere Wettkampfgruppe ab 15:30 Uhr in Haverlah. Auch in diesem Jahr würden Sie sich wieder über die zahlreiche Unterstützung freuen.
URL:https://sehlde.info/content/event/samtgemeinde-feuerwehr-wettkaempfe/
LOCATION:Sportplatz Haverlah\, Pascheburg 4\, Haverlah\, 38275
CATEGORIES:Feuerwehr,Öffentlich
ATTACH;FMTTYPE=image/jpeg:https://sehlde.info/content/wp-content/uploads/2016/09/WP_20160918_12_12_04_Pro_LI.jpg
END:VEVENT
END:VCALENDAR