BEGIN:VCALENDAR
VERSION:2.0
PRODID:-//sehlde.info - ECPv6.15.20//NONSGML v1.0//EN
CALSCALE:GREGORIAN
METHOD:PUBLISH
X-ORIGINAL-URL:https://sehlde.info/content
X-WR-CALDESC:Veranstaltungen für sehlde.info
REFRESH-INTERVAL;VALUE=DURATION:PT1H
X-Robots-Tag:noindex
X-PUBLISHED-TTL:PT1H
BEGIN:VTIMEZONE
TZID:Europe/Berlin
BEGIN:DAYLIGHT
TZOFFSETFROM:+0100
TZOFFSETTO:+0200
TZNAME:CEST
DTSTART:20180325T010000
END:DAYLIGHT
BEGIN:STANDARD
TZOFFSETFROM:+0200
TZOFFSETTO:+0100
TZNAME:CET
DTSTART:20181028T010000
END:STANDARD
BEGIN:DAYLIGHT
TZOFFSETFROM:+0100
TZOFFSETTO:+0200
TZNAME:CEST
DTSTART:20190331T010000
END:DAYLIGHT
BEGIN:STANDARD
TZOFFSETFROM:+0200
TZOFFSETTO:+0100
TZNAME:CET
DTSTART:20191027T010000
END:STANDARD
BEGIN:DAYLIGHT
TZOFFSETFROM:+0100
TZOFFSETTO:+0200
TZNAME:CEST
DTSTART:20200329T010000
END:DAYLIGHT
BEGIN:STANDARD
TZOFFSETFROM:+0200
TZOFFSETTO:+0100
TZNAME:CET
DTSTART:20201025T010000
END:STANDARD
END:VTIMEZONE
BEGIN:VEVENT
DTSTART;TZID=Europe/Berlin:20190622T080000
DTEND;TZID=Europe/Berlin:20190622T080000
DTSTAMP:20260425T015406
CREATED:20181228T230047Z
LAST-MODIFIED:20181227T200845Z
UID:1825-1561190400-1561190400@sehlde.info
SUMMARY:OTV Tagesfahrt
DESCRIPTION:
URL:https://sehlde.info/content/event/otv-tagesfahrt/
LOCATION:Treckerhalle\, ggü. Heerer Straße 5\, Sehlde\, 38279\, Deutschland
CATEGORIES:Mit Voranmeldung,Treckervereinigung,Vereinekalender
END:VEVENT
BEGIN:VEVENT
DTSTART;TZID=Europe/Berlin:20190622T130000
DTEND;TZID=Europe/Berlin:20190622T130000
DTSTAMP:20260425T015406
CREATED:20181228T230001Z
LAST-MODIFIED:20181227T201257Z
UID:1829-1561208400-1561208400@sehlde.info
SUMMARY:Konfirmation Heere
DESCRIPTION:
URL:https://sehlde.info/content/event/konfirmation-heere/
LOCATION:Kirche Heere\, ggü Hauptstraße 2\, Heere\, 38277\, Deutschland
CATEGORIES:Kirchengemeinde,Öffentlich,Vereinekalender
END:VEVENT
BEGIN:VEVENT
DTSTART;TZID=Europe/Berlin:20190622T130000
DTEND;TZID=Europe/Berlin:20190622T170000
DTSTAMP:20260425T015406
CREATED:20181228T230026Z
LAST-MODIFIED:20181227T201141Z
UID:1827-1561208400-1561222800@sehlde.info
SUMMARY:Königsschießen
DESCRIPTION:
URL:https://sehlde.info/content/event/koenigsschiessen-8/
LOCATION:Schützenhaus\, l498\, Sehlde\, 38279\, Deutschland
CATEGORIES:Öffentlich,Schützenverein,Vereinekalender
ORGANIZER;CN="KKS Waldheil Sehlde e.V.":MAILTO:info@waldheil-sehlde.de
END:VEVENT
END:VCALENDAR