BEGIN:VCALENDAR
VERSION:2.0
PRODID:-//sehlde.info - ECPv6.15.20//NONSGML v1.0//EN
CALSCALE:GREGORIAN
METHOD:PUBLISH
X-WR-CALNAME:sehlde.info
X-ORIGINAL-URL:https://sehlde.info/content
X-WR-CALDESC:Veranstaltungen für sehlde.info
REFRESH-INTERVAL;VALUE=DURATION:PT1H
X-Robots-Tag:noindex
X-PUBLISHED-TTL:PT1H
BEGIN:VTIMEZONE
TZID:Europe/Berlin
BEGIN:DAYLIGHT
TZOFFSETFROM:+0100
TZOFFSETTO:+0200
TZNAME:CEST
DTSTART:20230326T010000
END:DAYLIGHT
BEGIN:STANDARD
TZOFFSETFROM:+0200
TZOFFSETTO:+0100
TZNAME:CET
DTSTART:20231029T010000
END:STANDARD
BEGIN:DAYLIGHT
TZOFFSETFROM:+0100
TZOFFSETTO:+0200
TZNAME:CEST
DTSTART:20240331T010000
END:DAYLIGHT
BEGIN:STANDARD
TZOFFSETFROM:+0200
TZOFFSETTO:+0100
TZNAME:CET
DTSTART:20241027T010000
END:STANDARD
BEGIN:DAYLIGHT
TZOFFSETFROM:+0100
TZOFFSETTO:+0200
TZNAME:CEST
DTSTART:20250330T010000
END:DAYLIGHT
BEGIN:STANDARD
TZOFFSETFROM:+0200
TZOFFSETTO:+0100
TZNAME:CET
DTSTART:20251026T010000
END:STANDARD
END:VTIMEZONE
BEGIN:VEVENT
DTSTART;TZID=Europe/Berlin:20241217T180000
DTEND;TZID=Europe/Berlin:20241217T180000
DTSTAMP:20260425T210322
CREATED:20240623T113001Z
LAST-MODIFIED:20240623T113001Z
UID:3742-1734458400-1734458400@sehlde.info
SUMMARY:Sportheimtag (SSV)
DESCRIPTION:Seid ihr bereit für einen ganz besonderen Nachmittag? Denn jeden letzten Mittwoch im Monat lädt das Martin Luther Haus alle Sehlder Frauen herzlich zum gemütlichen Kaffeetrinken ein! Taucht ein in eine entspannte Atmosphäre\, genießt köstlichen Kaffee und verbringt gemeinsam eine schöne Zeit. Die Veranstaltung startet um 15 Uhr und ist für jede Sehlderin offen! Ansprechpartnerin für weitere Informationen ist Siegrid Schwager. Wir freuen uns darauf\, euch bei unserem nächsten Treffen zu begrüßen! ????
URL:https://sehlde.info/content/event/sportheimtag-ssv-18/
CATEGORIES:Öffentlich,Sportverein,Vereinekalender
END:VEVENT
END:VCALENDAR