BEGIN:VCALENDAR
VERSION:2.0
PRODID:-//sehlde.info - ECPv6.15.20//NONSGML v1.0//EN
CALSCALE:GREGORIAN
METHOD:PUBLISH
X-ORIGINAL-URL:https://sehlde.info/content
X-WR-CALDESC:Veranstaltungen für sehlde.info
REFRESH-INTERVAL;VALUE=DURATION:PT1H
X-Robots-Tag:noindex
X-PUBLISHED-TTL:PT1H
BEGIN:VTIMEZONE
TZID:Europe/Berlin
BEGIN:DAYLIGHT
TZOFFSETFROM:+0100
TZOFFSETTO:+0200
TZNAME:CEST
DTSTART:20240331T010000
END:DAYLIGHT
BEGIN:STANDARD
TZOFFSETFROM:+0200
TZOFFSETTO:+0100
TZNAME:CET
DTSTART:20241027T010000
END:STANDARD
BEGIN:DAYLIGHT
TZOFFSETFROM:+0100
TZOFFSETTO:+0200
TZNAME:CEST
DTSTART:20250330T010000
END:DAYLIGHT
BEGIN:STANDARD
TZOFFSETFROM:+0200
TZOFFSETTO:+0100
TZNAME:CET
DTSTART:20251026T010000
END:STANDARD
BEGIN:DAYLIGHT
TZOFFSETFROM:+0100
TZOFFSETTO:+0200
TZNAME:CEST
DTSTART:20260329T010000
END:DAYLIGHT
BEGIN:STANDARD
TZOFFSETFROM:+0200
TZOFFSETTO:+0100
TZNAME:CET
DTSTART:20261025T010000
END:STANDARD
END:VTIMEZONE
BEGIN:VEVENT
DTSTART;TZID=Europe/Berlin:20250816T093000
DTEND;TZID=Europe/Berlin:20250816T120000
DTSTAMP:20260422T233422
CREATED:20241123T085642Z
LAST-MODIFIED:20250720T064551Z
UID:3889-1755336600-1755345600@sehlde.info
SUMMARY:Einschulung (GS)
DESCRIPTION:Am Freitag\, den 16. August 2025\, beginnt für viele Kinder in Sehlde ein neuer Lebensabschnitt: Die Grundschule feiert die Einschulung der neuen Erstklässlerinnen und Erstklässler. Los geht es um 9.30 Uhr mit einem Gottesdienst. Anschließend werden die Kinder auf dem Schulhof offiziell begrüßt. Die älteren Klassen bereiten traditionell kleine Beiträge vor\, um die euen\nMitschülerinnen und Mitschüler willkommen zu heißen. Für Gäste und Angehörige gibt es einen kleinen Imbiss\, den die zweite Klasse zugunsten ihrer Klassenkasse organisiert. Die Einschulung endet voraussichtlich gegen 12.00 Uhr. Auch Menschen aus dem Ort\, die keine direkten Angehörigen einschulen\, sind willkommen.
URL:https://sehlde.info/content/event/einschulung-gs/
LOCATION:Schulhof
CATEGORIES:Grundschule / Schulverein,Kirchengemeinde,Öffentlich,Vereinekalender
END:VEVENT
END:VCALENDAR