BEGIN:VCALENDAR
VERSION:2.0
PRODID:-//sehlde.info - ECPv6.15.20//NONSGML v1.0//EN
CALSCALE:GREGORIAN
METHOD:PUBLISH
X-WR-CALNAME:sehlde.info
X-ORIGINAL-URL:https://sehlde.info/content
X-WR-CALDESC:Veranstaltungen für sehlde.info
REFRESH-INTERVAL;VALUE=DURATION:PT1H
X-Robots-Tag:noindex
X-PUBLISHED-TTL:PT1H
BEGIN:VTIMEZONE
TZID:Europe/Berlin
BEGIN:DAYLIGHT
TZOFFSETFROM:+0100
TZOFFSETTO:+0200
TZNAME:CEST
DTSTART:20250330T010000
END:DAYLIGHT
BEGIN:STANDARD
TZOFFSETFROM:+0200
TZOFFSETTO:+0100
TZNAME:CET
DTSTART:20251026T010000
END:STANDARD
BEGIN:DAYLIGHT
TZOFFSETFROM:+0100
TZOFFSETTO:+0200
TZNAME:CEST
DTSTART:20260329T010000
END:DAYLIGHT
BEGIN:STANDARD
TZOFFSETFROM:+0200
TZOFFSETTO:+0100
TZNAME:CET
DTSTART:20261025T010000
END:STANDARD
BEGIN:DAYLIGHT
TZOFFSETFROM:+0100
TZOFFSETTO:+0200
TZNAME:CEST
DTSTART:20270328T010000
END:DAYLIGHT
BEGIN:STANDARD
TZOFFSETFROM:+0200
TZOFFSETTO:+0100
TZNAME:CET
DTSTART:20271031T010000
END:STANDARD
END:VTIMEZONE
BEGIN:VEVENT
DTSTART;TZID=Europe/Berlin:20260326T180000
DTEND;TZID=Europe/Berlin:20260326T180000
DTSTAMP:20260420T072857
CREATED:20260124T140420Z
LAST-MODIFIED:20260406T071203Z
UID:4660-1774548000-1774548000@sehlde.info
SUMMARY:Spieleabend (KG)
DESCRIPTION:Der Spieleabend findet regelmäßig an jedem letzten Donnerstag im Monat im Martin-Luther-Haus Sehlde statt. Beginn ist um 18.00 Uhr\, ein späteres Dazukommen ist jederzeit möglich\, das Ende ergibt sich im Laufe des Abends. Eingeladen sind Jugendliche ab etwa 15 Jahren sowie Erwachsene jeden Alters\, unabhängig von Spielerfahrung oder Vorkenntnissen. Gespielt werden moderne Brett- und Kartenspiele ebenso wie klassische Spiele\, je nach Interesse der Teilnehmerinnen und Teilnehmer. Die Teilnahme ist kostenfrei\, eine Anmeldung ist nicht erforderlich. Getränke\, kleine Snacks und eigene Spiele können gern mitgebracht werden.
URL:https://sehlde.info/content/event/spieleabend-kg-3/
CATEGORIES:Kirchengemeinde,Öffentlich
END:VEVENT
END:VCALENDAR