BEGIN:VCALENDAR
VERSION:2.0
PRODID:-//sehlde.info - ECPv6.15.20//NONSGML v1.0//EN
CALSCALE:GREGORIAN
METHOD:PUBLISH
X-ORIGINAL-URL:https://sehlde.info/content
X-WR-CALDESC:Veranstaltungen für sehlde.info
REFRESH-INTERVAL;VALUE=DURATION:PT1H
X-Robots-Tag:noindex
X-PUBLISHED-TTL:PT1H
BEGIN:VTIMEZONE
TZID:Europe/Helsinki
BEGIN:DAYLIGHT
TZOFFSETFROM:+0200
TZOFFSETTO:+0300
TZNAME:EEST
DTSTART:20170326T010000
END:DAYLIGHT
BEGIN:STANDARD
TZOFFSETFROM:+0300
TZOFFSETTO:+0200
TZNAME:EET
DTSTART:20171029T010000
END:STANDARD
BEGIN:DAYLIGHT
TZOFFSETFROM:+0200
TZOFFSETTO:+0300
TZNAME:EEST
DTSTART:20180325T010000
END:DAYLIGHT
BEGIN:STANDARD
TZOFFSETFROM:+0300
TZOFFSETTO:+0200
TZNAME:EET
DTSTART:20181028T010000
END:STANDARD
BEGIN:DAYLIGHT
TZOFFSETFROM:+0200
TZOFFSETTO:+0300
TZNAME:EEST
DTSTART:20190331T010000
END:DAYLIGHT
BEGIN:STANDARD
TZOFFSETFROM:+0300
TZOFFSETTO:+0200
TZNAME:EET
DTSTART:20191027T010000
END:STANDARD
END:VTIMEZONE
BEGIN:VEVENT
DTSTART;TZID=Europe/Helsinki:20180602T110000
DTEND;TZID=Europe/Helsinki:20180602T110000
DTSTAMP:20260425T175307
CREATED:20171212T215404Z
LAST-MODIFIED:20171212T215404Z
UID:1208-1527937200-1527937200@sehlde.info
SUMMARY:Konfirmation in Sehlde
DESCRIPTION:Alle Angaben ohne Gewähr!\nsehlde.info übernimmt keine Haftung für die Richtigkeit der Angaben.
URL:https://sehlde.info/content/event/konfirmation-in-sehlde/
LOCATION:Sehlder Kirche\, An der Kirche 1\, Sehlde\, 38279\, Deutschland
CATEGORIES:Kirchengemeinde,Öffentlich,Vereinekalender
END:VEVENT
BEGIN:VEVENT
DTSTART;TZID=Europe/Helsinki:20180602T110000
DTEND;TZID=Europe/Helsinki:20180602T110000
DTSTAMP:20260425T175307
CREATED:20171212T215501Z
LAST-MODIFIED:20171212T215501Z
UID:1210-1527937200-1527937200@sehlde.info
SUMMARY:Einführung des Kirchenvorstandes
DESCRIPTION:Alle Angaben ohne Gewähr!\nsehlde.info übernimmt keine Haftung für die Richtigkeit der Angaben.
URL:https://sehlde.info/content/event/einfuehrung-des-kirchenvorstandes/
LOCATION:Sehlder Kirche\, An der Kirche 1\, Sehlde\, 38279\, Deutschland
CATEGORIES:Kirchengemeinde,Öffentlich,Vereinekalender
END:VEVENT
BEGIN:VEVENT
DTSTART;TZID=Europe/Helsinki:20180603T130000
DTEND;TZID=Europe/Helsinki:20180603T130000
DTSTAMP:20260425T175307
CREATED:20180507T191345Z
LAST-MODIFIED:20180507T191345Z
UID:1347-1528030800-1528030800@sehlde.info
SUMMARY:Fußball: Sehlde gegen SC Gitter III
DESCRIPTION:Sehlde gegen Gitter \nBeginn: 13.00 Uhr\nSportplatz Sehlde \nAlle Angaben ohne Gewähr.\nsehlde.info übernimmt keine Haftung für die Richtigkeit dieses Termins.
URL:https://sehlde.info/content/event/fussball-sehlde-gegen-sc-gitter-iii/
LOCATION:Sportplatz Sehlde\, Birkenweg 3\, Sehlde\, 38279\, Deutschland
CATEGORIES:Öffentlich,Sportverein
END:VEVENT
BEGIN:VEVENT
DTSTART;TZID=Europe/Helsinki:20180609T070000
DTEND;TZID=Europe/Helsinki:20180609T070000
DTSTAMP:20260425T175307
CREATED:20171212T215554Z
LAST-MODIFIED:20171212T215554Z
UID:1212-1528527600-1528527600@sehlde.info
SUMMARY:Tagesfahrt des OTV
DESCRIPTION:Alle Angaben ohne Gewähr!\nsehlde.info übernimmt keine Haftung für die Richtigkeit der Angaben.
URL:https://sehlde.info/content/event/tagesfahrt-des-otv/
LOCATION:Treckerhalle\, ggü. Heerer Straße 5\, Sehlde\, 38279\, Deutschland
CATEGORIES:Mit Voranmeldung,Öffentlich,Treckervereinigung
END:VEVENT
BEGIN:VEVENT
DTSTART;TZID=Europe/Helsinki:20180616T100000
DTEND;TZID=Europe/Helsinki:20180616T100000
DTSTAMP:20260425T175307
CREATED:20171212T220010Z
LAST-MODIFIED:20171212T220010Z
UID:1216-1529143200-1529143200@sehlde.info
SUMMARY:Kindergottesdienst der Kirchengemeinden
DESCRIPTION:Alle Angaben ohne Gewähr!\nsehlde.info übernimmt keine Haftung für die Richtigkeit der Angaben.
URL:https://sehlde.info/content/event/kindergottesdienst-der-kirchengemeinden/
LOCATION:Schloss Oelber\, Rittergut 1\, Baddeckenstedt\, 38271\, Deutschland
CATEGORIES:Kirchengemeinde,Öffentlich,Vereinekalender
END:VEVENT
BEGIN:VEVENT
DTSTART;TZID=Europe/Helsinki:20180616T130000
DTEND;TZID=Europe/Helsinki:20180616T130000
DTSTAMP:20260425T175307
CREATED:20171212T220235Z
LAST-MODIFIED:20180604T083800Z
UID:1219-1529154000-1529154000@sehlde.info
SUMMARY:[verschoben] Königsschießen
DESCRIPTION:Auf Grund von Sanierungsarbeiten im Schützenhaus muss dieser Termin entfallen. Alle interessierten Mitglieder und Bürger haben am 22. Juni ab 16.00 Uhr die Möglichkeit\, auf die jeweiligen Königsscheiben zu schießen.
URL:https://sehlde.info/content/event/koenigsschiessen-5/
LOCATION:Schützenhaus\, l498\, Sehlde\, 38279\, Deutschland
CATEGORIES:Öffentlich,Schützenverein,Vereinekalender
ORGANIZER;CN="KKS Waldheil Sehlde e.V.":MAILTO:info@waldheil-sehlde.de
END:VEVENT
BEGIN:VEVENT
DTSTART;TZID=Europe/Helsinki:20180622T160000
DTEND;TZID=Europe/Helsinki:20180622T160000
DTSTAMP:20260425T175307
CREATED:20180604T084445Z
LAST-MODIFIED:20180604T084445Z
UID:1478-1529683200-1529683200@sehlde.info
SUMMARY:Königsschießen
DESCRIPTION:Alle interessierten Mitglieder und Bürger haben am 22. Juni ab 16.00 Uhr die Möglichkeit\, auf die jeweiligen Königsscheiben zu schießen.
URL:https://sehlde.info/content/event/koenigsschiessen-7/
LOCATION:Schützenhaus\, l498\, Sehlde\, 38279\, Deutschland
CATEGORIES:Öffentlich,Schützenverein,Vereinekalender
ORGANIZER;CN="KKS Waldheil Sehlde e.V.":MAILTO:info@waldheil-sehlde.de
END:VEVENT
BEGIN:VEVENT
DTSTART;TZID=Europe/Helsinki:20180623T130000
DTEND;TZID=Europe/Helsinki:20180623T130000
DTSTAMP:20260425T175307
CREATED:20171212T220324Z
LAST-MODIFIED:20180604T084043Z
UID:1221-1529758800-1529758800@sehlde.info
SUMMARY:[verschoben] Königsschießen
DESCRIPTION:Auf Grund von Sanierungsarbeiten im Schützenhaus muss dieser Termin entfallen. Alle interessierten Mitglieder und Bürger haben am 22. Juni ab 16.00 Uhr die Möglichkeit\, auf die jeweiligen Königsscheiben zu schießen.
URL:https://sehlde.info/content/event/koenigsschiessen-6/
LOCATION:Schützenhaus\, l498\, Sehlde\, 38279\, Deutschland
CATEGORIES:Öffentlich,Schützenverein,Vereinekalender
ORGANIZER;CN="KKS Waldheil Sehlde e.V.":MAILTO:info@waldheil-sehlde.de
END:VEVENT
BEGIN:VEVENT
DTSTART;TZID=Europe/Helsinki:20180627T150000
DTEND;TZID=Europe/Helsinki:20180627T150000
DTSTAMP:20260425T175307
CREATED:20171212T220414Z
LAST-MODIFIED:20171212T220414Z
UID:1223-1530111600-1530111600@sehlde.info
SUMMARY:Senioren-Geburtstag-Kaffee
DESCRIPTION:Alle Angaben ohne Gewähr!\nsehlde.info übernimmt keine Haftung für die Richtigkeit der Angaben.
URL:https://sehlde.info/content/event/senioren-geburtstag-kaffee/
LOCATION:Martin-Luther-Haus\, An der Kirche 1\, Sehlde\, 38279\, Deutschland
CATEGORIES:Kirchengemeinde,Vereinekalender
END:VEVENT
END:VCALENDAR