BEGIN:VCALENDAR
VERSION:2.0
PRODID:-//sehlde.info - ECPv6.15.20//NONSGML v1.0//EN
CALSCALE:GREGORIAN
METHOD:PUBLISH
X-WR-CALNAME:sehlde.info
X-ORIGINAL-URL:https://sehlde.info/content
X-WR-CALDESC:Veranstaltungen für sehlde.info
REFRESH-INTERVAL;VALUE=DURATION:PT1H
X-Robots-Tag:noindex
X-PUBLISHED-TTL:PT1H
BEGIN:VTIMEZONE
TZID:Europe/Helsinki
BEGIN:DAYLIGHT
TZOFFSETFROM:+0200
TZOFFSETTO:+0300
TZNAME:EEST
DTSTART:20170326T010000
END:DAYLIGHT
BEGIN:STANDARD
TZOFFSETFROM:+0300
TZOFFSETTO:+0200
TZNAME:EET
DTSTART:20171029T010000
END:STANDARD
BEGIN:DAYLIGHT
TZOFFSETFROM:+0200
TZOFFSETTO:+0300
TZNAME:EEST
DTSTART:20180325T010000
END:DAYLIGHT
BEGIN:STANDARD
TZOFFSETFROM:+0300
TZOFFSETTO:+0200
TZNAME:EET
DTSTART:20181028T010000
END:STANDARD
BEGIN:DAYLIGHT
TZOFFSETFROM:+0200
TZOFFSETTO:+0300
TZNAME:EEST
DTSTART:20190331T010000
END:DAYLIGHT
BEGIN:STANDARD
TZOFFSETFROM:+0300
TZOFFSETTO:+0200
TZNAME:EET
DTSTART:20191027T010000
END:STANDARD
END:VTIMEZONE
BEGIN:VEVENT
DTSTART;TZID=Europe/Helsinki:20180804T150000
DTEND;TZID=Europe/Helsinki:20180804T150000
DTSTAMP:20260422T103627
CREATED:20171212T220547Z
LAST-MODIFIED:20171212T220547Z
UID:1225-1533394800-1533394800@sehlde.info
SUMMARY:Kinderfest auf dem Abenteuer-Spielplatz
DESCRIPTION:Alle Angaben ohne Gewähr!\nsehlde.info übernimmt keine Haftung für die Richtigkeit der Angaben.
URL:https://sehlde.info/content/event/kinderfest-auf-dem-abenteuer-spielplatz/
LOCATION:Abenteuerspielplatz an der Innerste\, Neben Hubertusstraße 1\, Sehlde\, 38279\, Deutschland
CATEGORIES:Jugend/ Kinder,Öffentlich,SPD Sehlde,Vereinekalender
END:VEVENT
BEGIN:VEVENT
DTSTART;TZID=Europe/Helsinki:20180811T093000
DTEND;TZID=Europe/Helsinki:20180811T093000
DTSTAMP:20260422T103627
CREATED:20171212T220636Z
LAST-MODIFIED:20171212T220636Z
UID:1227-1533979800-1533979800@sehlde.info
SUMMARY:Gottesdienst zur Einschulung
DESCRIPTION:Alle Angaben ohne Gewähr!\nsehlde.info übernimmt keine Haftung für die Richtigkeit der Angaben.
URL:https://sehlde.info/content/event/gottesdienst-zur-einschulung/
LOCATION:Sehlder Kirche\, An der Kirche 1\, Sehlde\, 38279\, Deutschland
CATEGORIES:Kirchengemeinde,Öffentlich,Vereinekalender
END:VEVENT
BEGIN:VEVENT
DTSTART;TZID=Europe/Helsinki:20180811T120000
DTEND;TZID=Europe/Helsinki:20180811T120000
DTSTAMP:20260422T103627
CREATED:20171212T220732Z
LAST-MODIFIED:20171212T220732Z
UID:1229-1533988800-1533988800@sehlde.info
SUMMARY:Tag der Feuerwehr
DESCRIPTION:Alle Angaben ohne Gewähr!\nsehlde.info übernimmt keine Haftung für die Richtigkeit der Angaben.
URL:https://sehlde.info/content/event/tag-der-feuerwehr/
LOCATION:Sportplatz Sehlde\, Birkenweg 3\, Sehlde\, 38279\, Deutschland
CATEGORIES:Feuerwehr,Öffentlich,Vereinekalender
END:VEVENT
BEGIN:VEVENT
DTSTART;TZID=Europe/Helsinki:20180812T093000
DTEND;TZID=Europe/Helsinki:20180812T093000
DTSTAMP:20260422T103627
CREATED:20171212T220836Z
LAST-MODIFIED:20171212T220836Z
UID:1231-1534066200-1534066200@sehlde.info
SUMMARY:Familientag des OTV
DESCRIPTION:Alle Angaben ohne Gewähr!\nsehlde.info übernimmt keine Haftung für die Richtigkeit der Angaben.
URL:https://sehlde.info/content/event/familientag-des-otv/
LOCATION:Treckerhalle\, ggü. Heerer Straße 5\, Sehlde\, 38279\, Deutschland
CATEGORIES:intern,Mit Voranmeldung,Treckervereinigung,Vereinekalender
END:VEVENT
BEGIN:VEVENT
DTSTART;TZID=Europe/Helsinki:20180819T110000
DTEND;TZID=Europe/Helsinki:20180819T110000
DTSTAMP:20260422T103627
CREATED:20171212T220931Z
LAST-MODIFIED:20171212T220931Z
UID:1233-1534676400-1534676400@sehlde.info
SUMMARY:öffentl. Schützenfrühstück
DESCRIPTION:Alle Angaben ohne Gewähr!\nsehlde.info übernimmt keine Haftung für die Richtigkeit der Angaben.
URL:https://sehlde.info/content/event/oeffentl-schuetzenfruehstueck/
LOCATION:Sportheim\, Birkenweg\, Sehlde\, 38279\, Deutschland
CATEGORIES:Mit Voranmeldung,Öffentlich,Schützenverein,Vereinekalender
ORGANIZER;CN="KKS Waldheil Sehlde e.V.":MAILTO:info@waldheil-sehlde.de
END:VEVENT
BEGIN:VEVENT
DTSTART;TZID=Europe/Helsinki:20180826T110000
DTEND;TZID=Europe/Helsinki:20180826T110000
DTSTAMP:20260422T103627
CREATED:20171212T221058Z
LAST-MODIFIED:20171212T221058Z
UID:1235-1535281200-1535281200@sehlde.info
SUMMARY:Wasserfest (kleines Kulturfest)
DESCRIPTION:Der Ort wird rechtzeitig bekannt gegeben. \nAlle Angaben ohne Gewähr!\nsehlde.info übernimmt keine Haftung für die Richtigkeit der Angaben.
URL:https://sehlde.info/content/event/wasserfest-kleines-kulturfest/
CATEGORIES:Öffentlich,Vereinekalender
ATTACH;FMTTYPE=image/png:https://sehlde.info/content/wp-content/uploads/2017/06/sehlder-Kultursonntag.png
END:VEVENT
END:VCALENDAR