BEGIN:VCALENDAR
VERSION:2.0
PRODID:-//sehlde.info - ECPv6.15.20//NONSGML v1.0//EN
CALSCALE:GREGORIAN
METHOD:PUBLISH
X-ORIGINAL-URL:https://sehlde.info/content
X-WR-CALDESC:Veranstaltungen für sehlde.info
REFRESH-INTERVAL;VALUE=DURATION:PT1H
X-Robots-Tag:noindex
X-PUBLISHED-TTL:PT1H
BEGIN:VTIMEZONE
TZID:Europe/Helsinki
BEGIN:DAYLIGHT
TZOFFSETFROM:+0200
TZOFFSETTO:+0300
TZNAME:EEST
DTSTART:20170326T010000
END:DAYLIGHT
BEGIN:STANDARD
TZOFFSETFROM:+0300
TZOFFSETTO:+0200
TZNAME:EET
DTSTART:20171029T010000
END:STANDARD
BEGIN:DAYLIGHT
TZOFFSETFROM:+0200
TZOFFSETTO:+0300
TZNAME:EEST
DTSTART:20180325T010000
END:DAYLIGHT
BEGIN:STANDARD
TZOFFSETFROM:+0300
TZOFFSETTO:+0200
TZNAME:EET
DTSTART:20181028T010000
END:STANDARD
BEGIN:DAYLIGHT
TZOFFSETFROM:+0200
TZOFFSETTO:+0300
TZNAME:EEST
DTSTART:20190331T010000
END:DAYLIGHT
BEGIN:STANDARD
TZOFFSETFROM:+0300
TZOFFSETTO:+0200
TZNAME:EET
DTSTART:20191027T010000
END:STANDARD
END:VTIMEZONE
BEGIN:VEVENT
DTSTART;TZID=Europe/Helsinki:20180902T110000
DTEND;TZID=Europe/Helsinki:20180902T110000
DTSTAMP:20260422T120905
CREATED:20171212T221159Z
LAST-MODIFIED:20180815T192202Z
UID:1237-1535886000-1535886000@sehlde.info
SUMMARY:Boccia Turnier
DESCRIPTION:Die Startzeit war an dieser Stelle falsch angegeben. Statt um 12.00 Uhr startet die Veranstaltung bereits um 11.00 Uhr.
URL:https://sehlde.info/content/event/boccia-turnier/
LOCATION:Sportplatz Sehlde\, Birkenweg 3\, Sehlde\, 38279\, Deutschland
CATEGORIES:Öffentlich,Sportverein,Vereinekalender
END:VEVENT
BEGIN:VEVENT
DTSTART;TZID=Europe/Helsinki:20180909T100000
DTEND;TZID=Europe/Helsinki:20180909T100000
DTSTAMP:20260422T120905
CREATED:20171212T221248Z
LAST-MODIFIED:20171212T221248Z
UID:1239-1536487200-1536487200@sehlde.info
SUMMARY:Diamentene Konfirmation
DESCRIPTION:Alle Angaben ohne Gewähr!\nsehlde.info übernimmt keine Haftung für die Richtigkeit der Angaben.
URL:https://sehlde.info/content/event/diamentene-konfirmation/
LOCATION:Sehlder Kirche\, An der Kirche 1\, Sehlde\, 38279\, Deutschland
CATEGORIES:Kirchengemeinde,Öffentlich,Vereinekalender
END:VEVENT
BEGIN:VEVENT
DTSTART;TZID=Europe/Helsinki:20180915T183000
DTEND;TZID=Europe/Helsinki:20180915T183000
DTSTAMP:20260422T120905
CREATED:20171212T221355Z
LAST-MODIFIED:20171212T221355Z
UID:1241-1537036200-1537036200@sehlde.info
SUMMARY:Weinfest
DESCRIPTION:Alle Angaben ohne Gewähr!\nsehlde.info übernimmt keine Haftung für die Richtigkeit der Angaben.
URL:https://sehlde.info/content/event/weinfest/
LOCATION:Sportheim\, Birkenweg\, Sehlde\, 38279\, Deutschland
CATEGORIES:Mit Voranmeldung,Öffentlich,Schützenverein,Vereinekalender
ORGANIZER;CN="KKS Waldheil Sehlde e.V.":MAILTO:info@waldheil-sehlde.de
END:VEVENT
BEGIN:VEVENT
DTSTART;TZID=Europe/Helsinki:20180916T140000
DTEND;TZID=Europe/Helsinki:20180916T140000
DTSTAMP:20260422T120905
CREATED:20171212T221443Z
LAST-MODIFIED:20171212T221443Z
UID:1243-1537106400-1537106400@sehlde.info
SUMMARY:Pfarrfest in Heere
DESCRIPTION:Alle Angaben ohne Gewähr!\nsehlde.info übernimmt keine Haftung für die Richtigkeit der Angaben.
URL:https://sehlde.info/content/event/pfarrfest-in-heere/
LOCATION:Kirche Heere\, ggü Hauptstraße 2\, Heere\, 38277\, Deutschland
CATEGORIES:Kirchengemeinde,Öffentlich,Vereinekalender
END:VEVENT
BEGIN:VEVENT
DTSTART;TZID=Europe/Helsinki:20180919T190000
DTEND;TZID=Europe/Helsinki:20180919T190000
DTSTAMP:20260422T120905
CREATED:20171213T090904Z
LAST-MODIFIED:20180909T153925Z
UID:1299-1537383600-1537383600@sehlde.info
SUMMARY:[Verschoben] Jugend- und Kulturausschuss Sitzung
DESCRIPTION:Verschoben auf den 7. November 2018
URL:https://sehlde.info/content/event/jugend-und-kulturausschuss-sitzung-3/
LOCATION:Sportheim\, Birkenweg\, Sehlde\, 38279\, Deutschland
CATEGORIES:Gemeinde,Öffentlich,Vereinekalender
END:VEVENT
BEGIN:VEVENT
DTSTART;TZID=Europe/Helsinki:20180921T160000
DTEND;TZID=Europe/Helsinki:20180921T160000
DTSTAMP:20260422T120905
CREATED:20171212T221539Z
LAST-MODIFIED:20171212T221539Z
UID:1245-1537545600-1537545600@sehlde.info
SUMMARY:Blutspende
DESCRIPTION:16.00 bis 19.30 Uhr \nAlle Angaben ohne Gewähr!\nsehlde.info übernimmt keine Haftung für die Richtigkeit der Angaben.
URL:https://sehlde.info/content/event/blutspende-6/
LOCATION:Feuerwehrhaus\, Am Friedhof\, Sehlde\, 38279\, Deutschland
CATEGORIES:Feuerwehr,Öffentlich,Vereinekalender
END:VEVENT
BEGIN:VEVENT
DTSTART;TZID=Europe/Helsinki:20180930T093000
DTEND;TZID=Europe/Helsinki:20180930T093000
DTSTAMP:20260422T120905
CREATED:20171212T221623Z
LAST-MODIFIED:20171212T221623Z
UID:1247-1538299800-1538299800@sehlde.info
SUMMARY:Erntedankfest
DESCRIPTION:Alle Angaben ohne Gewähr!\nsehlde.info übernimmt keine Haftung für die Richtigkeit der Angaben.
URL:https://sehlde.info/content/event/erntedankfest/
LOCATION:Sehlder Kirche\, An der Kirche 1\, Sehlde\, 38279\, Deutschland
CATEGORIES:Kirchengemeinde,Öffentlich,Vereinekalender
END:VEVENT
END:VCALENDAR