BEGIN:VCALENDAR
VERSION:2.0
PRODID:-//sehlde.info - ECPv6.15.20//NONSGML v1.0//EN
CALSCALE:GREGORIAN
METHOD:PUBLISH
X-WR-CALNAME:sehlde.info
X-ORIGINAL-URL:https://sehlde.info/content
X-WR-CALDESC:Veranstaltungen für sehlde.info
REFRESH-INTERVAL;VALUE=DURATION:PT1H
X-Robots-Tag:noindex
X-PUBLISHED-TTL:PT1H
BEGIN:VTIMEZONE
TZID:Europe/Berlin
BEGIN:DAYLIGHT
TZOFFSETFROM:+0100
TZOFFSETTO:+0200
TZNAME:CEST
DTSTART:20170326T010000
END:DAYLIGHT
BEGIN:STANDARD
TZOFFSETFROM:+0200
TZOFFSETTO:+0100
TZNAME:CET
DTSTART:20171029T010000
END:STANDARD
BEGIN:DAYLIGHT
TZOFFSETFROM:+0100
TZOFFSETTO:+0200
TZNAME:CEST
DTSTART:20180325T010000
END:DAYLIGHT
BEGIN:STANDARD
TZOFFSETFROM:+0200
TZOFFSETTO:+0100
TZNAME:CET
DTSTART:20181028T010000
END:STANDARD
BEGIN:DAYLIGHT
TZOFFSETFROM:+0100
TZOFFSETTO:+0200
TZNAME:CEST
DTSTART:20190331T010000
END:DAYLIGHT
BEGIN:STANDARD
TZOFFSETFROM:+0200
TZOFFSETTO:+0100
TZNAME:CET
DTSTART:20191027T010000
END:STANDARD
END:VTIMEZONE
BEGIN:VTIMEZONE
TZID:Europe/Helsinki
BEGIN:DAYLIGHT
TZOFFSETFROM:+0200
TZOFFSETTO:+0300
TZNAME:EEST
DTSTART:20170326T010000
END:DAYLIGHT
BEGIN:STANDARD
TZOFFSETFROM:+0300
TZOFFSETTO:+0200
TZNAME:EET
DTSTART:20171029T010000
END:STANDARD
BEGIN:DAYLIGHT
TZOFFSETFROM:+0200
TZOFFSETTO:+0300
TZNAME:EEST
DTSTART:20180325T010000
END:DAYLIGHT
BEGIN:STANDARD
TZOFFSETFROM:+0300
TZOFFSETTO:+0200
TZNAME:EET
DTSTART:20181028T010000
END:STANDARD
BEGIN:DAYLIGHT
TZOFFSETFROM:+0200
TZOFFSETTO:+0300
TZNAME:EEST
DTSTART:20190331T010000
END:DAYLIGHT
BEGIN:STANDARD
TZOFFSETFROM:+0300
TZOFFSETTO:+0200
TZNAME:EET
DTSTART:20191027T010000
END:STANDARD
END:VTIMEZONE
BEGIN:VEVENT
DTSTART;TZID=Europe/Berlin:20181103T140000
DTEND;TZID=Europe/Berlin:20181103T140000
DTSTAMP:20260424T122715
CREATED:20181022T051316Z
LAST-MODIFIED:20181022T051316Z
UID:1542-1541253600-1541253600@sehlde.info
SUMMARY:Grünkohlwanderung mit Mitgliederversammlung
DESCRIPTION:Liebe Genossin\, Lieber Genosse\, \nin diesem Jahr haben wir uns etwas ganz Besonderes ausgedacht. Wir verbinden ie beliebte Grünkohlwanderung mit einer zweiten Mitgliederversammlung. \nDazu laden wir euch herzlich ein! \nWir treffen und am 3. November 2018 um 14.00 Uhr am Sportplatz in Sehlde zu gemeinsamen Wanderung (ca. sieben Kilometer). \nNach der RÜckkkehr findet um 18.00 Uhr eine Mitgliederversammlung statt. Ab 19.30 gibt es von Rita selbstgekochten Grünkohl mit ALlem\, was dazugehört. Das Essen kostet pro person 10\,00 Euro\, die Getränke zahl jeder selber. \nAnmeldung bis zum 26. Oktober 2018 bei Päslers.
URL:https://sehlde.info/content/event/gruenkohlwanderung-mit-mitgliederversammlung/
LOCATION:Sportheim\, Birkenweg\, Sehlde\, 38279\, Deutschland
CATEGORIES:intern,Mit Voranmeldung,SPD Sehlde
END:VEVENT
BEGIN:VEVENT
DTSTART;TZID=Europe/Helsinki:20181105T190000
DTEND;TZID=Europe/Helsinki:20181105T190000
DTSTAMP:20260424T122715
CREATED:20171213T083748Z
LAST-MODIFIED:20171213T083748Z
UID:1260-1541444400-1541444400@sehlde.info
SUMMARY:Terminabsprache der Vereine
DESCRIPTION:Alle Angaben ohne Gewähr.\nsehlde.info übernimmt keine Haftung für die Richtigkeit dieses Termins.
URL:https://sehlde.info/content/event/terminabsprache-der-vereine/
LOCATION:Sportheim\, Birkenweg\, Sehlde\, 38279\, Deutschland
CATEGORIES:Gemeinde,Vereinekalender
END:VEVENT
BEGIN:VEVENT
DTSTART;TZID=Europe/Helsinki:20181106T170000
DTEND;TZID=Europe/Helsinki:20181106T170000
DTSTAMP:20260424T122715
CREATED:20171213T083908Z
LAST-MODIFIED:20171213T083908Z
UID:1262-1541523600-1541523600@sehlde.info
SUMMARY:Lampionumzug (Ausweich-Termin)
DESCRIPTION:Die Veranstaltung ist für den 30. Oktober 2018 terminiert. \nAlle Angaben ohne Gewähr.\nsehlde.info übernimmt keine Haftung für die Richtigkeit dieses Termins.
URL:https://sehlde.info/content/event/lampionumzug-ausweich-termin/
LOCATION:Schulhof\, Schulstraße 8\, Sehlde\, 38279\, Deutschland
CATEGORIES:Gemeinde,Jugend/ Kinder,Öffentlich,Schützenverein,Vereinekalender
END:VEVENT
BEGIN:VEVENT
DTSTART;TZID=Europe/Berlin:20181107T190000
DTEND;TZID=Europe/Berlin:20181107T190000
DTSTAMP:20260424T122715
CREATED:20180909T153900Z
LAST-MODIFIED:20180909T153900Z
UID:1534-1541617200-1541617200@sehlde.info
SUMMARY:Jugend- und Kulturauschusssitzung
DESCRIPTION:
URL:https://sehlde.info/content/event/jugend-und-kulturauschusssitzung/
LOCATION:Sportheim\, Birkenweg\, Sehlde\, 38279\, Deutschland
CATEGORIES:Gemeinde,Öffentlich
END:VEVENT
BEGIN:VEVENT
DTSTART;TZID=Europe/Helsinki:20181110T190000
DTEND;TZID=Europe/Helsinki:20181110T190000
DTSTAMP:20260424T122715
CREATED:20171213T084209Z
LAST-MODIFIED:20171213T084209Z
UID:1264-1541876400-1541876400@sehlde.info
SUMMARY:Hubertus Abschluss Feier
DESCRIPTION:Alle Angaben ohne Gewähr.\nsehlde.info übernimmt keine Haftung für die Richtigkeit dieses Termins.
URL:https://sehlde.info/content/event/hubertus-abschluss-feier/
LOCATION:Heerer Schützenhaus\, Sportplatz Groß Heere\, Heere\, 38277\, Deutschland
CATEGORIES:intern,Mit Voranmeldung,Schützenverein,Vereinekalender
END:VEVENT
BEGIN:VEVENT
DTSTART;TZID=Europe/Helsinki:20181110T190000
DTEND;TZID=Europe/Helsinki:20181110T190000
DTSTAMP:20260424T122715
CREATED:20171213T084327Z
LAST-MODIFIED:20181022T051402Z
UID:1267-1541876400-1541876400@sehlde.info
SUMMARY:[verschoben ] SPD Grünkohlwanderung
DESCRIPTION:Die Veranstaltung wurde auf den 3. November verschoben. \nLink zur neuen Veranstaltung \nAlle Angaben ohne Gewähr.\nsehlde.info übernimmt keine Haftung für die Richtigkeit dieses Termins.
URL:https://sehlde.info/content/event/spd-gruenkohlwanderung/
CATEGORIES:intern,Mit Voranmeldung,SPD Sehlde,Vereinekalender
END:VEVENT
BEGIN:VEVENT
DTSTART;TZID=Europe/Helsinki:20181118T084500
DTEND;TZID=Europe/Helsinki:20181118T084500
DTSTAMP:20260424T122715
CREATED:20171213T084527Z
LAST-MODIFIED:20171213T084527Z
UID:1269-1542530700-1542530700@sehlde.info
SUMMARY:Gottesdienst zum Volkstrauertag
DESCRIPTION:mit anschließender Kranzniederlegung am Ehrenmal. \nAlle Angaben ohne Gewähr.\nsehlde.info übernimmt keine Haftung für die Richtigkeit dieses Termins.
URL:https://sehlde.info/content/event/gottesdienst-zum-volkstrauertag-3/
LOCATION:Sehlder Kirche\, An der Kirche 1\, Sehlde\, 38279\, Deutschland
CATEGORIES:Gemeinde,Kirchengemeinde,Vereinekalender
END:VEVENT
BEGIN:VEVENT
DTSTART;TZID=Europe/Helsinki:20181124T190000
DTEND;TZID=Europe/Helsinki:20181124T190000
DTSTAMP:20260424T122715
CREATED:20171213T084759Z
LAST-MODIFIED:20171213T084759Z
UID:1271-1543086000-1543086000@sehlde.info
SUMMARY:Grünkohlessen Feuerwehr
DESCRIPTION:Alle Angaben ohne Gewähr.\nsehlde.info übernimmt keine Haftung für die Richtigkeit dieses Termins.
URL:https://sehlde.info/content/event/gruenkohlessen-feuerwehr/
CATEGORIES:Feuerwehr,intern,Mit Voranmeldung,Vereinekalender
END:VEVENT
BEGIN:VEVENT
DTSTART;TZID=Europe/Helsinki:20181125T143000
DTEND;TZID=Europe/Helsinki:20181125T180000
DTSTAMP:20260424T122715
CREATED:20171213T084937Z
LAST-MODIFIED:20181022T183224Z
UID:1273-1543156200-1543168800@sehlde.info
SUMMARY:Adventszauber
DESCRIPTION:Zwanzig Adventszauberer und der SPD-Ortsverein Sehlde laden am 25. November 2018 von 14.30 bis 18.00 Uhr zu einem gemütlichen Nachmittag in die Sporthalle Sehlde ein. \nEs erwarten Sie liebevoll handgefertigte Geschenkideen und Besonderes aus Holz\, Stoff\, Papier und Tannengrün\, sowie ausgewählte Dekorationsartikel für ein schönes Zuhause. \nFür das leibliche Wohl ist gesorgt mit hausgemachtem Kuchen und Bratwürtchen vom Schwenkgrill.
URL:https://sehlde.info/content/event/adventszauber-3/
LOCATION:Sporthalle Sehlde\, Sportplatz Birkenweg\, Sehlde\, 38279\, Deutschland
CATEGORIES:Öffentlich,SPD Sehlde,Vereinekalender
END:VEVENT
END:VCALENDAR