BEGIN:VCALENDAR
VERSION:2.0
PRODID:-//sehlde.info - ECPv6.15.20//NONSGML v1.0//EN
CALSCALE:GREGORIAN
METHOD:PUBLISH
X-ORIGINAL-URL:https://sehlde.info/content
X-WR-CALDESC:Veranstaltungen für sehlde.info
REFRESH-INTERVAL;VALUE=DURATION:PT1H
X-Robots-Tag:noindex
X-PUBLISHED-TTL:PT1H
BEGIN:VTIMEZONE
TZID:Europe/Helsinki
BEGIN:DAYLIGHT
TZOFFSETFROM:+0200
TZOFFSETTO:+0300
TZNAME:EEST
DTSTART:20170326T010000
END:DAYLIGHT
BEGIN:STANDARD
TZOFFSETFROM:+0300
TZOFFSETTO:+0200
TZNAME:EET
DTSTART:20171029T010000
END:STANDARD
BEGIN:DAYLIGHT
TZOFFSETFROM:+0200
TZOFFSETTO:+0300
TZNAME:EEST
DTSTART:20180325T010000
END:DAYLIGHT
BEGIN:STANDARD
TZOFFSETFROM:+0300
TZOFFSETTO:+0200
TZNAME:EET
DTSTART:20181028T010000
END:STANDARD
BEGIN:DAYLIGHT
TZOFFSETFROM:+0200
TZOFFSETTO:+0300
TZNAME:EEST
DTSTART:20190331T010000
END:DAYLIGHT
BEGIN:STANDARD
TZOFFSETFROM:+0300
TZOFFSETTO:+0200
TZNAME:EET
DTSTART:20191027T010000
END:STANDARD
END:VTIMEZONE
BEGIN:VTIMEZONE
TZID:Europe/Berlin
BEGIN:DAYLIGHT
TZOFFSETFROM:+0100
TZOFFSETTO:+0200
TZNAME:CEST
DTSTART:20170326T010000
END:DAYLIGHT
BEGIN:STANDARD
TZOFFSETFROM:+0200
TZOFFSETTO:+0100
TZNAME:CET
DTSTART:20171029T010000
END:STANDARD
BEGIN:DAYLIGHT
TZOFFSETFROM:+0100
TZOFFSETTO:+0200
TZNAME:CEST
DTSTART:20180325T010000
END:DAYLIGHT
BEGIN:STANDARD
TZOFFSETFROM:+0200
TZOFFSETTO:+0100
TZNAME:CET
DTSTART:20181028T010000
END:STANDARD
BEGIN:DAYLIGHT
TZOFFSETFROM:+0100
TZOFFSETTO:+0200
TZNAME:CEST
DTSTART:20190331T010000
END:DAYLIGHT
BEGIN:STANDARD
TZOFFSETFROM:+0200
TZOFFSETTO:+0100
TZNAME:CET
DTSTART:20191027T010000
END:STANDARD
END:VTIMEZONE
BEGIN:VEVENT
DTSTART;TZID=Europe/Helsinki:20181201T150000
DTEND;TZID=Europe/Helsinki:20181201T150000
DTSTAMP:20260424T140638
CREATED:20171213T085019Z
LAST-MODIFIED:20171213T085019Z
UID:1275-1543676400-1543676400@sehlde.info
SUMMARY:Jugend Weihnachtsfeier
DESCRIPTION:Alle Angaben ohne Gewähr.\nsehlde.info übernimmt keine Haftung für die Richtigkeit dieses Termins.
URL:https://sehlde.info/content/event/jugend-weihnachtsfeier/
LOCATION:Sporthalle Sehlde\, Sportplatz Birkenweg\, Sehlde\, 38279\, Deutschland
CATEGORIES:intern,Jugend/ Kinder,Sportverein,Vereinekalender
END:VEVENT
BEGIN:VEVENT
DTSTART;TZID=Europe/Helsinki:20181202T140000
DTEND;TZID=Europe/Helsinki:20181202T140000
DTSTAMP:20260424T140639
CREATED:20171213T085123Z
LAST-MODIFIED:20171213T085123Z
UID:1277-1543759200-1543759200@sehlde.info
SUMMARY:Nachmittag der Begegnung
DESCRIPTION:Alle Angaben ohne Gewähr.\nsehlde.info übernimmt keine Haftung für die Richtigkeit dieses Termins.
URL:https://sehlde.info/content/event/nachmittag-der-begegnung-3/
LOCATION:Kirche Heere\, ggü Hauptstraße 2\, Heere\, 38277\, Deutschland
CATEGORIES:Kirchengemeinde,Vereinekalender
END:VEVENT
BEGIN:VEVENT
DTSTART;TZID=Europe/Helsinki:20181208T150000
DTEND;TZID=Europe/Helsinki:20181208T150000
DTSTAMP:20260424T140639
CREATED:20171213T085225Z
LAST-MODIFIED:20181201T103805Z
UID:1279-1544281200-1544281200@sehlde.info
SUMMARY:[Fällt aus] Abschluß Frühschoppen Schießen
DESCRIPTION:Aufgrund der noch andauernden Sanierungsarbeiten des Schützenhauses muss diese Veranstaltung leider ausfallen
URL:https://sehlde.info/content/event/abschluss-fruehschoppen-schiessen/
LOCATION:Schützenhaus\, l498\, Sehlde\, 38279\, Deutschland
CATEGORIES:intern,Mit Voranmeldung,Schützenverein,Vereinekalender
ORGANIZER;CN="KKS Waldheil Sehlde e.V.":MAILTO:info@waldheil-sehlde.de
END:VEVENT
BEGIN:VEVENT
DTSTART;TZID=Europe/Helsinki:20181209T150000
DTEND;TZID=Europe/Helsinki:20181209T150000
DTSTAMP:20260424T140639
CREATED:20171213T085511Z
LAST-MODIFIED:20171213T085511Z
UID:1281-1544367600-1544367600@sehlde.info
SUMMARY:Adventsfeier
DESCRIPTION:ab dem 60. Lebensjahr. \nAlle Angaben ohne Gewähr.\nsehlde.info übernimmt keine Haftung für die Richtigkeit dieses Termins.
URL:https://sehlde.info/content/event/adventsfeier/
LOCATION:Sporthalle Sehlde\, Sportplatz Birkenweg\, Sehlde\, 38279\, Deutschland
CATEGORIES:Gemeinde,Kirchengemeinde,Öffentlich,Vereinekalender
ATTACH;FMTTYPE=image/jpeg:https://sehlde.info/content/wp-content/uploads/2017/12/IMG_20171210_160742748.jpg
END:VEVENT
BEGIN:VEVENT
DTSTART;TZID=Europe/Helsinki:20181215T140000
DTEND;TZID=Europe/Helsinki:20181215T140000
DTSTAMP:20260424T140639
CREATED:20171213T085612Z
LAST-MODIFIED:20171213T085612Z
UID:1284-1544882400-1544882400@sehlde.info
SUMMARY:Adventssingen mit Kaffee Trinken
DESCRIPTION:Alle Angaben ohne Gewähr.\nsehlde.info übernimmt keine Haftung für die Richtigkeit dieses Termins.
URL:https://sehlde.info/content/event/adventssingen-mit-kaffee-trinken/
LOCATION:Sehlder Kirche\, An der Kirche 1\, Sehlde\, 38279\, Deutschland
CATEGORIES:Kirchengemeinde,Öffentlich,Vereinekalender
END:VEVENT
BEGIN:VEVENT
DTSTART;TZID=Europe/Helsinki:20181215T150000
DTEND;TZID=Europe/Helsinki:20181215T150000
DTSTAMP:20260424T140639
CREATED:20171213T085706Z
LAST-MODIFIED:20171213T085706Z
UID:1286-1544886000-1544886000@sehlde.info
SUMMARY:Weihnachtsmarkt
DESCRIPTION:Alle Angaben ohne Gewähr.\nsehlde.info übernimmt keine Haftung für die Richtigkeit dieses Termins.
URL:https://sehlde.info/content/event/weihnachtsmarkt/
LOCATION:Schulhof\, Schulstraße 8\, Sehlde\, 38279\, Deutschland
CATEGORIES:Gemeinde,Öffentlich,Vereinekalender
END:VEVENT
BEGIN:VEVENT
DTSTART;TZID=Europe/Helsinki:20181224T153000
DTEND;TZID=Europe/Helsinki:20181224T153000
DTSTAMP:20260424T140639
CREATED:20171213T085748Z
LAST-MODIFIED:20171213T085757Z
UID:1288-1545665400-1545665400@sehlde.info
SUMMARY:Krippenspiel Sehlde
DESCRIPTION:Alle Angaben ohne Gewähr.\nsehlde.info übernimmt keine Haftung für die Richtigkeit dieses Termins.
URL:https://sehlde.info/content/event/krippenspiel/
LOCATION:Sehlder Kirche\, An der Kirche 1\, Sehlde\, 38279\, Deutschland
CATEGORIES:Kirchengemeinde,Öffentlich,Vereinekalender
END:VEVENT
BEGIN:VEVENT
DTSTART;TZID=Europe/Helsinki:20181224T170000
DTEND;TZID=Europe/Helsinki:20181224T170000
DTSTAMP:20260424T140639
CREATED:20171213T085849Z
LAST-MODIFIED:20171213T085849Z
UID:1291-1545670800-1545670800@sehlde.info
SUMMARY:Krippenspiel Heere
DESCRIPTION:Alle Angaben ohne Gewähr.\nsehlde.info übernimmt keine Haftung für die Richtigkeit dieses Termins.
URL:https://sehlde.info/content/event/krippenspiel-heere/
LOCATION:Kirche Heere\, ggü Hauptstraße 2\, Heere\, 38277\, Deutschland
CATEGORIES:Kirchengemeinde,Öffentlich,Vereinekalender
END:VEVENT
BEGIN:VEVENT
DTSTART;TZID=Europe/Helsinki:20181225T100000
DTEND;TZID=Europe/Helsinki:20181225T100000
DTSTAMP:20260424T140639
CREATED:20171213T085938Z
LAST-MODIFIED:20171213T085938Z
UID:1293-1545732000-1545732000@sehlde.info
SUMMARY:Weihnachts Gottesdienst Sehlde
DESCRIPTION:Alle Angaben ohne Gewähr.\nsehlde.info übernimmt keine Haftung für die Richtigkeit dieses Termins.
URL:https://sehlde.info/content/event/weihnachts-gottesdienst-sehlde/
LOCATION:Sehlder Kirche\, An der Kirche 1\, Sehlde\, 38279\, Deutschland
CATEGORIES:Kirchengemeinde,Öffentlich,Vereinekalender
END:VEVENT
BEGIN:VEVENT
DTSTART;TZID=Europe/Berlin:20181228T170000
DTEND;TZID=Europe/Berlin:20181228T170000
DTSTAMP:20260424T140639
CREATED:20181228T230027Z
LAST-MODIFIED:20181228T154800Z
UID:1923-1546016400-1546016400@sehlde.info
SUMMARY:Altjahresabend Gottesdienst
DESCRIPTION:
URL:https://sehlde.info/content/event/altjahresabend-gottesdienst/
LOCATION:Sehlder Kirche\, An der Kirche 1\, Sehlde\, 38279\, Deutschland
CATEGORIES:Kirchengemeinde,Öffentlich,Vereinekalender
END:VEVENT
BEGIN:VEVENT
DTSTART;TZID=Europe/Helsinki:20181228T180000
DTEND;TZID=Europe/Helsinki:20181228T180000
DTSTAMP:20260424T140639
CREATED:20171213T090113Z
LAST-MODIFIED:20171213T090113Z
UID:1297-1546020000-1546020000@sehlde.info
SUMMARY:Skat & Knobelabend
DESCRIPTION:Alle Angaben ohne Gewähr.\nsehlde.info übernimmt keine Haftung für die Richtigkeit dieses Termins.
URL:https://sehlde.info/content/event/skat-knobelabend/
LOCATION:Sporthalle Sehlde\, Sportplatz Birkenweg\, Sehlde\, 38279\, Deutschland
CATEGORIES:Mit Voranmeldung,Öffentlich,SPD Sehlde,Vereinekalender
END:VEVENT
END:VCALENDAR