BEGIN:VCALENDAR
VERSION:2.0
PRODID:-//sehlde.info - ECPv6.15.20//NONSGML v1.0//EN
CALSCALE:GREGORIAN
METHOD:PUBLISH
X-WR-CALNAME:sehlde.info
X-ORIGINAL-URL:https://sehlde.info/content
X-WR-CALDESC:Veranstaltungen für sehlde.info
REFRESH-INTERVAL;VALUE=DURATION:PT1H
X-Robots-Tag:noindex
X-PUBLISHED-TTL:PT1H
BEGIN:VTIMEZONE
TZID:Europe/Berlin
BEGIN:DAYLIGHT
TZOFFSETFROM:+0100
TZOFFSETTO:+0200
TZNAME:CEST
DTSTART:20180325T010000
END:DAYLIGHT
BEGIN:STANDARD
TZOFFSETFROM:+0200
TZOFFSETTO:+0100
TZNAME:CET
DTSTART:20181028T010000
END:STANDARD
BEGIN:DAYLIGHT
TZOFFSETFROM:+0100
TZOFFSETTO:+0200
TZNAME:CEST
DTSTART:20190331T010000
END:DAYLIGHT
BEGIN:STANDARD
TZOFFSETFROM:+0200
TZOFFSETTO:+0100
TZNAME:CET
DTSTART:20191027T010000
END:STANDARD
BEGIN:DAYLIGHT
TZOFFSETFROM:+0100
TZOFFSETTO:+0200
TZNAME:CEST
DTSTART:20200329T010000
END:DAYLIGHT
BEGIN:STANDARD
TZOFFSETFROM:+0200
TZOFFSETTO:+0100
TZNAME:CET
DTSTART:20201025T010000
END:STANDARD
END:VTIMEZONE
BEGIN:VEVENT
DTSTART;TZID=Europe/Berlin:20190101T170000
DTEND;TZID=Europe/Berlin:20190101T170000
DTSTAMP:20260424T154059
CREATED:20181228T230020Z
LAST-MODIFIED:20181227T185654Z
UID:1761-1546362000-1546362000@sehlde.info
SUMMARY:Neujahrsgottesdienst
DESCRIPTION:
URL:https://sehlde.info/content/event/neujahrsgottesdienst/
LOCATION:Sehlder Kirche\, An der Kirche 1\, Sehlde\, 38279\, Deutschland
CATEGORIES:Kirchengemeinde,Öffentlich,Vereinekalender
END:VEVENT
BEGIN:VEVENT
DTSTART;TZID=Europe/Berlin:20190106T170000
DTEND;TZID=Europe/Berlin:20190106T170000
DTSTAMP:20260424T154059
CREATED:20181228T230052Z
LAST-MODIFIED:20181227T190106Z
UID:1763-1546794000-1546794000@sehlde.info
SUMMARY:Wiederholung des Krippenspiels
DESCRIPTION:
URL:https://sehlde.info/content/event/wiederholung-des-krippenspiels-3/
LOCATION:Sehlder Kirche\, An der Kirche 1\, Sehlde\, 38279\, Deutschland
CATEGORIES:Kirchengemeinde,Öffentlich,Vereinekalender
END:VEVENT
BEGIN:VEVENT
DTSTART;TZID=Europe/Berlin:20190112T090000
DTEND;TZID=Europe/Berlin:20190112T090000
DTSTAMP:20260424T154059
CREATED:20181228T230016Z
LAST-MODIFIED:20181227T190558Z
UID:1765-1547283600-1547283600@sehlde.info
SUMMARY:Einsammeln der Weihnachtsbäume
DESCRIPTION:Die Jungen und Mädchen der Jugendfeuerwehr sammeln gegen eine kleine Spende Ihren abgelegten Weihnachtsbaum ein. Bitte legen Sie diesen abgeschmückt bis 9.00 Uhr an die Straße. Die Jugendfeuerwehr freut sich auf Ihre Unterstützung.
URL:https://sehlde.info/content/event/einsammeln-der-weihnachtsbaeume-4/
LOCATION:Ortsgebiet\, Sehlde\, 38279\, Deutschland
CATEGORIES:Feuerwehr,Öffentlich,Vereinekalender
END:VEVENT
BEGIN:VEVENT
DTSTART;TZID=Europe/Berlin:20190116T150000
DTEND;TZID=Europe/Berlin:20190116T150000
DTSTAMP:20260424T154059
CREATED:20181228T230043Z
LAST-MODIFIED:20181227T190857Z
UID:1767-1547650800-1547650800@sehlde.info
SUMMARY:Senioren Geburtstags Kaffee
DESCRIPTION:Die entsprechenden Personen werden von den Mitgliedern des Kirchenvorstandes eingeladen.
URL:https://sehlde.info/content/event/senioren-geburtstags-kaffee-2/
LOCATION:Martin-Luther-Haus\, An der Kirche 1\, Sehlde\, 38279\, Deutschland
CATEGORIES:intern,Kirchengemeinde,Vereinekalender
END:VEVENT
BEGIN:VEVENT
DTSTART;TZID=Europe/Berlin:20190119T193000
DTEND;TZID=Europe/Berlin:20190119T193000
DTSTAMP:20260424T154059
CREATED:20181228T230021Z
LAST-MODIFIED:20181227T191220Z
UID:1769-1547926200-1547926200@sehlde.info
SUMMARY:Jahreshauptversammlung Schützenverein
DESCRIPTION:Mit Siegerehrung der Vereinsmeisterschaft und anschließendem Essen. Für das Essen wird ein Unkostenbeitrag erhoben\, um Anmeldung beim Vorsitzenden wird gebeten.
URL:https://sehlde.info/content/event/jahreshauptversammlung-schuetzenverein/
LOCATION:Sportheim\, Birkenweg\, Sehlde\, 38279\, Deutschland
CATEGORIES:intern,Mit Voranmeldung,Schützenverein,Vereinekalender
ORGANIZER;CN="KKS Waldheil Sehlde e.V.":MAILTO:info@waldheil-sehlde.de
END:VEVENT
BEGIN:VEVENT
DTSTART;TZID=Europe/Berlin:20190126T193000
DTEND;TZID=Europe/Berlin:20190126T193000
DTSTAMP:20260424T154059
CREATED:20181228T230051Z
LAST-MODIFIED:20181227T191447Z
UID:1772-1548531000-1548531000@sehlde.info
SUMMARY:Jahreshauptversammlung Feuerwehr
DESCRIPTION:Das Ortskommando stellt die Ereignisse und Zahlen des abgelaufenen Jahres vor und ehrt verdiente Kameraden. Im Anschluss wird ein Imbiss gereicht.
URL:https://sehlde.info/content/event/jahreshauptversammlung-feuerwehr-2/
LOCATION:Sporthalle Sehlde\, Sportplatz Birkenweg\, Sehlde\, 38279\, Deutschland
CATEGORIES:Feuerwehr,intern,Vereinekalender
END:VEVENT
END:VCALENDAR