BEGIN:VCALENDAR
VERSION:2.0
PRODID:-//sehlde.info - ECPv6.15.20//NONSGML v1.0//EN
CALSCALE:GREGORIAN
METHOD:PUBLISH
X-ORIGINAL-URL:https://sehlde.info/content
X-WR-CALDESC:Veranstaltungen für sehlde.info
REFRESH-INTERVAL;VALUE=DURATION:PT1H
X-Robots-Tag:noindex
X-PUBLISHED-TTL:PT1H
BEGIN:VTIMEZONE
TZID:Europe/Berlin
BEGIN:DAYLIGHT
TZOFFSETFROM:+0100
TZOFFSETTO:+0200
TZNAME:CEST
DTSTART:20180325T010000
END:DAYLIGHT
BEGIN:STANDARD
TZOFFSETFROM:+0200
TZOFFSETTO:+0100
TZNAME:CET
DTSTART:20181028T010000
END:STANDARD
BEGIN:DAYLIGHT
TZOFFSETFROM:+0100
TZOFFSETTO:+0200
TZNAME:CEST
DTSTART:20190331T010000
END:DAYLIGHT
BEGIN:STANDARD
TZOFFSETFROM:+0200
TZOFFSETTO:+0100
TZNAME:CET
DTSTART:20191027T010000
END:STANDARD
BEGIN:DAYLIGHT
TZOFFSETFROM:+0100
TZOFFSETTO:+0200
TZNAME:CEST
DTSTART:20200329T010000
END:DAYLIGHT
BEGIN:STANDARD
TZOFFSETFROM:+0200
TZOFFSETTO:+0100
TZNAME:CET
DTSTART:20201025T010000
END:STANDARD
END:VTIMEZONE
BEGIN:VEVENT
DTSTART;TZID=Europe/Berlin:20190301T140000
DTEND;TZID=Europe/Berlin:20190301T140000
DTSTAMP:20260424T193254
CREATED:20181228T230007Z
LAST-MODIFIED:20181227T192821Z
UID:1787-1551448800-1551448800@sehlde.info
SUMMARY:Gottesdienst zum Weltgebetstag
DESCRIPTION:Der diesjährige Weltgebetstag steht unter dem Motto „Come – Everything Is Ready“ Partnerland ist Slowenien.
URL:https://sehlde.info/content/event/gottesdienst-zum-weltgebetstag/
LOCATION:Kapelle Heere\, Schmiedestraße 1\, Heere\, 38277
CATEGORIES:Kirchengemeinde,Öffentlich,Vereinekalender
END:VEVENT
BEGIN:VEVENT
DTSTART;TZID=Europe/Berlin:20190309T190000
DTEND;TZID=Europe/Berlin:20190309T190000
DTSTAMP:20260424T193254
CREATED:20181228T230015Z
LAST-MODIFIED:20181227T193021Z
UID:1789-1552158000-1552158000@sehlde.info
SUMMARY:Jahreshauptversammlung OTV
DESCRIPTION:
URL:https://sehlde.info/content/event/jahreshauptversammlung-otv/
LOCATION:Sporthalle Sehlde\, Sportplatz Birkenweg\, Sehlde\, 38279\, Deutschland
CATEGORIES:intern,Treckervereinigung,Vereinekalender
END:VEVENT
BEGIN:VEVENT
DTSTART;TZID=Europe/Berlin:20190316T150000
DTEND;TZID=Europe/Berlin:20190316T150000
DTSTAMP:20260424T193254
CREATED:20181228T230039Z
LAST-MODIFIED:20181227T193410Z
UID:1791-1552748400-1552748400@sehlde.info
SUMMARY:Samtgemeinde Tischkickerturnier der Feuerwehren
DESCRIPTION:Die 17 Feuerwehren der Samtgemeinde Baddeckenstedt suchen die beste Kickermannschaft.
URL:https://sehlde.info/content/event/samtgemeinde-tischkickerturnier-der-feuerwehren/
LOCATION:Sporthalle Sehlde\, Sportplatz Birkenweg\, Sehlde\, 38279\, Deutschland
CATEGORIES:Feuerwehr,intern,Vereinekalender
END:VEVENT
BEGIN:VEVENT
DTSTART;VALUE=DATE:20190323
DTEND;VALUE=DATE:20190324
DTSTAMP:20260424T193254
CREATED:20181228T230023Z
LAST-MODIFIED:20181227T193620Z
UID:1793-1553299200-1553385599@sehlde.info
SUMMARY:Kreisdelegiertenversammlung
DESCRIPTION:
URL:https://sehlde.info/content/event/kreisdelegiertenversammlung/
LOCATION:Sporthalle Sehlde\, Sportplatz Birkenweg\, Sehlde\, 38279\, Deutschland
CATEGORIES:intern,Schützenverein,Vereinekalender
ORGANIZER;CN="KKS Waldheil Sehlde e.V.":MAILTO:info@waldheil-sehlde.de
END:VEVENT
BEGIN:VEVENT
DTSTART;TZID=Europe/Berlin:20190324T093000
DTEND;TZID=Europe/Berlin:20190324T093000
DTSTAMP:20260424T193254
CREATED:20181228T230025Z
LAST-MODIFIED:20181227T193908Z
UID:1795-1553419800-1553419800@sehlde.info
SUMMARY:Vorstellung der Konfirmanden
DESCRIPTION:
URL:https://sehlde.info/content/event/vorstellung-der-konfirmanden/
LOCATION:Sehlder Kirche\, An der Kirche 1\, Sehlde\, 38279\, Deutschland
CATEGORIES:Kirchengemeinde,Öffentlich,Vereinekalender
END:VEVENT
BEGIN:VEVENT
DTSTART;TZID=Europe/Berlin:20190329T190000
DTEND;TZID=Europe/Berlin:20190329T190000
DTSTAMP:20260424T193254
CREATED:20181228T230024Z
LAST-MODIFIED:20181227T194024Z
UID:1797-1553886000-1553886000@sehlde.info
SUMMARY:Jahreshauptversammlung Sportverein
DESCRIPTION:
URL:https://sehlde.info/content/event/jahreshauptversammlung-sportverein/
LOCATION:Sporthalle Sehlde\, Sportplatz Birkenweg\, Sehlde\, 38279\, Deutschland
CATEGORIES:intern,Sportverein,Vereinekalender
END:VEVENT
BEGIN:VEVENT
DTSTART;TZID=Europe/Berlin:20190330T150000
DTEND;TZID=Europe/Berlin:20190330T150000
DTSTAMP:20260424T193254
CREATED:20181228T230005Z
LAST-MODIFIED:20181227T194201Z
UID:1799-1553958000-1553958000@sehlde.info
SUMMARY:Fotoausstellung
DESCRIPTION:
URL:https://sehlde.info/content/event/fotoausstellung/
LOCATION:Sportheim\, Birkenweg\, Sehlde\, 38279\, Deutschland
CATEGORIES:Gemeinde,Öffentlich,Vereinekalender
END:VEVENT
END:VCALENDAR