BEGIN:VCALENDAR
VERSION:2.0
PRODID:-//sehlde.info - ECPv6.15.20//NONSGML v1.0//EN
CALSCALE:GREGORIAN
METHOD:PUBLISH
X-ORIGINAL-URL:https://sehlde.info/content
X-WR-CALDESC:Veranstaltungen für sehlde.info
REFRESH-INTERVAL;VALUE=DURATION:PT1H
X-Robots-Tag:noindex
X-PUBLISHED-TTL:PT1H
BEGIN:VTIMEZONE
TZID:Europe/Berlin
BEGIN:DAYLIGHT
TZOFFSETFROM:+0100
TZOFFSETTO:+0200
TZNAME:CEST
DTSTART:20180325T010000
END:DAYLIGHT
BEGIN:STANDARD
TZOFFSETFROM:+0200
TZOFFSETTO:+0100
TZNAME:CET
DTSTART:20181028T010000
END:STANDARD
BEGIN:DAYLIGHT
TZOFFSETFROM:+0100
TZOFFSETTO:+0200
TZNAME:CEST
DTSTART:20190331T010000
END:DAYLIGHT
BEGIN:STANDARD
TZOFFSETFROM:+0200
TZOFFSETTO:+0100
TZNAME:CET
DTSTART:20191027T010000
END:STANDARD
BEGIN:DAYLIGHT
TZOFFSETFROM:+0100
TZOFFSETTO:+0200
TZNAME:CEST
DTSTART:20200329T010000
END:DAYLIGHT
BEGIN:STANDARD
TZOFFSETFROM:+0200
TZOFFSETTO:+0100
TZNAME:CET
DTSTART:20201025T010000
END:STANDARD
END:VTIMEZONE
BEGIN:VEVENT
DTSTART;TZID=Europe/Berlin:20190810T150000
DTEND;TZID=Europe/Berlin:20190810T150000
DTSTAMP:20260425T034035
CREATED:20181228T230024Z
LAST-MODIFIED:20181228T085232Z
UID:1836-1565449200-1565449200@sehlde.info
SUMMARY:Kinderfest auf dem Abenteuerspielplatz
DESCRIPTION:
URL:https://sehlde.info/content/event/kinderfest-auf-dem-abenteuerspielplatz/
LOCATION:Abenteuerspielplatz an der Innerste\, Neben Hubertusstraße 1\, Sehlde\, 38279\, Deutschland
CATEGORIES:Jugend/ Kinder,Öffentlich,SPD Sehlde,Vereinekalender
END:VEVENT
BEGIN:VEVENT
DTSTART;TZID=Europe/Berlin:20190811T110000
DTEND;TZID=Europe/Berlin:20190811T110000
DTSTAMP:20260425T034035
CREATED:20190629T133409Z
LAST-MODIFIED:20190723T052142Z
UID:1947-1565521200-1565521200@sehlde.info
SUMMARY:Öffentliches Schützenfrühstück
DESCRIPTION:Die Mitglieder des Schützenvereins laden Sie herzlich zur Königsproklamation ein. In dem Preis ist ein Menü enthalten: 1. Schnitzelvariationen mit Bratkartoffeln oder 2. Heringsfilets in Sahnesoße\, dazu Kartoffeln mit Speckstippe. Am Nachmittag gibt es dann ein reichhaltiges Kuchenbuffet. \nDie Veranstaltung kostet pro Person 15\,00 EUR. Anmeldungen können über diese Personen erfolgen: \n– Thomas Schünemann (Klintstraße 3)\n– Michael Schadler (Hainbergstraße 22)\, webmaster (via) sehlde punkt info
URL:https://sehlde.info/content/event/oeffentliches-schuetzenfruehstueck-2/
LOCATION:Schützenhaus\, l498\, Sehlde\, 38279\, Deutschland
CATEGORIES:Mit Voranmeldung,Öffentlich,Schützenverein,Vereinekalender
ORGANIZER;CN="KKS Waldheil Sehlde e.V.":MAILTO:info@waldheil-sehlde.de
END:VEVENT
BEGIN:VEVENT
DTSTART;TZID=Europe/Berlin:20190817T094500
DTEND;TZID=Europe/Berlin:20190817T094500
DTSTAMP:20260425T034035
CREATED:20181228T230045Z
LAST-MODIFIED:20181228T085501Z
UID:1840-1566035100-1566035100@sehlde.info
SUMMARY:Gottesdienst zur Einschulung
DESCRIPTION:
URL:https://sehlde.info/content/event/gottesdienst-zur-einschulung-2/
LOCATION:Sehlder Kirche\, An der Kirche 1\, Sehlde\, 38279\, Deutschland
CATEGORIES:Kirchengemeinde,Öffentlich,Vereinekalender
END:VEVENT
BEGIN:VEVENT
DTSTART;TZID=Europe/Berlin:20190818T104500
DTEND;TZID=Europe/Berlin:20190818T104500
DTSTAMP:20260425T034035
CREATED:20181228T230025Z
LAST-MODIFIED:20181228T085716Z
UID:1844-1566125100-1566125100@sehlde.info
SUMMARY:Singgottesdienst
DESCRIPTION:
URL:https://sehlde.info/content/event/singgottesdienst-3/
LOCATION:Sehlder Kirche\, An der Kirche 1\, Sehlde\, 38279\, Deutschland
CATEGORIES:Kirchengemeinde,Öffentlich,Vereinekalender
END:VEVENT
BEGIN:VEVENT
DTSTART;TZID=Europe/Berlin:20190818T110000
DTEND;TZID=Europe/Berlin:20190818T110000
DTSTAMP:20260425T034035
CREATED:20181228T230048Z
LAST-MODIFIED:20190629T132505Z
UID:1838-1566126000-1566126000@sehlde.info
SUMMARY:[Verschoben] Öffentliches Schützenfrühstück
DESCRIPTION:Leider wurde auf sehlde.info ein falsches Datum veröffentlicht. Die Veranstaltung findet am 11. August 2019 statt.
URL:https://sehlde.info/content/event/oeffentliches-schuetzenfruehstueck/
LOCATION:Sportheim\, Birkenweg\, Sehlde\, 38279\, Deutschland
CATEGORIES:Mit Voranmeldung,Öffentlich,Schützenverein,Vereinekalender
ORGANIZER;CN="KKS Waldheil Sehlde e.V.":MAILTO:info@waldheil-sehlde.de
END:VEVENT
BEGIN:VEVENT
DTSTART;TZID=Europe/Berlin:20190825T100000
DTEND;TZID=Europe/Berlin:20190825T100000
DTSTAMP:20260425T034035
CREATED:20181228T230007Z
LAST-MODIFIED:20181228T085608Z
UID:1842-1566727200-1566727200@sehlde.info
SUMMARY:Treckermeile
DESCRIPTION:
URL:https://sehlde.info/content/event/treckermeile/
LOCATION:Sportplatz Sehlde\, Birkenweg 3\, Sehlde\, 38279\, Deutschland
CATEGORIES:Öffentlich,Treckervereinigung,Vereinekalender
END:VEVENT
END:VCALENDAR