BEGIN:VCALENDAR
VERSION:2.0
PRODID:-//sehlde.info - ECPv6.15.20//NONSGML v1.0//EN
CALSCALE:GREGORIAN
METHOD:PUBLISH
X-ORIGINAL-URL:https://sehlde.info/content
X-WR-CALDESC:Veranstaltungen für sehlde.info
REFRESH-INTERVAL;VALUE=DURATION:PT1H
X-Robots-Tag:noindex
X-PUBLISHED-TTL:PT1H
BEGIN:VTIMEZONE
TZID:Europe/Berlin
BEGIN:DAYLIGHT
TZOFFSETFROM:+0100
TZOFFSETTO:+0200
TZNAME:CEST
DTSTART:20180325T010000
END:DAYLIGHT
BEGIN:STANDARD
TZOFFSETFROM:+0200
TZOFFSETTO:+0100
TZNAME:CET
DTSTART:20181028T010000
END:STANDARD
BEGIN:DAYLIGHT
TZOFFSETFROM:+0100
TZOFFSETTO:+0200
TZNAME:CEST
DTSTART:20190331T010000
END:DAYLIGHT
BEGIN:STANDARD
TZOFFSETFROM:+0200
TZOFFSETTO:+0100
TZNAME:CET
DTSTART:20191027T010000
END:STANDARD
BEGIN:DAYLIGHT
TZOFFSETFROM:+0100
TZOFFSETTO:+0200
TZNAME:CEST
DTSTART:20200329T010000
END:DAYLIGHT
BEGIN:STANDARD
TZOFFSETFROM:+0200
TZOFFSETTO:+0100
TZNAME:CET
DTSTART:20201025T010000
END:STANDARD
END:VTIMEZONE
BEGIN:VEVENT
DTSTART;TZID=Europe/Berlin:20191004T190000
DTEND;TZID=Europe/Berlin:20191004T190000
DTSTAMP:20260425T224350
CREATED:20181228T230011Z
LAST-MODIFIED:20181228T144300Z
UID:1858-1570215600-1570215600@sehlde.info
SUMMARY:Infoabend des Sportvereins
DESCRIPTION:
URL:https://sehlde.info/content/event/infoabend-des-sportvereins/
LOCATION:Sportheim\, Birkenweg\, Sehlde\, 38279\, Deutschland
CATEGORIES:intern,Sportverein,Vereinekalender
END:VEVENT
BEGIN:VEVENT
DTSTART;TZID=Europe/Berlin:20191005T150000
DTEND;TZID=Europe/Berlin:20191005T150000
DTSTAMP:20260425T224350
CREATED:20181228T230013Z
LAST-MODIFIED:20181228T144425Z
UID:1860-1570287600-1570287600@sehlde.info
SUMMARY:Öffentliches Kickerturnier
DESCRIPTION:Teilnahme nach Voranmeldung für Jedermann möglich.
URL:https://sehlde.info/content/event/oeffentliches-kickerturnier/
LOCATION:Feuerwehrhaus\, Am Friedhof\, Sehlde\, 38279\, Deutschland
CATEGORIES:Feuerwehr,Mit Voranmeldung,Öffentlich,Vereinekalender
END:VEVENT
BEGIN:VEVENT
DTSTART;TZID=Europe/Berlin:20191006T093000
DTEND;TZID=Europe/Berlin:20191006T093000
DTSTAMP:20260425T224350
CREATED:20181228T230033Z
LAST-MODIFIED:20181228T144521Z
UID:1862-1570354200-1570354200@sehlde.info
SUMMARY:Erntedankgottesdienst
DESCRIPTION:
URL:https://sehlde.info/content/event/erntedankgottesdienst-3/
LOCATION:Sehlder Kirche\, An der Kirche 1\, Sehlde\, 38279\, Deutschland
CATEGORIES:Kirchengemeinde,Öffentlich,Vereinekalender
END:VEVENT
BEGIN:VEVENT
DTSTART;TZID=Europe/Berlin:20191012T130000
DTEND;TZID=Europe/Berlin:20191012T170000
DTSTAMP:20260425T224350
CREATED:20181228T230030Z
LAST-MODIFIED:20181228T144938Z
UID:1864-1570885200-1570899600@sehlde.info
SUMMARY:Hubertusschießen
DESCRIPTION:
URL:https://sehlde.info/content/event/hubertusschiessen-7/
LOCATION:Schützenhaus\, l498\, Sehlde\, 38279\, Deutschland
CATEGORIES:intern,Schützenverein,Vereinekalender
ATTACH;FMTTYPE=image/jpeg:https://sehlde.info/content/wp-content/uploads/2018/06/IMG-20180617-WA0015.jpg
ORGANIZER;CN="KKS Waldheil Sehlde e.V.":MAILTO:info@waldheil-sehlde.de
END:VEVENT
BEGIN:VEVENT
DTSTART;TZID=Europe/Berlin:20191018T153000
DTEND;TZID=Europe/Berlin:20191018T193000
DTSTAMP:20260425T224350
CREATED:20181228T230049Z
LAST-MODIFIED:20181228T145136Z
UID:1866-1571412600-1571427000@sehlde.info
SUMMARY:Blutspende
DESCRIPTION:
URL:https://sehlde.info/content/event/blutspende-7/
LOCATION:Feuerwehrhaus\, Am Friedhof\, Sehlde\, 38279\, Deutschland
CATEGORIES:Feuerwehr,Öffentlich,Vereinekalender
END:VEVENT
BEGIN:VEVENT
DTSTART;TZID=Europe/Berlin:20191019T130000
DTEND;TZID=Europe/Berlin:20191019T170000
DTSTAMP:20260425T224350
CREATED:20181228T230043Z
LAST-MODIFIED:20181228T145447Z
UID:1868-1571490000-1571504400@sehlde.info
SUMMARY:Hubertusschießen
DESCRIPTION:
URL:https://sehlde.info/content/event/hubertusschiessen-8/
LOCATION:Schützenhaus\, l498\, Sehlde\, 38279\, Deutschland
CATEGORIES:intern,Schützenverein,Vereinekalender
ORGANIZER;CN="KKS Waldheil Sehlde e.V.":MAILTO:info@waldheil-sehlde.de
END:VEVENT
BEGIN:VEVENT
DTSTART;TZID=Europe/Berlin:20191031T104500
DTEND;TZID=Europe/Berlin:20191031T104500
DTSTAMP:20260425T224350
CREATED:20181228T230036Z
LAST-MODIFIED:20181228T145742Z
UID:1872-1572518700-1572518700@sehlde.info
SUMMARY:Gottesdienst zum Reformationstag
DESCRIPTION:
URL:https://sehlde.info/content/event/gottesdienst-zum-reformationstag/
LOCATION:Kirche Heere\, ggü Hauptstraße 2\, Heere\, 38277\, Deutschland
CATEGORIES:Kirchengemeinde,Öffentlich,Vereinekalender
END:VEVENT
END:VCALENDAR