BEGIN:VCALENDAR
VERSION:2.0
PRODID:-//sehlde.info - ECPv6.15.20//NONSGML v1.0//EN
CALSCALE:GREGORIAN
METHOD:PUBLISH
X-ORIGINAL-URL:https://sehlde.info/content
X-WR-CALDESC:Veranstaltungen für sehlde.info
REFRESH-INTERVAL;VALUE=DURATION:PT1H
X-Robots-Tag:noindex
X-PUBLISHED-TTL:PT1H
BEGIN:VTIMEZONE
TZID:Europe/Berlin
BEGIN:DAYLIGHT
TZOFFSETFROM:+0100
TZOFFSETTO:+0200
TZNAME:CEST
DTSTART:20180325T010000
END:DAYLIGHT
BEGIN:STANDARD
TZOFFSETFROM:+0200
TZOFFSETTO:+0100
TZNAME:CET
DTSTART:20181028T010000
END:STANDARD
BEGIN:DAYLIGHT
TZOFFSETFROM:+0100
TZOFFSETTO:+0200
TZNAME:CEST
DTSTART:20190331T010000
END:DAYLIGHT
BEGIN:STANDARD
TZOFFSETFROM:+0200
TZOFFSETTO:+0100
TZNAME:CET
DTSTART:20191027T010000
END:STANDARD
BEGIN:DAYLIGHT
TZOFFSETFROM:+0100
TZOFFSETTO:+0200
TZNAME:CEST
DTSTART:20200329T010000
END:DAYLIGHT
BEGIN:STANDARD
TZOFFSETFROM:+0200
TZOFFSETTO:+0100
TZNAME:CET
DTSTART:20201025T010000
END:STANDARD
END:VTIMEZONE
BEGIN:VEVENT
DTSTART;TZID=Europe/Berlin:20191102T140000
DTEND;TZID=Europe/Berlin:20191102T140000
DTSTAMP:20260426T002728
CREATED:20181228T230048Z
LAST-MODIFIED:20181228T150026Z
UID:1874-1572703200-1572703200@sehlde.info
SUMMARY:SPD Grünkohlwanderung/-essen
DESCRIPTION:
URL:https://sehlde.info/content/event/spd-gruenkohlwanderung-essen/
LOCATION:Sportheim\, Birkenweg\, Sehlde\, 38279\, Deutschland
CATEGORIES:intern,Mit Voranmeldung,SPD Sehlde,Vereinekalender
END:VEVENT
BEGIN:VEVENT
DTSTART;TZID=Europe/Berlin:20191102T190000
DTEND;TZID=Europe/Berlin:20191102T190000
DTSTAMP:20260426T002728
CREATED:20181228T230035Z
LAST-MODIFIED:20181228T150145Z
UID:1876-1572721200-1572721200@sehlde.info
SUMMARY:2. Mitgliederversammlung 2018
DESCRIPTION:
URL:https://sehlde.info/content/event/2-mitgliederversammlung-2018/
LOCATION:Sportheim\, Birkenweg\, Sehlde\, 38279\, Deutschland
CATEGORIES:intern,SPD Sehlde,Vereinekalender
END:VEVENT
BEGIN:VEVENT
DTSTART;TZID=Europe/Berlin:20191106T180000
DTEND;TZID=Europe/Berlin:20191106T180000
DTSTAMP:20260426T002728
CREATED:20181228T230046Z
LAST-MODIFIED:20181228T152119Z
UID:1885-1573063200-1573063200@sehlde.info
SUMMARY:Lampionumzug
DESCRIPTION:
URL:https://sehlde.info/content/event/lampionumzug-4/
LOCATION:Schulhof\, Schulstraße 8\, Sehlde\, 38279\, Deutschland
CATEGORIES:Gemeinde,Jugend/ Kinder,Öffentlich,Vereinekalender
END:VEVENT
BEGIN:VEVENT
DTSTART;TZID=Europe/Berlin:20191109T190000
DTEND;TZID=Europe/Berlin:20191109T190000
DTSTAMP:20260426T002728
CREATED:20181228T230029Z
LAST-MODIFIED:20181228T152431Z
UID:1887-1573326000-1573326000@sehlde.info
SUMMARY:Hubertusabschlussfeier
DESCRIPTION:
URL:https://sehlde.info/content/event/hubertusabschlussfeier-2/
LOCATION:Schützenhaus\, l498\, Sehlde\, 38279\, Deutschland
CATEGORIES:intern,Mit Voranmeldung,Schützenverein,Vereinekalender
ORGANIZER;CN="KKS Waldheil Sehlde e.V.":MAILTO:info@waldheil-sehlde.de
END:VEVENT
BEGIN:VEVENT
DTSTART;TZID=Europe/Berlin:20191110T180000
DTEND;TZID=Europe/Berlin:20191110T180000
DTSTAMP:20260426T002728
CREATED:20181228T230042Z
LAST-MODIFIED:20181228T152612Z
UID:1889-1573408800-1573408800@sehlde.info
SUMMARY:Hubertusabend live in der Pampa
DESCRIPTION:
URL:https://sehlde.info/content/event/hubertusabend-live-in-der-pampa/
LOCATION:Sportheim\, Birkenweg\, Sehlde\, 38279\, Deutschland
CATEGORIES:Öffentlich,Vereinekalender
END:VEVENT
BEGIN:VEVENT
DTSTART;TZID=Europe/Berlin:20191113T180000
DTEND;TZID=Europe/Berlin:20191113T180000
DTSTAMP:20260426T002728
CREATED:20181228T230022Z
LAST-MODIFIED:20181228T152725Z
UID:1891-1573668000-1573668000@sehlde.info
SUMMARY:Lampionumzug Ausweichtermin
DESCRIPTION:
URL:https://sehlde.info/content/event/lampionumzug-ausweichtermin-3/
LOCATION:Schulhof\, Schulstraße 8\, Sehlde\, 38279\, Deutschland
CATEGORIES:Gemeinde,Jugend/ Kinder,Öffentlich,Schützenverein,Vereinekalender
END:VEVENT
BEGIN:VEVENT
DTSTART;TZID=Europe/Berlin:20191116T180000
DTEND;TZID=Europe/Berlin:20191116T180000
DTSTAMP:20260426T002728
CREATED:20181228T230031Z
LAST-MODIFIED:20181228T152934Z
UID:1893-1573927200-1573927200@sehlde.info
SUMMARY:Gottesdienst mit Kranzniederlegung zum Volkstrauertag
DESCRIPTION:
URL:https://sehlde.info/content/event/gottesdienst-mit-kranzniederlegung-zum-volkstrauertag/
LOCATION:Sehlder Kirche\, An der Kirche 1\, Sehlde\, 38279\, Deutschland
CATEGORIES:Feuerwehr,Gemeinde,Gesangsverein,Kirchengemeinde,Musikverein,Öffentlich,Schützenverein,SPD Sehlde,Sportverein,Treckervereinigung,Vereinekalender
END:VEVENT
BEGIN:VEVENT
DTSTART;TZID=Europe/Berlin:20191120T170000
DTEND;TZID=Europe/Berlin:20191120T170000
DTSTAMP:20260426T002728
CREATED:20181228T230042Z
LAST-MODIFIED:20181228T153039Z
UID:1895-1574269200-1574269200@sehlde.info
SUMMARY:Gottesdienst zum Buß- und Bettag
DESCRIPTION:
URL:https://sehlde.info/content/event/gottesdienst-zum-buss-und-bettag/
LOCATION:Sehlder Kirche\, An der Kirche 1\, Sehlde\, 38279\, Deutschland
CATEGORIES:Kirchengemeinde,Öffentlich,Vereinekalender
END:VEVENT
BEGIN:VEVENT
DTSTART;TZID=Europe/Berlin:20191123T190000
DTEND;TZID=Europe/Berlin:20191123T190000
DTSTAMP:20260426T002728
CREATED:20181228T230048Z
LAST-MODIFIED:20181228T153226Z
UID:1897-1574535600-1574535600@sehlde.info
SUMMARY:Grünkohlessen der Feuerwehr
DESCRIPTION:
URL:https://sehlde.info/content/event/gruenkohlessen-der-feuerwehr/
LOCATION:Feuerwehrhaus\, Am Friedhof\, Sehlde\, 38279\, Deutschland
CATEGORIES:Feuerwehr,intern,Mit Voranmeldung,Vereinekalender
END:VEVENT
BEGIN:VEVENT
DTSTART;TZID=Europe/Berlin:20191124T140000
DTEND;TZID=Europe/Berlin:20191124T180000
DTSTAMP:20260426T002728
CREATED:20181228T230032Z
LAST-MODIFIED:20181228T153330Z
UID:1899-1574604000-1574618400@sehlde.info
SUMMARY:Adventszauber
DESCRIPTION:
URL:https://sehlde.info/content/event/adventszauber-4/
LOCATION:Sporthalle Sehlde\, Sportplatz Birkenweg\, Sehlde\, 38279\, Deutschland
CATEGORIES:Öffentlich,SPD Sehlde,Vereinekalender
END:VEVENT
BEGIN:VEVENT
DTSTART;TZID=Europe/Berlin:20191130T150000
DTEND;TZID=Europe/Berlin:20191130T150000
DTSTAMP:20260426T002728
CREATED:20181228T230037Z
LAST-MODIFIED:20181228T153431Z
UID:1901-1575126000-1575126000@sehlde.info
SUMMARY:Jugendweihnachtsfeier
DESCRIPTION:
URL:https://sehlde.info/content/event/jugendweihnachtsfeier/
LOCATION:Sporthalle Sehlde\, Sportplatz Birkenweg\, Sehlde\, 38279\, Deutschland
CATEGORIES:intern,Jugend/ Kinder,Sportverein,Vereinekalender
END:VEVENT
END:VCALENDAR