BEGIN:VCALENDAR
VERSION:2.0
PRODID:-//sehlde.info - ECPv6.15.20//NONSGML v1.0//EN
CALSCALE:GREGORIAN
METHOD:PUBLISH
X-ORIGINAL-URL:https://sehlde.info/content
X-WR-CALDESC:Veranstaltungen für sehlde.info
REFRESH-INTERVAL;VALUE=DURATION:PT1H
X-Robots-Tag:noindex
X-PUBLISHED-TTL:PT1H
BEGIN:VTIMEZONE
TZID:Europe/Berlin
BEGIN:DAYLIGHT
TZOFFSETFROM:+0100
TZOFFSETTO:+0200
TZNAME:CEST
DTSTART:20180325T010000
END:DAYLIGHT
BEGIN:STANDARD
TZOFFSETFROM:+0200
TZOFFSETTO:+0100
TZNAME:CET
DTSTART:20181028T010000
END:STANDARD
BEGIN:DAYLIGHT
TZOFFSETFROM:+0100
TZOFFSETTO:+0200
TZNAME:CEST
DTSTART:20190331T010000
END:DAYLIGHT
BEGIN:STANDARD
TZOFFSETFROM:+0200
TZOFFSETTO:+0100
TZNAME:CET
DTSTART:20191027T010000
END:STANDARD
BEGIN:DAYLIGHT
TZOFFSETFROM:+0100
TZOFFSETTO:+0200
TZNAME:CEST
DTSTART:20200329T010000
END:DAYLIGHT
BEGIN:STANDARD
TZOFFSETFROM:+0200
TZOFFSETTO:+0100
TZNAME:CET
DTSTART:20201025T010000
END:STANDARD
END:VTIMEZONE
BEGIN:VEVENT
DTSTART;TZID=Europe/Berlin:20191201T140000
DTEND;TZID=Europe/Berlin:20191201T140000
DTSTAMP:20260426T015747
CREATED:20181228T230037Z
LAST-MODIFIED:20181228T153619Z
UID:1903-1575208800-1575208800@sehlde.info
SUMMARY:Nachmittag der Begegnung
DESCRIPTION:
URL:https://sehlde.info/content/event/nachmittag-der-begegnung-4/
LOCATION:Kirche Heere\, ggü Hauptstraße 2\, Heere\, 38277\, Deutschland
CATEGORIES:Kirchengemeinde,Vereinekalender
END:VEVENT
BEGIN:VEVENT
DTSTART;TZID=Europe/Berlin:20191202T180000
DTEND;TZID=Europe/Berlin:20191202T180000
DTSTAMP:20260426T015747
CREATED:20181228T230025Z
LAST-MODIFIED:20181228T153839Z
UID:1905-1575309600-1575309600@sehlde.info
SUMMARY:Lebendiger Adventskranz
DESCRIPTION:
URL:https://sehlde.info/content/event/lebendiger-adventskranz/
CATEGORIES:Kirchengemeinde,Öffentlich,Vereinekalender
END:VEVENT
BEGIN:VEVENT
DTSTART;TZID=Europe/Berlin:20191207T150000
DTEND;TZID=Europe/Berlin:20191207T150000
DTSTAMP:20260426T015747
CREATED:20181228T230046Z
LAST-MODIFIED:20181228T153945Z
UID:1907-1575730800-1575730800@sehlde.info
SUMMARY:Abschluss Frühschoppenschießen
DESCRIPTION:
URL:https://sehlde.info/content/event/abschluss-fruehschoppenschiessen-3/
LOCATION:Schützenhaus\, l498\, Sehlde\, 38279\, Deutschland
CATEGORIES:intern,Schützenverein,Vereinekalender
ORGANIZER;CN="KKS Waldheil Sehlde e.V.":MAILTO:info@waldheil-sehlde.de
END:VEVENT
BEGIN:VEVENT
DTSTART;TZID=Europe/Berlin:20191208T150000
DTEND;TZID=Europe/Berlin:20191208T150000
DTSTAMP:20260426T015747
CREATED:20181228T230054Z
LAST-MODIFIED:20181228T154055Z
UID:1909-1575817200-1575817200@sehlde.info
SUMMARY:Adventsnachmittag
DESCRIPTION:
URL:https://sehlde.info/content/event/adventsnachmittag/
LOCATION:Sporthalle Sehlde\, Sportplatz Birkenweg\, Sehlde\, 38279\, Deutschland
CATEGORIES:Gemeinde,Kirchengemeinde,Vereinekalender
END:VEVENT
BEGIN:VEVENT
DTSTART;TZID=Europe/Berlin:20191210T180000
DTEND;TZID=Europe/Berlin:20191210T180000
DTSTAMP:20260426T015747
CREATED:20181228T230002Z
LAST-MODIFIED:20181228T154203Z
UID:1911-1576000800-1576000800@sehlde.info
SUMMARY:Lebendiger Adventskranz
DESCRIPTION:
URL:https://sehlde.info/content/event/lebendiger-adventskranz-2/
CATEGORIES:Kirchengemeinde,Öffentlich,Vereinekalender
END:VEVENT
BEGIN:VEVENT
DTSTART;VALUE=DATE:20191219
DTEND;VALUE=DATE:20191220
DTSTAMP:20260426T015747
CREATED:20181228T230016Z
LAST-MODIFIED:20181228T154305Z
UID:1913-1576713600-1576713600@sehlde.info
SUMMARY:Lebendiger Adventskranz
DESCRIPTION:
URL:https://sehlde.info/content/event/lebendiger-adventskranz-3/
CATEGORIES:Kirchengemeinde,Öffentlich,Vereinekalender
END:VEVENT
BEGIN:VEVENT
DTSTART;TZID=Europe/Berlin:20191221T160000
DTEND;TZID=Europe/Berlin:20191221T160000
DTSTAMP:20260426T015747
CREATED:20181228T230043Z
LAST-MODIFIED:20181228T154502Z
UID:1915-1576944000-1576944000@sehlde.info
SUMMARY:Weihnachtsmarkt
DESCRIPTION:Weihnachtsmarkt der Sehlder Vereine. Ab 14.00 Uhr Gottesdienst.
URL:https://sehlde.info/content/event/weihnachtsmarkt-2/
LOCATION:Schulhof\, Schulstraße 8\, Sehlde\, 38279\, Deutschland
CATEGORIES:Feuerwehr,Gemeinde,Kirchengemeinde,Musikverein,Öffentlich,Schützenverein,SPD Sehlde,Sportverein,Treckervereinigung,Vereinekalender
END:VEVENT
BEGIN:VEVENT
DTSTART;TZID=Europe/Berlin:20191224T170000
DTEND;TZID=Europe/Berlin:20191224T170000
DTSTAMP:20260426T015747
CREATED:20181228T230009Z
LAST-MODIFIED:20181228T154541Z
UID:1917-1577206800-1577206800@sehlde.info
SUMMARY:Krippenspiel
DESCRIPTION:
URL:https://sehlde.info/content/event/krippenspiel-2/
LOCATION:Sehlder Kirche\, An der Kirche 1\, Sehlde\, 38279\, Deutschland
CATEGORIES:Kirchengemeinde,Öffentlich,Vereinekalender
END:VEVENT
BEGIN:VEVENT
DTSTART;TZID=Europe/Berlin:20191225T093000
DTEND;TZID=Europe/Berlin:20191225T093000
DTSTAMP:20260426T015747
CREATED:20181228T230047Z
LAST-MODIFIED:20181228T154625Z
UID:1919-1577266200-1577266200@sehlde.info
SUMMARY:Weihnachtsgottesdienst
DESCRIPTION:
URL:https://sehlde.info/content/event/weihnachtsgottesdienst-3/
LOCATION:Sehlder Kirche\, An der Kirche 1\, Sehlde\, 38279\, Deutschland
CATEGORIES:Kirchengemeinde,Öffentlich,Vereinekalender
END:VEVENT
BEGIN:VEVENT
DTSTART;TZID=Europe/Berlin:20191228T180000
DTEND;TZID=Europe/Berlin:20191228T180000
DTSTAMP:20260426T015747
CREATED:20181228T230040Z
LAST-MODIFIED:20181228T154718Z
UID:1921-1577556000-1577556000@sehlde.info
SUMMARY:Skat und Knobelabend
DESCRIPTION:
URL:https://sehlde.info/content/event/skat-und-knobelabend-3/
LOCATION:Sporthalle Sehlde\, Sportplatz Birkenweg\, Sehlde\, 38279\, Deutschland
CATEGORIES:Mit Voranmeldung,Öffentlich,SPD Sehlde,Vereinekalender
END:VEVENT
BEGIN:VEVENT
DTSTART;TZID=Europe/Berlin:20191231T170000
DTEND;TZID=Europe/Berlin:20191231T170000
DTSTAMP:20260426T015747
CREATED:20181125T200054Z
LAST-MODIFIED:20181208T082007Z
UID:1634-1577811600-1577811600@sehlde.info
SUMMARY:Altjahresabend Gottesdienst
DESCRIPTION:
URL:https://sehlde.info/content/event/altjahresabend_gottesdienst/
LOCATION:Sehlder Kirche\, An der Kirche 1\, Sehlde\, 38279\, Deutschland
CATEGORIES:Kirchengemeinde,Öffentlich,Vereinekalender
END:VEVENT
END:VCALENDAR