BEGIN:VCALENDAR
VERSION:2.0
PRODID:-//sehlde.info - ECPv6.15.20//NONSGML v1.0//EN
CALSCALE:GREGORIAN
METHOD:PUBLISH
X-WR-CALNAME:sehlde.info
X-ORIGINAL-URL:https://sehlde.info/content
X-WR-CALDESC:Veranstaltungen für sehlde.info
REFRESH-INTERVAL;VALUE=DURATION:PT1H
X-Robots-Tag:noindex
X-PUBLISHED-TTL:PT1H
BEGIN:VTIMEZONE
TZID:Europe/Berlin
BEGIN:DAYLIGHT
TZOFFSETFROM:+0100
TZOFFSETTO:+0200
TZNAME:CEST
DTSTART:20190331T010000
END:DAYLIGHT
BEGIN:STANDARD
TZOFFSETFROM:+0200
TZOFFSETTO:+0100
TZNAME:CET
DTSTART:20191027T010000
END:STANDARD
BEGIN:DAYLIGHT
TZOFFSETFROM:+0100
TZOFFSETTO:+0200
TZNAME:CEST
DTSTART:20200329T010000
END:DAYLIGHT
BEGIN:STANDARD
TZOFFSETFROM:+0200
TZOFFSETTO:+0100
TZNAME:CET
DTSTART:20201025T010000
END:STANDARD
BEGIN:DAYLIGHT
TZOFFSETFROM:+0100
TZOFFSETTO:+0200
TZNAME:CEST
DTSTART:20210328T010000
END:DAYLIGHT
BEGIN:STANDARD
TZOFFSETFROM:+0200
TZOFFSETTO:+0100
TZNAME:CET
DTSTART:20211031T010000
END:STANDARD
END:VTIMEZONE
BEGIN:VEVENT
DTSTART;TZID=Europe/Berlin:20200106T170000
DTEND;TZID=Europe/Berlin:20200106T170000
DTSTAMP:20260426T033539
CREATED:20191227T230027Z
LAST-MODIFIED:20191228T063856Z
UID:2070-1578330000-1578330000@sehlde.info
SUMMARY:Wiederholung Krippenspiel
DESCRIPTION:
URL:https://sehlde.info/content/event/wiederholung-krippenspiel/
LOCATION:Sehlder Kirche\, An der Kirche 1\, Sehlde\, 38279\, Deutschland
CATEGORIES:Kirchengemeinde,Vereinekalender
END:VEVENT
BEGIN:VEVENT
DTSTART;TZID=Europe/Berlin:20200111T090000
DTEND;TZID=Europe/Berlin:20200111T090000
DTSTAMP:20260426T033539
CREATED:20191227T230014Z
LAST-MODIFIED:20191228T063842Z
UID:2072-1578733200-1578733200@sehlde.info
SUMMARY:Einsammeln der Weihnachtsbäume
DESCRIPTION:Durch die Jugendfeuerwehr. Um eine Spende wird gebeten.
URL:https://sehlde.info/content/event/einsammeln-der-weihnachtsbaeume-5/
LOCATION:Ortsgebiet\, Sehlde\, 38279\, Deutschland
CATEGORIES:Feuerwehr,Vereinekalender
END:VEVENT
BEGIN:VEVENT
DTSTART;TZID=Europe/Berlin:20200115T150000
DTEND;TZID=Europe/Berlin:20200115T150000
DTSTAMP:20260426T033539
CREATED:20191227T230002Z
LAST-MODIFIED:20191228T063742Z
UID:2074-1579100400-1579100400@sehlde.info
SUMMARY:Senioren- und Geburtstagskaffee
DESCRIPTION:Auf Einladung
URL:https://sehlde.info/content/event/senioren-und-geburtstagskaffee/
LOCATION:Martin-Luther-Haus\, An der Kirche 1\, Sehlde\, 38279\, Deutschland
CATEGORIES:Kirchengemeinde,Vereinekalender
END:VEVENT
BEGIN:VEVENT
DTSTART;TZID=Europe/Berlin:20200124T193000
DTEND;TZID=Europe/Berlin:20200124T193000
DTSTAMP:20260426T033539
CREATED:20191227T230031Z
LAST-MODIFIED:20191228T063730Z
UID:2076-1579894200-1579894200@sehlde.info
SUMMARY:JHV Feuerwehr
DESCRIPTION:
URL:https://sehlde.info/content/event/jhv-feuerwehr/
LOCATION:Sporthalle Sehlde\, Sportplatz Birkenweg\, Sehlde\, 38279\, Deutschland
CATEGORIES:Feuerwehr,Vereinekalender
END:VEVENT
BEGIN:VEVENT
DTSTART;TZID=Europe/Berlin:20200126T100000
DTEND;TZID=Europe/Berlin:20200126T100000
DTSTAMP:20260426T033539
CREATED:20191227T230044Z
LAST-MODIFIED:20191228T063718Z
UID:2078-1580032800-1580032800@sehlde.info
SUMMARY:JHV SPD mit Frühstück
DESCRIPTION:
URL:https://sehlde.info/content/event/jhv-spd/
LOCATION:Sportheim\, Birkenweg\, Sehlde\, 38279\, Deutschland
CATEGORIES:Mit Voranmeldung,Öffentlich,SPD Sehlde,Vereinekalender
END:VEVENT
END:VCALENDAR