BEGIN:VCALENDAR
VERSION:2.0
PRODID:-//sehlde.info - ECPv6.15.20//NONSGML v1.0//EN
CALSCALE:GREGORIAN
METHOD:PUBLISH
X-ORIGINAL-URL:https://sehlde.info/content
X-WR-CALDESC:Veranstaltungen für sehlde.info
REFRESH-INTERVAL;VALUE=DURATION:PT1H
X-Robots-Tag:noindex
X-PUBLISHED-TTL:PT1H
BEGIN:VTIMEZONE
TZID:Europe/Berlin
BEGIN:DAYLIGHT
TZOFFSETFROM:+0100
TZOFFSETTO:+0200
TZNAME:CEST
DTSTART:20210328T010000
END:DAYLIGHT
BEGIN:STANDARD
TZOFFSETFROM:+0200
TZOFFSETTO:+0100
TZNAME:CET
DTSTART:20211031T010000
END:STANDARD
BEGIN:DAYLIGHT
TZOFFSETFROM:+0100
TZOFFSETTO:+0200
TZNAME:CEST
DTSTART:20220327T010000
END:DAYLIGHT
BEGIN:STANDARD
TZOFFSETFROM:+0200
TZOFFSETTO:+0100
TZNAME:CET
DTSTART:20221030T010000
END:STANDARD
BEGIN:DAYLIGHT
TZOFFSETFROM:+0100
TZOFFSETTO:+0200
TZNAME:CEST
DTSTART:20230326T010000
END:DAYLIGHT
BEGIN:STANDARD
TZOFFSETFROM:+0200
TZOFFSETTO:+0100
TZNAME:CET
DTSTART:20231029T010000
END:STANDARD
END:VTIMEZONE
BEGIN:VEVENT
DTSTART;TZID=Europe/Berlin:20221101T190000
DTEND;TZID=Europe/Berlin:20221101T190000
DTSTAMP:20260419T142704
CREATED:20211207T162103Z
LAST-MODIFIED:20211207T162103Z
UID:2872-1667329200-1667329200@sehlde.info
SUMMARY:Terminabsprache
DESCRIPTION:
URL:https://sehlde.info/content/event/terminabsprache-3/
CATEGORIES:Gemeinde,Vereinekalender
END:VEVENT
BEGIN:VEVENT
DTSTART;TZID=Europe/Berlin:20221105T150000
DTEND;TZID=Europe/Berlin:20221105T150000
DTSTAMP:20260419T142704
CREATED:20211207T162105Z
LAST-MODIFIED:20211207T162105Z
UID:2873-1667660400-1667660400@sehlde.info
SUMMARY:Hubertusschießen
DESCRIPTION:
URL:https://sehlde.info/content/event/hubertusschiessen-11/
LOCATION:Schützenhaus\, l498\, Sehlde\, 38279\, Deutschland
CATEGORIES:Schützenverein,Vereinekalender
ORGANIZER;CN="KKS Waldheil Sehlde e.V.":MAILTO:info@waldheil-sehlde.de
END:VEVENT
BEGIN:VEVENT
DTSTART;TZID=Europe/Berlin:20221111T000000
DTEND;TZID=Europe/Berlin:20221111T000000
DTSTAMP:20260419T142704
CREATED:20211207T162106Z
LAST-MODIFIED:20211207T162106Z
UID:2874-1668124800-1668124800@sehlde.info
SUMMARY:Lampionumzug
DESCRIPTION:
URL:https://sehlde.info/content/event/lampionumzug-5/
LOCATION:Schulhof
CATEGORIES:Gemeinde,Grundschule,Vereinekalender
END:VEVENT
BEGIN:VEVENT
DTSTART;TZID=Europe/Berlin:20221112T180000
DTEND;TZID=Europe/Berlin:20221112T180000
DTSTAMP:20260419T142704
CREATED:20211207T162109Z
LAST-MODIFIED:20211207T162109Z
UID:2875-1668276000-1668276000@sehlde.info
SUMMARY:Volkstrauertag
DESCRIPTION:
URL:https://sehlde.info/content/event/volkstrauertag-2/
LOCATION:Sehlder Kirche\, An der Kirche 1\, Sehlde\, 38279\, Deutschland
CATEGORIES:Kirchengemeinde,Vereinekalender
END:VEVENT
BEGIN:VEVENT
DTSTART;TZID=Europe/Berlin:20221116T180000
DTEND;TZID=Europe/Berlin:20221116T180000
DTSTAMP:20260419T142704
CREATED:20211207T162113Z
LAST-MODIFIED:20211207T162113Z
UID:2876-1668621600-1668621600@sehlde.info
SUMMARY:Buß- und Bettag
DESCRIPTION:
URL:https://sehlde.info/content/event/buss-und-bettag/
LOCATION:Kirche Haverlah\, Hauptstraße 17\, Haverlah\, 38275\, Deutschland
CATEGORIES:Kirchengemeinde,Vereinekalender
END:VEVENT
BEGIN:VEVENT
DTSTART;TZID=Europe/Berlin:20221119T190000
DTEND;TZID=Europe/Berlin:20221119T190000
DTSTAMP:20260419T142704
CREATED:20211207T162114Z
LAST-MODIFIED:20211207T162114Z
UID:2877-1668884400-1668884400@sehlde.info
SUMMARY:Grünkohlessen
DESCRIPTION:
URL:https://sehlde.info/content/event/gruenkohlessen-3/
CATEGORIES:Feuerwehr,Vereinekalender
END:VEVENT
BEGIN:VEVENT
DTSTART;TZID=Europe/Berlin:20221127T140000
DTEND;TZID=Europe/Berlin:20221127T140000
DTSTAMP:20260419T142704
CREATED:20211207T162114Z
LAST-MODIFIED:20211207T162114Z
UID:2878-1669557600-1669557600@sehlde.info
SUMMARY:Nachmittag der Begegnung
DESCRIPTION:
URL:https://sehlde.info/content/event/nachmittag-der-begegnung-7/
CATEGORIES:Kirchengemeinde,Vereinekalender
END:VEVENT
END:VCALENDAR