BEGIN:VCALENDAR
VERSION:2.0
PRODID:-//sehlde.info - ECPv6.15.20//NONSGML v1.0//EN
CALSCALE:GREGORIAN
METHOD:PUBLISH
X-ORIGINAL-URL:https://sehlde.info/content
X-WR-CALDESC:Veranstaltungen für sehlde.info
REFRESH-INTERVAL;VALUE=DURATION:PT1H
X-Robots-Tag:noindex
X-PUBLISHED-TTL:PT1H
BEGIN:VTIMEZONE
TZID:Europe/Berlin
BEGIN:DAYLIGHT
TZOFFSETFROM:+0100
TZOFFSETTO:+0200
TZNAME:CEST
DTSTART:20220327T010000
END:DAYLIGHT
BEGIN:STANDARD
TZOFFSETFROM:+0200
TZOFFSETTO:+0100
TZNAME:CET
DTSTART:20221030T010000
END:STANDARD
BEGIN:DAYLIGHT
TZOFFSETFROM:+0100
TZOFFSETTO:+0200
TZNAME:CEST
DTSTART:20230326T010000
END:DAYLIGHT
BEGIN:STANDARD
TZOFFSETFROM:+0200
TZOFFSETTO:+0100
TZNAME:CET
DTSTART:20231029T010000
END:STANDARD
BEGIN:DAYLIGHT
TZOFFSETFROM:+0100
TZOFFSETTO:+0200
TZNAME:CEST
DTSTART:20240331T010000
END:DAYLIGHT
BEGIN:STANDARD
TZOFFSETFROM:+0200
TZOFFSETTO:+0100
TZNAME:CET
DTSTART:20241027T010000
END:STANDARD
END:VTIMEZONE
BEGIN:VEVENT
DTSTART;TZID=Europe/Berlin:20230303T150000
DTEND;TZID=Europe/Berlin:20230303T150000
DTSTAMP:20260420T132550
CREATED:20221122T054105Z
LAST-MODIFIED:20221122T054105Z
UID:3263-1677855600-1677855600@sehlde.info
SUMMARY:Weltgebetstag\, anschl. Kaffee
DESCRIPTION:
URL:https://sehlde.info/content/event/weltgebetstag-anschl-kaffee/
LOCATION:Sehlder Kirche\, An der Kirche 1\, Sehlde\, 38279\, Deutschland
CATEGORIES:Kirchengemeinde,Öffentlich,Vereinekalender
END:VEVENT
BEGIN:VEVENT
DTSTART;TZID=Europe/Berlin:20230304T113000
DTEND;TZID=Europe/Berlin:20230304T113000
DTSTAMP:20260420T132550
CREATED:20221120T141737Z
LAST-MODIFIED:20230225T070715Z
UID:3121-1677929400-1677929400@sehlde.info
SUMMARY:Abschluss Zirkusprojekt
DESCRIPTION:
URL:https://sehlde.info/content/event/abschluss-zirkusprojekt/
LOCATION:Sporthalle Baddeckenstedt\, Lichtenbergster Straße 14\, Baddeckenstedt\, 38271
CATEGORIES:Grundschule / Schulverein,Jugend/ Kinder,Öffentlich,Vereinekalender
ATTACH;FMTTYPE=image/jpeg:https://sehlde.info/content/wp-content/uploads/2023/02/Grundschule-Sehlde-Zirkusprojekt.jpeg
END:VEVENT
BEGIN:VEVENT
DTSTART;TZID=Europe/Berlin:20230305T093000
DTEND;TZID=Europe/Berlin:20230305T093000
DTSTAMP:20260420T132550
CREATED:20221120T141737Z
LAST-MODIFIED:20221122T053959Z
UID:3122-1678008600-1678008600@sehlde.info
SUMMARY:Frühschoppenschießen
DESCRIPTION:
URL:https://sehlde.info/content/event/fruehschoppenschiessen-3/
LOCATION:Schützenhaus\, l498\, Sehlde\, 38279\, Deutschland
CATEGORIES:Öffentlich,Schützenverein,Vereinekalender
ORGANIZER;CN="KKS Waldheil Sehlde e.V.":MAILTO:info@waldheil-sehlde.de
END:VEVENT
BEGIN:VEVENT
DTSTART;TZID=Europe/Berlin:20230310T190000
DTEND;TZID=Europe/Berlin:20230310T190000
DTSTAMP:20260420T132550
CREATED:20221120T141738Z
LAST-MODIFIED:20221122T053959Z
UID:3123-1678474800-1678474800@sehlde.info
SUMMARY:Er & Sie Schießen
DESCRIPTION:
URL:https://sehlde.info/content/event/er-sie-schiessen-3/
LOCATION:Schützenhaus\, l498\, Sehlde\, 38279\, Deutschland
CATEGORIES:Mit Voranmeldung,Öffentlich,Schützenverein,Vereinekalender
ORGANIZER;CN="KKS Waldheil Sehlde e.V.":MAILTO:info@waldheil-sehlde.de
END:VEVENT
BEGIN:VEVENT
DTSTART;TZID=Europe/Berlin:20230317T190000
DTEND;TZID=Europe/Berlin:20230317T190000
DTSTAMP:20260420T132550
CREATED:20221228T150916Z
LAST-MODIFIED:20221228T150916Z
UID:3269-1679079600-1679079600@sehlde.info
SUMMARY:JHV Sportverein
DESCRIPTION:
URL:https://sehlde.info/content/event/jhv-sportverein-2/
LOCATION:Sporthalle Sehlde\, Sportplatz Birkenweg\, Sehlde\, 38279\, Deutschland
CATEGORIES:Sportverein
END:VEVENT
END:VCALENDAR