BEGIN:VCALENDAR
VERSION:2.0
PRODID:-//sehlde.info - ECPv6.15.20//NONSGML v1.0//EN
CALSCALE:GREGORIAN
METHOD:PUBLISH
X-ORIGINAL-URL:https://sehlde.info/content
X-WR-CALDESC:Veranstaltungen für sehlde.info
REFRESH-INTERVAL;VALUE=DURATION:PT1H
X-Robots-Tag:noindex
X-PUBLISHED-TTL:PT1H
BEGIN:VTIMEZONE
TZID:Europe/Berlin
BEGIN:DAYLIGHT
TZOFFSETFROM:+0100
TZOFFSETTO:+0200
TZNAME:CEST
DTSTART:20220327T010000
END:DAYLIGHT
BEGIN:STANDARD
TZOFFSETFROM:+0200
TZOFFSETTO:+0100
TZNAME:CET
DTSTART:20221030T010000
END:STANDARD
BEGIN:DAYLIGHT
TZOFFSETFROM:+0100
TZOFFSETTO:+0200
TZNAME:CEST
DTSTART:20230326T010000
END:DAYLIGHT
BEGIN:STANDARD
TZOFFSETFROM:+0200
TZOFFSETTO:+0100
TZNAME:CET
DTSTART:20231029T010000
END:STANDARD
BEGIN:DAYLIGHT
TZOFFSETFROM:+0100
TZOFFSETTO:+0200
TZNAME:CEST
DTSTART:20240331T010000
END:DAYLIGHT
BEGIN:STANDARD
TZOFFSETFROM:+0200
TZOFFSETTO:+0100
TZNAME:CET
DTSTART:20241027T010000
END:STANDARD
END:VTIMEZONE
BEGIN:VEVENT
DTSTART;TZID=Europe/Berlin:20230401T090000
DTEND;TZID=Europe/Berlin:20230401T090000
DTSTAMP:20260420T132550
CREATED:20221120T141738Z
LAST-MODIFIED:20221122T053959Z
UID:3124-1680339600-1680339600@sehlde.info
SUMMARY:Holzeinfuhr Osterfeuer
DESCRIPTION:
URL:https://sehlde.info/content/event/holzeinfuhr-osterfeuer/
LOCATION:Ortsgebiet\, Sehlde\, 38279\, Deutschland
CATEGORIES:Mit Voranmeldung,Öffentlich,Schützenverein,Vereinekalender
ORGANIZER;CN="KKS Waldheil Sehlde e.V.":MAILTO:info@waldheil-sehlde.de
END:VEVENT
BEGIN:VEVENT
DTSTART;TZID=Europe/Berlin:20230402T093000
DTEND;TZID=Europe/Berlin:20230402T093000
DTSTAMP:20260420T132550
CREATED:20221120T141738Z
LAST-MODIFIED:20221122T053959Z
UID:3125-1680427800-1680427800@sehlde.info
SUMMARY:Frühschoppenschießen
DESCRIPTION:
URL:https://sehlde.info/content/event/fruehschoppenschiessen-4/
LOCATION:Schützenhaus\, l498\, Sehlde\, 38279\, Deutschland
CATEGORIES:Öffentlich,Schützenverein,Vereinekalender
ORGANIZER;CN="KKS Waldheil Sehlde e.V.":MAILTO:info@waldheil-sehlde.de
END:VEVENT
BEGIN:VEVENT
DTSTART;TZID=Europe/Berlin:20230407T093000
DTEND;TZID=Europe/Berlin:20230407T093000
DTSTAMP:20260420T132550
CREATED:20221120T141743Z
LAST-MODIFIED:20221228T151307Z
UID:3127-1680859800-1680859800@sehlde.info
SUMMARY:GD Karfreitag
DESCRIPTION:
URL:https://sehlde.info/content/event/gd-karfreitag/
CATEGORIES:Kirchengemeinde,Öffentlich,Vereinekalender
END:VEVENT
BEGIN:VEVENT
DTSTART;TZID=Europe/Berlin:20230408T180000
DTEND;TZID=Europe/Berlin:20230408T180000
DTSTAMP:20260420T132550
CREATED:20221120T141743Z
LAST-MODIFIED:20221122T054004Z
UID:3128-1680976800-1680976800@sehlde.info
SUMMARY:Osterfeuer
DESCRIPTION:
URL:https://sehlde.info/content/event/osterfeuer-8/
LOCATION:Schützenhauswiese\, L498\, Sehlde\, 38279
CATEGORIES:Jugend/ Kinder,Öffentlich,Schützenverein,Vereinekalender
ORGANIZER;CN="KKS Waldheil Sehlde e.V.":MAILTO:info@waldheil-sehlde.de
END:VEVENT
BEGIN:VEVENT
DTSTART;TZID=Europe/Berlin:20230410T093000
DTEND;TZID=Europe/Berlin:20230410T093000
DTSTAMP:20260420T132550
CREATED:20221120T141743Z
LAST-MODIFIED:20221122T054004Z
UID:3129-1681119000-1681119000@sehlde.info
SUMMARY:GD Ostermontag
DESCRIPTION:
URL:https://sehlde.info/content/event/gd-ostermontag/
CATEGORIES:Kirchengemeinde,Öffentlich,Vereinekalender
END:VEVENT
BEGIN:VEVENT
DTSTART;TZID=Europe/Berlin:20230414T190000
DTEND;TZID=Europe/Berlin:20230414T190000
DTSTAMP:20260420T132550
CREATED:20221120T141743Z
LAST-MODIFIED:20221122T054004Z
UID:3130-1681498800-1681498800@sehlde.info
SUMMARY:Er & Sie Schießen
DESCRIPTION:
URL:https://sehlde.info/content/event/er-sie-schiessen-4/
LOCATION:Schützenhaus\, l498\, Sehlde\, 38279\, Deutschland
CATEGORIES:Mit Voranmeldung,Öffentlich,Schützenverein,Vereinekalender
ORGANIZER;CN="KKS Waldheil Sehlde e.V.":MAILTO:info@waldheil-sehlde.de
END:VEVENT
BEGIN:VEVENT
DTSTART;TZID=Europe/Berlin:20230430T140000
DTEND;TZID=Europe/Berlin:20230430T140000
DTSTAMP:20260420T132550
CREATED:20221120T141742Z
LAST-MODIFIED:20221122T054004Z
UID:3126-1682863200-1682863200@sehlde.info
SUMMARY:Maibaumaufstellen unter Vorbehalt
DESCRIPTION:
URL:https://sehlde.info/content/event/maibaumaufstellen-unter-vorbehalt/
CATEGORIES:Feuerwehr,Öffentlich,Vereinekalender
END:VEVENT
END:VCALENDAR