BEGIN:VCALENDAR
VERSION:2.0
PRODID:-//sehlde.info - ECPv6.15.20//NONSGML v1.0//EN
CALSCALE:GREGORIAN
METHOD:PUBLISH
X-ORIGINAL-URL:https://sehlde.info/content
X-WR-CALDESC:Veranstaltungen für sehlde.info
REFRESH-INTERVAL;VALUE=DURATION:PT1H
X-Robots-Tag:noindex
X-PUBLISHED-TTL:PT1H
BEGIN:VTIMEZONE
TZID:Europe/Berlin
BEGIN:DAYLIGHT
TZOFFSETFROM:+0100
TZOFFSETTO:+0200
TZNAME:CEST
DTSTART:20220327T010000
END:DAYLIGHT
BEGIN:STANDARD
TZOFFSETFROM:+0200
TZOFFSETTO:+0100
TZNAME:CET
DTSTART:20221030T010000
END:STANDARD
BEGIN:DAYLIGHT
TZOFFSETFROM:+0100
TZOFFSETTO:+0200
TZNAME:CEST
DTSTART:20230326T010000
END:DAYLIGHT
BEGIN:STANDARD
TZOFFSETFROM:+0200
TZOFFSETTO:+0100
TZNAME:CET
DTSTART:20231029T010000
END:STANDARD
BEGIN:DAYLIGHT
TZOFFSETFROM:+0100
TZOFFSETTO:+0200
TZNAME:CEST
DTSTART:20240331T010000
END:DAYLIGHT
BEGIN:STANDARD
TZOFFSETFROM:+0200
TZOFFSETTO:+0100
TZNAME:CET
DTSTART:20241027T010000
END:STANDARD
END:VTIMEZONE
BEGIN:VEVENT
DTSTART;TZID=Europe/Berlin:20230501T090000
DTEND;TZID=Europe/Berlin:20230501T090000
DTSTAMP:20260424T123808
CREATED:20221120T141747Z
LAST-MODIFIED:20221122T054009Z
UID:3131-1682931600-1682931600@sehlde.info
SUMMARY:Treckerausfahrt
DESCRIPTION:
URL:https://sehlde.info/content/event/treckerausfahrt-2/
CATEGORIES:Auf Einladung,Treckervereinigung,Vereinekalender
END:VEVENT
BEGIN:VEVENT
DTSTART;TZID=Europe/Berlin:20230506T130000
DTEND;TZID=Europe/Berlin:20230506T130000
DTSTAMP:20260424T123808
CREATED:20221120T141747Z
LAST-MODIFIED:20221122T054009Z
UID:3132-1683378000-1683378000@sehlde.info
SUMMARY:Sehlder Pokalschießen
DESCRIPTION:
URL:https://sehlde.info/content/event/sehlder-pokalschiessen-2/
LOCATION:Schützenhauswiese\, L498\, Sehlde\, 38279
CATEGORIES:Öffentlich,Schützenverein,Vereinekalender
ORGANIZER;CN="KKS Waldheil Sehlde e.V.":MAILTO:info@waldheil-sehlde.de
END:VEVENT
BEGIN:VEVENT
DTSTART;TZID=Europe/Berlin:20230507T093000
DTEND;TZID=Europe/Berlin:20230507T093000
DTSTAMP:20260424T123808
CREATED:20221120T141748Z
LAST-MODIFIED:20221122T054009Z
UID:3133-1683451800-1683451800@sehlde.info
SUMMARY:Frühschoppenschießen
DESCRIPTION:
URL:https://sehlde.info/content/event/fruehschoppenschiessen-5/
LOCATION:Schützenhaus\, l498\, Sehlde\, 38279\, Deutschland
CATEGORIES:Öffentlich,Schützenverein,Vereinekalender
ORGANIZER;CN="KKS Waldheil Sehlde e.V.":MAILTO:info@waldheil-sehlde.de
END:VEVENT
BEGIN:VEVENT
DTSTART;TZID=Europe/Berlin:20230513T140000
DTEND;TZID=Europe/Berlin:20230513T140000
DTSTAMP:20260424T123808
CREATED:20221120T141748Z
LAST-MODIFIED:20221122T054009Z
UID:3134-1683986400-1683986400@sehlde.info
SUMMARY:Yton Bildhauerei für Erwachsene
DESCRIPTION:
URL:https://sehlde.info/content/event/yton-bildhauerei-fuer-erwachsene/
LOCATION:Frau Spieker\, Dunkle Straße 1a\, Sehlde\, 38279\, Deutschland
CATEGORIES:Kulturinitiative,Mit Voranmeldung,Vereinekalender
END:VEVENT
BEGIN:VEVENT
DTSTART;TZID=Europe/Berlin:20230518T100000
DTEND;TZID=Europe/Berlin:20230518T100000
DTSTAMP:20260424T123808
CREATED:20221120T141748Z
LAST-MODIFIED:20221122T054009Z
UID:3135-1684404000-1684404000@sehlde.info
SUMMARY:Himmelfahrts GD
DESCRIPTION:
URL:https://sehlde.info/content/event/himmelfahrts-gd/
CATEGORIES:Kirchengemeinde,Öffentlich,Vereinekalender
END:VEVENT
BEGIN:VEVENT
DTSTART;TZID=Europe/Berlin:20230521T090000
DTEND;TZID=Europe/Berlin:20230521T090000
DTSTAMP:20260424T123808
CREATED:20221120T141752Z
LAST-MODIFIED:20230416T152129Z
UID:3136-1684659600-1684659600@sehlde.info
SUMMARY:Familien-Fahrradtour
DESCRIPTION:
URL:https://sehlde.info/content/event/familien-fahrradtour/
CATEGORIES:Mit Voranmeldung,Öffentlich,SPD Sehlde,Vereinekalender
ATTACH;FMTTYPE=image/jpeg:https://sehlde.info/content/wp-content/uploads/2022/11/Radtour.jpeg
END:VEVENT
BEGIN:VEVENT
DTSTART;TZID=Europe/Berlin:20230528T150000
DTEND;TZID=Europe/Berlin:20230528T150000
DTSTAMP:20260424T123808
CREATED:20221120T141753Z
LAST-MODIFIED:20221122T054014Z
UID:3137-1685286000-1685286000@sehlde.info
SUMMARY:Pop-Up Cafe
DESCRIPTION:
URL:https://sehlde.info/content/event/pop-up-cafe-3/
LOCATION:Bushaltestelle Grundschule\, Heerer Straße 5\, 38279 Sehlde\, Deutschland
CATEGORIES:Kulturinitiative,Öffentlich,Vereinekalender
END:VEVENT
BEGIN:VEVENT
DTSTART;TZID=Europe/Berlin:20230529T140000
DTEND;TZID=Europe/Berlin:20230529T140000
DTSTAMP:20260424T123808
CREATED:20221120T141753Z
LAST-MODIFIED:20221122T054014Z
UID:3138-1685368800-1685368800@sehlde.info
SUMMARY:Pfarrfest
DESCRIPTION:
URL:https://sehlde.info/content/event/pfarrfest-3/
LOCATION:Kirche Heere\, ggü Hauptstraße 2\, Heere\, 38277\, Deutschland
CATEGORIES:Jugend/ Kinder,Kirchengemeinde,Öffentlich,Vereinekalender
END:VEVENT
END:VCALENDAR