BEGIN:VCALENDAR
VERSION:2.0
PRODID:-//sehlde.info - ECPv6.15.20//NONSGML v1.0//EN
CALSCALE:GREGORIAN
METHOD:PUBLISH
X-ORIGINAL-URL:https://sehlde.info/content
X-WR-CALDESC:Veranstaltungen für sehlde.info
REFRESH-INTERVAL;VALUE=DURATION:PT1H
X-Robots-Tag:noindex
X-PUBLISHED-TTL:PT1H
BEGIN:VTIMEZONE
TZID:Europe/Berlin
BEGIN:DAYLIGHT
TZOFFSETFROM:+0100
TZOFFSETTO:+0200
TZNAME:CEST
DTSTART:20220327T010000
END:DAYLIGHT
BEGIN:STANDARD
TZOFFSETFROM:+0200
TZOFFSETTO:+0100
TZNAME:CET
DTSTART:20221030T010000
END:STANDARD
BEGIN:DAYLIGHT
TZOFFSETFROM:+0100
TZOFFSETTO:+0200
TZNAME:CEST
DTSTART:20230326T010000
END:DAYLIGHT
BEGIN:STANDARD
TZOFFSETFROM:+0200
TZOFFSETTO:+0100
TZNAME:CET
DTSTART:20231029T010000
END:STANDARD
BEGIN:DAYLIGHT
TZOFFSETFROM:+0100
TZOFFSETTO:+0200
TZNAME:CEST
DTSTART:20240331T010000
END:DAYLIGHT
BEGIN:STANDARD
TZOFFSETFROM:+0200
TZOFFSETTO:+0100
TZNAME:CET
DTSTART:20241027T010000
END:STANDARD
END:VTIMEZONE
BEGIN:VEVENT
DTSTART;TZID=Europe/Berlin:20230603T000000
DTEND;TZID=Europe/Berlin:20230603T000000
DTSTAMP:20260424T141503
CREATED:20221120T141753Z
LAST-MODIFIED:20221122T054014Z
UID:3139-1685750400-1685750400@sehlde.info
SUMMARY:Scheunenkino
DESCRIPTION:
URL:https://sehlde.info/content/event/scheunenkino-2/
LOCATION:Treckerhalle\, ggü. Heerer Straße 5\, Sehlde\, 38279\, Deutschland
CATEGORIES:Jugend/ Kinder,Kulturinitiative,Öffentlich,OTV,Vereinekalender
END:VEVENT
BEGIN:VEVENT
DTSTART;TZID=Europe/Berlin:20230603T110000
DTEND;TZID=Europe/Berlin:20230603T110000
DTSTAMP:20260424T141503
CREATED:20221120T141753Z
LAST-MODIFIED:20221122T054014Z
UID:3140-1685790000-1685790000@sehlde.info
SUMMARY:Konfirmation
DESCRIPTION:
URL:https://sehlde.info/content/event/konfirmation-5/
LOCATION:Sehlder Kirche\, An der Kirche 1\, Sehlde\, 38279\, Deutschland
CATEGORIES:Kirchengemeinde,Vereinekalender
END:VEVENT
BEGIN:VEVENT
DTSTART;TZID=Europe/Berlin:20230604T093000
DTEND;TZID=Europe/Berlin:20230604T093000
DTSTAMP:20260424T141503
CREATED:20221120T141757Z
LAST-MODIFIED:20221122T054019Z
UID:3141-1685871000-1685871000@sehlde.info
SUMMARY:Frühschoppenschießen
DESCRIPTION:
URL:https://sehlde.info/content/event/fruehschoppenschiessen-6/
LOCATION:Schützenhaus\, l498\, Sehlde\, 38279\, Deutschland
CATEGORIES:Öffentlich,Schützenverein,Vereinekalender
ORGANIZER;CN="KKS Waldheil Sehlde e.V.":MAILTO:info@waldheil-sehlde.de
END:VEVENT
BEGIN:VEVENT
DTSTART;TZID=Europe/Berlin:20230609T190000
DTEND;TZID=Europe/Berlin:20230609T190000
DTSTAMP:20260424T141503
CREATED:20221120T141758Z
LAST-MODIFIED:20221122T054019Z
UID:3142-1686337200-1686337200@sehlde.info
SUMMARY:Er & Sie Schießen
DESCRIPTION:
URL:https://sehlde.info/content/event/er-sie-schiessen-5/
LOCATION:Schützenhaus\, l498\, Sehlde\, 38279\, Deutschland
CATEGORIES:Mit Voranmeldung,Öffentlich,Schützenverein,Vereinekalender
ORGANIZER;CN="KKS Waldheil Sehlde e.V.":MAILTO:info@waldheil-sehlde.de
END:VEVENT
BEGIN:VEVENT
DTSTART;TZID=Europe/Berlin:20230610T130000
DTEND;TZID=Europe/Berlin:20230610T130000
DTSTAMP:20260424T141503
CREATED:20221120T141758Z
LAST-MODIFIED:20221122T054019Z
UID:3143-1686402000-1686402000@sehlde.info
SUMMARY:Konfirmation Heere
DESCRIPTION:
URL:https://sehlde.info/content/event/konfirmation-heere-3/
LOCATION:Kirche Heere\, ggü Hauptstraße 2\, Heere\, 38277\, Deutschland
CATEGORIES:Kirchengemeinde,Vereinekalender
END:VEVENT
BEGIN:VEVENT
DTSTART;TZID=Europe/Berlin:20230617T120000
DTEND;TZID=Europe/Berlin:20230617T120000
DTSTAMP:20260424T141503
CREATED:20221120T141758Z
LAST-MODIFIED:20221122T054019Z
UID:3145-1687003200-1687003200@sehlde.info
SUMMARY:Familientag und Königsschießen
DESCRIPTION:
URL:https://sehlde.info/content/event/familientag-und-koenigsschiessen/
LOCATION:Schützenhauswiese\, L498\, Sehlde\, 38279
CATEGORIES:Jugend/ Kinder,Öffentlich,Schützenverein,Vereinekalender
ORGANIZER;CN="KKS Waldheil Sehlde e.V.":MAILTO:info@waldheil-sehlde.de
END:VEVENT
BEGIN:VEVENT
DTSTART;TZID=Europe/Berlin:20230617T190000
DTEND;TZID=Europe/Berlin:20230617T190000
DTSTAMP:20260424T141503
CREATED:20221120T141758Z
LAST-MODIFIED:20221122T054019Z
UID:3144-1687028400-1687028400@sehlde.info
SUMMARY:JHV
DESCRIPTION:
URL:https://sehlde.info/content/event/jhv-3/
LOCATION:Treckerhalle\, ggü. Heerer Straße 5\, Sehlde\, 38279\, Deutschland
CATEGORIES:Treckervereinigung,Vereinekalender
END:VEVENT
BEGIN:VEVENT
DTSTART;TZID=Europe/Berlin:20230618T190000
DTEND;TZID=Europe/Berlin:20230618T190000
DTSTAMP:20260424T141503
CREATED:20221120T141803Z
LAST-MODIFIED:20221122T054024Z
UID:3146-1687114800-1687114800@sehlde.info
SUMMARY:Kultur im Stall
DESCRIPTION:
URL:https://sehlde.info/content/event/kultur-im-stall/
LOCATION:Sehlder Mühle\, Wiesenstraße 1\, Sehlde\, 38279
CATEGORIES:Kulturinitiative,Öffentlich,Vereinekalender
END:VEVENT
BEGIN:VEVENT
DTSTART;TZID=Europe/Berlin:20230623T000000
DTEND;TZID=Europe/Berlin:20230623T000000
DTSTAMP:20260424T141503
CREATED:20221120T141803Z
LAST-MODIFIED:20221122T054024Z
UID:3147-1687478400-1687478400@sehlde.info
SUMMARY:Königsschießen
DESCRIPTION:
URL:https://sehlde.info/content/event/koenigsschiessen-10/
LOCATION:Schützenhaus\, l498\, Sehlde\, 38279\, Deutschland
CATEGORIES:Öffentlich,Schützenverein,Vereinekalender
ORGANIZER;CN="KKS Waldheil Sehlde e.V.":MAILTO:info@waldheil-sehlde.de
END:VEVENT
BEGIN:VEVENT
DTSTART;TZID=Europe/Berlin:20230630T000000
DTEND;TZID=Europe/Berlin:20230630T000000
DTSTAMP:20260424T141503
CREATED:20221120T141803Z
LAST-MODIFIED:20221122T054024Z
UID:3148-1688083200-1688083200@sehlde.info
SUMMARY:Königsschießen
DESCRIPTION:
URL:https://sehlde.info/content/event/koenigsschiessen-11/
LOCATION:Schützenhaus\, l498\, Sehlde\, 38279\, Deutschland
CATEGORIES:Öffentlich,Schützenverein,Vereinekalender
ORGANIZER;CN="KKS Waldheil Sehlde e.V.":MAILTO:info@waldheil-sehlde.de
END:VEVENT
END:VCALENDAR