BEGIN:VCALENDAR
VERSION:2.0
PRODID:-//sehlde.info - ECPv6.15.20//NONSGML v1.0//EN
CALSCALE:GREGORIAN
METHOD:PUBLISH
X-ORIGINAL-URL:https://sehlde.info/content
X-WR-CALDESC:Veranstaltungen für sehlde.info
REFRESH-INTERVAL;VALUE=DURATION:PT1H
X-Robots-Tag:noindex
X-PUBLISHED-TTL:PT1H
BEGIN:VTIMEZONE
TZID:Europe/Berlin
BEGIN:DAYLIGHT
TZOFFSETFROM:+0100
TZOFFSETTO:+0200
TZNAME:CEST
DTSTART:20220327T010000
END:DAYLIGHT
BEGIN:STANDARD
TZOFFSETFROM:+0200
TZOFFSETTO:+0100
TZNAME:CET
DTSTART:20221030T010000
END:STANDARD
BEGIN:DAYLIGHT
TZOFFSETFROM:+0100
TZOFFSETTO:+0200
TZNAME:CEST
DTSTART:20230326T010000
END:DAYLIGHT
BEGIN:STANDARD
TZOFFSETFROM:+0200
TZOFFSETTO:+0100
TZNAME:CET
DTSTART:20231029T010000
END:STANDARD
BEGIN:DAYLIGHT
TZOFFSETFROM:+0100
TZOFFSETTO:+0200
TZNAME:CEST
DTSTART:20240331T010000
END:DAYLIGHT
BEGIN:STANDARD
TZOFFSETFROM:+0200
TZOFFSETTO:+0100
TZNAME:CET
DTSTART:20241027T010000
END:STANDARD
END:VTIMEZONE
BEGIN:VEVENT
DTSTART;TZID=Europe/Berlin:20230819T094500
DTEND;TZID=Europe/Berlin:20230819T094500
DTSTAMP:20260424T174945
CREATED:20221120T141808Z
LAST-MODIFIED:20221122T054029Z
UID:3154-1692438300-1692438300@sehlde.info
SUMMARY:Einschulung
DESCRIPTION:
URL:https://sehlde.info/content/event/einschulung-4/
LOCATION:Schulhof
CATEGORIES:Grundschule / Schulverein,Vereinekalender
END:VEVENT
BEGIN:VEVENT
DTSTART;TZID=Europe/Berlin:20230826T140000
DTEND;TZID=Europe/Berlin:20230826T140000
DTSTAMP:20260424T174945
CREATED:20221120T141808Z
LAST-MODIFIED:20221122T054029Z
UID:3155-1693058400-1693058400@sehlde.info
SUMMARY:Hubertas Kinderfest
DESCRIPTION:
URL:https://sehlde.info/content/event/hubertas-kinderfest/
CATEGORIES:Jugend/ Kinder,Öffentlich,Sehlder Vereine,Vereinekalender
END:VEVENT
BEGIN:VEVENT
DTSTART;TZID=Europe/Berlin:20230827T000000
DTEND;TZID=Europe/Berlin:20230827T000000
DTSTAMP:20260424T174945
CREATED:20221120T141813Z
LAST-MODIFIED:20221122T054034Z
UID:3156-1693094400-1693094400@sehlde.info
SUMMARY:Schützenfrühstück
DESCRIPTION:
URL:https://sehlde.info/content/event/schuetzenfruehstueck-5/
LOCATION:Schützenhaus\, l498\, Sehlde\, 38279\, Deutschland
CATEGORIES:Mit Voranmeldung,Öffentlich,Schützenverein,Vereinekalender
ORGANIZER;CN="KKS Waldheil Sehlde e.V.":MAILTO:info@waldheil-sehlde.de
END:VEVENT
END:VCALENDAR