BEGIN:VCALENDAR
VERSION:2.0
PRODID:-//sehlde.info - ECPv6.15.20//NONSGML v1.0//EN
CALSCALE:GREGORIAN
METHOD:PUBLISH
X-WR-CALNAME:sehlde.info
X-ORIGINAL-URL:https://sehlde.info/content
X-WR-CALDESC:Veranstaltungen für sehlde.info
REFRESH-INTERVAL;VALUE=DURATION:PT1H
X-Robots-Tag:noindex
X-PUBLISHED-TTL:PT1H
BEGIN:VTIMEZONE
TZID:Europe/Berlin
BEGIN:DAYLIGHT
TZOFFSETFROM:+0100
TZOFFSETTO:+0200
TZNAME:CEST
DTSTART:20220327T010000
END:DAYLIGHT
BEGIN:STANDARD
TZOFFSETFROM:+0200
TZOFFSETTO:+0100
TZNAME:CET
DTSTART:20221030T010000
END:STANDARD
BEGIN:DAYLIGHT
TZOFFSETFROM:+0100
TZOFFSETTO:+0200
TZNAME:CEST
DTSTART:20230326T010000
END:DAYLIGHT
BEGIN:STANDARD
TZOFFSETFROM:+0200
TZOFFSETTO:+0100
TZNAME:CET
DTSTART:20231029T010000
END:STANDARD
BEGIN:DAYLIGHT
TZOFFSETFROM:+0100
TZOFFSETTO:+0200
TZNAME:CEST
DTSTART:20240331T010000
END:DAYLIGHT
BEGIN:STANDARD
TZOFFSETFROM:+0200
TZOFFSETTO:+0100
TZNAME:CET
DTSTART:20241027T010000
END:STANDARD
END:VTIMEZONE
BEGIN:VEVENT
DTSTART;TZID=Europe/Berlin:20231201T170000
DTEND;TZID=Europe/Berlin:20231201T170000
DTSTAMP:20260425T005141
CREATED:20221120T141833Z
LAST-MODIFIED:20221122T054054Z
UID:3178-1701450000-1701450000@sehlde.info
SUMMARY:Lagerfeuergeschichten für Kinder
DESCRIPTION:
URL:https://sehlde.info/content/event/lagerfeuergeschichten-fuer-kinder/
LOCATION:Frau Spieker\, Dunkle Straße 1a\, Sehlde\, 38279\, Deutschland
CATEGORIES:Jugend/ Kinder,Kulturinitiative,Mit Voranmeldung,Öffentlich,Vereinekalender
END:VEVENT
BEGIN:VEVENT
DTSTART;TZID=Europe/Berlin:20231203T140000
DTEND;TZID=Europe/Berlin:20231203T140000
DTSTAMP:20260425T005141
CREATED:20221120T141833Z
LAST-MODIFIED:20221122T054054Z
UID:3179-1701612000-1701612000@sehlde.info
SUMMARY:Nachmittag der Begegnung
DESCRIPTION:
URL:https://sehlde.info/content/event/nachmittag-der-begegnung-8/
LOCATION:Kirche Heere\, ggü Hauptstraße 2\, Heere\, 38277\, Deutschland
CATEGORIES:Kirchengemeinde,Öffentlich,Vereinekalender
END:VEVENT
BEGIN:VEVENT
DTSTART;TZID=Europe/Berlin:20231209T000000
DTEND;TZID=Europe/Berlin:20231209T000000
DTSTAMP:20260425T005141
CREATED:20221120T141833Z
LAST-MODIFIED:20221122T054054Z
UID:3180-1702080000-1702080000@sehlde.info
SUMMARY:Frühschoppenabschluss
DESCRIPTION:
URL:https://sehlde.info/content/event/fruehschoppenabschluss-4/
LOCATION:Schützenhaus\, l498\, Sehlde\, 38279\, Deutschland
CATEGORIES:Auf Einladung,Schützenverein,Vereinekalender
ORGANIZER;CN="KKS Waldheil Sehlde e.V.":MAILTO:info@waldheil-sehlde.de
END:VEVENT
BEGIN:VEVENT
DTSTART;TZID=Europe/Berlin:20231210T150000
DTEND;TZID=Europe/Berlin:20231210T150000
DTSTAMP:20260425T005141
CREATED:20221120T141838Z
LAST-MODIFIED:20230925T034450Z
UID:3181-1702220400-1702220400@sehlde.info
SUMMARY:Adventsfeier
DESCRIPTION:
URL:https://sehlde.info/content/event/adventsfeier-3/
CATEGORIES:Auf Einladung,Gemeinde,Kirchengemeinde,Vereinekalender
END:VEVENT
BEGIN:VEVENT
DTSTART;TZID=Europe/Berlin:20231215T170000
DTEND;TZID=Europe/Berlin:20231215T170000
DTSTAMP:20260425T005141
CREATED:20221120T141838Z
LAST-MODIFIED:20230925T035117Z
UID:3182-1702659600-1702659600@sehlde.info
SUMMARY:Lagerfeuergeschichten für Kinder
DESCRIPTION:
URL:https://sehlde.info/content/event/lagerfeuergeschichten-fuer-kinder-2/
CATEGORIES:Kulturinitiative,Mit Voranmeldung,Öffentlich,Vereinekalender
END:VEVENT
BEGIN:VEVENT
DTSTART;TZID=Europe/Berlin:20231216T150000
DTEND;TZID=Europe/Berlin:20231216T150000
DTSTAMP:20260425T005141
CREATED:20221122T054104Z
LAST-MODIFIED:20230925T035117Z
UID:3261-1702738800-1702738800@sehlde.info
SUMMARY:Adventssingen
DESCRIPTION:
URL:https://sehlde.info/content/event/adventssingen-5/
LOCATION:Sehlder Kirche\, An der Kirche 1\, Sehlde\, 38279\, Deutschland
CATEGORIES:Kirchengemeinde,Öffentlich,Vereinekalender
END:VEVENT
BEGIN:VEVENT
DTSTART;TZID=Europe/Berlin:20231216T160000
DTEND;TZID=Europe/Berlin:20231216T160000
DTSTAMP:20260425T005141
CREATED:20221120T141838Z
LAST-MODIFIED:20230925T035118Z
UID:3183-1702742400-1702742400@sehlde.info
SUMMARY:Weihnachtsmarkt
DESCRIPTION:
URL:https://sehlde.info/content/event/weihnachtsmarkt-6/
LOCATION:Schulhof
CATEGORIES:Jugend/ Kinder,Öffentlich,Sehlder Vereine,Vereinekalender
END:VEVENT
BEGIN:VEVENT
DTSTART;TZID=Europe/Berlin:20231224T163000
DTEND;TZID=Europe/Berlin:20231224T163000
DTSTAMP:20260425T005141
CREATED:20221120T141838Z
LAST-MODIFIED:20230925T035118Z
UID:3184-1703435400-1703435400@sehlde.info
SUMMARY:Gottesdienst
DESCRIPTION:
URL:https://sehlde.info/content/event/gottesdienst-8/
LOCATION:Sehlder Kirche\, An der Kirche 1\, Sehlde\, 38279\, Deutschland
CATEGORIES:Kirchengemeinde,Öffentlich,Vereinekalender
END:VEVENT
BEGIN:VEVENT
DTSTART;TZID=Europe/Berlin:20231225T093000
DTEND;TZID=Europe/Berlin:20231225T093000
DTSTAMP:20260425T005141
CREATED:20221120T141838Z
LAST-MODIFIED:20230925T035118Z
UID:3185-1703496600-1703496600@sehlde.info
SUMMARY:Gottesdienst
DESCRIPTION:
URL:https://sehlde.info/content/event/gottesdienst-9/
LOCATION:Sehlder Kirche\, An der Kirche 1\, Sehlde\, 38279\, Deutschland
CATEGORIES:Kirchengemeinde,Öffentlich,Vereinekalender
END:VEVENT
END:VCALENDAR