BEGIN:VCALENDAR
VERSION:2.0
PRODID:-//sehlde.info - ECPv6.15.20//NONSGML v1.0//EN
CALSCALE:GREGORIAN
METHOD:PUBLISH
X-ORIGINAL-URL:https://sehlde.info/content
X-WR-CALDESC:Veranstaltungen für sehlde.info
REFRESH-INTERVAL;VALUE=DURATION:PT1H
X-Robots-Tag:noindex
X-PUBLISHED-TTL:PT1H
BEGIN:VTIMEZONE
TZID:Europe/Berlin
BEGIN:DAYLIGHT
TZOFFSETFROM:+0100
TZOFFSETTO:+0200
TZNAME:CEST
DTSTART:20230326T010000
END:DAYLIGHT
BEGIN:STANDARD
TZOFFSETFROM:+0200
TZOFFSETTO:+0100
TZNAME:CET
DTSTART:20231029T010000
END:STANDARD
BEGIN:DAYLIGHT
TZOFFSETFROM:+0100
TZOFFSETTO:+0200
TZNAME:CEST
DTSTART:20240331T010000
END:DAYLIGHT
BEGIN:STANDARD
TZOFFSETFROM:+0200
TZOFFSETTO:+0100
TZNAME:CET
DTSTART:20241027T010000
END:STANDARD
BEGIN:DAYLIGHT
TZOFFSETFROM:+0100
TZOFFSETTO:+0200
TZNAME:CEST
DTSTART:20250330T010000
END:DAYLIGHT
BEGIN:STANDARD
TZOFFSETFROM:+0200
TZOFFSETTO:+0100
TZNAME:CET
DTSTART:20251026T010000
END:STANDARD
END:VTIMEZONE
BEGIN:VEVENT
DTSTART;TZID=Europe/Berlin:20240804T093000
DTEND;TZID=Europe/Berlin:20240804T093000
DTSTAMP:20260425T135354
CREATED:20231121T165431Z
LAST-MODIFIED:20241021T042248Z
UID:3362-1722763800-1722763800@sehlde.info
SUMMARY:Frühschoppenschießen (KKS)
DESCRIPTION:
URL:https://sehlde.info/content/event/fruehschoppenschiessen-kks-8/
LOCATION:Schützenhaus\, l498\, Sehlde\, 38279\, Deutschland
CATEGORIES:Öffentlich,Schützenverein,Vereinekalender
ORGANIZER;CN="KKS Waldheil Sehlde e.V.":MAILTO:info@waldheil-sehlde.de
END:VEVENT
BEGIN:VEVENT
DTSTART;TZID=Europe/Berlin:20240804T150000
DTEND;TZID=Europe/Berlin:20240804T150000
DTSTAMP:20260425T135354
CREATED:20231121T165431Z
LAST-MODIFIED:20241021T042248Z
UID:3363-1722783600-1722783600@sehlde.info
SUMMARY:Pop Up Kaffe (KI)
DESCRIPTION:
URL:https://sehlde.info/content/event/pop-up-kaffe-ki/
CATEGORIES:Kulturinitiative,Öffentlich,Vereinekalender
END:VEVENT
BEGIN:VEVENT
DTSTART;TZID=Europe/Berlin:20240810T094500
DTEND;TZID=Europe/Berlin:20240810T094500
DTSTAMP:20260425T135354
CREATED:20231121T165431Z
LAST-MODIFIED:20241021T042248Z
UID:3364-1723283100-1723283100@sehlde.info
SUMMARY:Einschulung mit GD (Div)
DESCRIPTION:
URL:https://sehlde.info/content/event/einschulung-mit-gd-div/
LOCATION:Schulhof
CATEGORIES:Vereinekalender
END:VEVENT
BEGIN:VEVENT
DTSTART;TZID=Europe/Berlin:20240812T150000
DTEND;TZID=Europe/Berlin:20240812T150000
DTSTAMP:20260425T135354
CREATED:20240713T065230Z
LAST-MODIFIED:20240713T065230Z
UID:3760-1723474800-1723474800@sehlde.info
SUMMARY:Bürgercafe im Sportheim (SSV)
DESCRIPTION:Am Montag\, den 12. August 2024 um 15:00 Uhr findet im Sportheim das nächste BÜRGERCAFE statt. Dieses Angebot richtet sich an alle Bürger\, nicht nur an Senioren. Beim Bürgercafe im Juli waren es schon rund 20 Gäste\, die den Duft von selbstgebackenem Kuchen und frisch gebrühtem Kaffee genießen konnten. Es wurden angeregte Gespräche geführt und Bingo gespielt. Weitersagen!
URL:https://sehlde.info/content/event/buergercafe-im-sportheim-ssv/
LOCATION:Sportheim\, Birkenweg\, Sehlde\, 38279\, Deutschland
CATEGORIES:Gemeinde,Sportverein
END:VEVENT
BEGIN:VEVENT
DTSTART;TZID=Europe/Berlin:20240813T180000
DTEND;TZID=Europe/Berlin:20240813T180000
DTSTAMP:20260425T135354
CREATED:20240623T112921Z
LAST-MODIFIED:20241021T042253Z
UID:3706-1723572000-1723572000@sehlde.info
SUMMARY:Sportheimtag (SSV)
DESCRIPTION:
URL:https://sehlde.info/content/event/sportheimtag-ssv/
CATEGORIES:Öffentlich,Sportverein,Vereinekalender
END:VEVENT
BEGIN:VEVENT
DTSTART;TZID=Europe/Berlin:20240817T140000
DTEND;TZID=Europe/Berlin:20240817T140000
DTSTAMP:20260425T135354
CREATED:20231121T165431Z
LAST-MODIFIED:20241021T042253Z
UID:3365-1723903200-1723903200@sehlde.info
SUMMARY:Gemeindenfest mit Verabschiedung Pfarrer Ohm (KG)
DESCRIPTION:
URL:https://sehlde.info/content/event/gemeindenfest-mit-verabschiedung-pfarrer-ohm-kg/
LOCATION:Martin-Luther-Haus\, An der Kirche 1\, Sehlde\, 38279\, Deutschland
CATEGORIES:Kirchengemeinde,Vereinekalender
END:VEVENT
BEGIN:VEVENT
DTSTART;TZID=Europe/Berlin:20240824T140000
DTEND;TZID=Europe/Berlin:20240824T140000
DTSTAMP:20260425T135354
CREATED:20240623T112921Z
LAST-MODIFIED:20241021T042253Z
UID:3707-1724508000-1724508000@sehlde.info
SUMMARY:Sporttag (SSV)
DESCRIPTION:
URL:https://sehlde.info/content/event/sporttag-ssv-3/
LOCATION:Sportplatz Sehlde\, Birkenweg 3\, Sehlde\, 38279\, Deutschland
CATEGORIES:Jugend/ Kinder,Öffentlich,Sportverein,Vereinekalender
END:VEVENT
BEGIN:VEVENT
DTSTART;TZID=Europe/Berlin:20240827T180000
DTEND;TZID=Europe/Berlin:20240827T180000
DTSTAMP:20260425T135354
CREATED:20240623T112921Z
LAST-MODIFIED:20241021T042253Z
UID:3708-1724781600-1724781600@sehlde.info
SUMMARY:Sportheimtag (SSV)
DESCRIPTION:
URL:https://sehlde.info/content/event/sportheimtag-ssv-2/
CATEGORIES:Öffentlich,Sportverein,Vereinekalender
END:VEVENT
BEGIN:VEVENT
DTSTART;TZID=Europe/Berlin:20240828T150000
DTEND;TZID=Europe/Berlin:20240828T150000
DTSTAMP:20260425T135354
CREATED:20240509T075055Z
LAST-MODIFIED:20241021T042253Z
UID:3561-1724857200-1724857200@sehlde.info
SUMMARY:Frauencafe im MLH (FH)
DESCRIPTION:
URL:https://sehlde.info/content/event/frauencafe-im-mlh-fh-4/
LOCATION:Martin-Luther-Haus\, An der Kirche 1\, Sehlde\, 38279\, Deutschland
CATEGORIES:Öffentlich,Sehlder Frauentreff,Vereinekalender
END:VEVENT
BEGIN:VEVENT
DTSTART;TZID=Europe/Berlin:20240831T110000
DTEND;TZID=Europe/Berlin:20240831T110000
DTSTAMP:20260425T135354
CREATED:20240623T112926Z
LAST-MODIFIED:20241021T042258Z
UID:3710-1725102000-1725102000@sehlde.info
SUMMARY:20 Jahre OTV (OTV)
DESCRIPTION:Der Festausschuss hat bereits eifrig geplant und sich zweimal getroffen\, um das Programm für die große Jubiläumsfeier festzulegen. Folgendes erwartet die Gäste: \n    11.00 Uhr: Start auf dem Sportplatz\n    13.00 Uhr: Offizielle Eröffnung mit Grußworten\n    14.00 Uhr: Spektakuläre Treckerrundfahrt durch Sehlde\n    15.30-17.30 Uhr: Musikalische Unterhaltung durch den Musikzug Mahner \nFreuen Sie sich auf ein spannendes Kinderprogramm mit Spielmobil\, Bubble Bälle\, Hüpfburg und Ponyreiten. Für das leibliche Wohl ist ebenfalls gesorgt: Leckereien vom Grillstand sowie Kaffee und Kuchen erwarten Sie. Besuchen Sie auch die Verkaufsstände der Fleischerei Bremer und des Treckerausrüsters Giermann. \nHelfer gesucht! \n\nWir freuen uns auf Ihr Kommen und auf eine unvergessliche Jubiläumsfeier!
URL:https://sehlde.info/content/event/20-jahre-otv-otv-3/
CATEGORIES:Jugend/ Kinder,Öffentlich,Treckervereinigung,Vereinekalender
END:VEVENT
END:VCALENDAR