BEGIN:VCALENDAR
VERSION:2.0
PRODID:-//sehlde.info - ECPv6.15.20//NONSGML v1.0//EN
CALSCALE:GREGORIAN
METHOD:PUBLISH
X-WR-CALNAME:sehlde.info
X-ORIGINAL-URL:https://sehlde.info/content
X-WR-CALDESC:Veranstaltungen für sehlde.info
REFRESH-INTERVAL;VALUE=DURATION:PT1H
X-Robots-Tag:noindex
X-PUBLISHED-TTL:PT1H
BEGIN:VTIMEZONE
TZID:Europe/Berlin
BEGIN:DAYLIGHT
TZOFFSETFROM:+0100
TZOFFSETTO:+0200
TZNAME:CEST
DTSTART:20230326T010000
END:DAYLIGHT
BEGIN:STANDARD
TZOFFSETFROM:+0200
TZOFFSETTO:+0100
TZNAME:CET
DTSTART:20231029T010000
END:STANDARD
BEGIN:DAYLIGHT
TZOFFSETFROM:+0100
TZOFFSETTO:+0200
TZNAME:CEST
DTSTART:20240331T010000
END:DAYLIGHT
BEGIN:STANDARD
TZOFFSETFROM:+0200
TZOFFSETTO:+0100
TZNAME:CET
DTSTART:20241027T010000
END:STANDARD
BEGIN:DAYLIGHT
TZOFFSETFROM:+0100
TZOFFSETTO:+0200
TZNAME:CEST
DTSTART:20250330T010000
END:DAYLIGHT
BEGIN:STANDARD
TZOFFSETFROM:+0200
TZOFFSETTO:+0100
TZNAME:CET
DTSTART:20251026T010000
END:STANDARD
END:VTIMEZONE
BEGIN:VEVENT
DTSTART;TZID=Europe/Berlin:20241105T180000
DTEND;TZID=Europe/Berlin:20241105T180000
DTSTAMP:20260425T185859
CREATED:20240623T112947Z
LAST-MODIFIED:20241021T042318Z
UID:3728-1730829600-1730829600@sehlde.info
SUMMARY:Sportheimtag (SSV)
DESCRIPTION:
URL:https://sehlde.info/content/event/sportheimtag-ssv-12/
CATEGORIES:Öffentlich,Sportverein,Vereinekalender
END:VEVENT
BEGIN:VEVENT
DTSTART;TZID=Europe/Berlin:20241108T170000
DTEND;TZID=Europe/Berlin:20241108T170000
DTSTAMP:20260425T185859
CREATED:20231121T165446Z
LAST-MODIFIED:20241021T042318Z
UID:3377-1731085200-1731085200@sehlde.info
SUMMARY:Martinsfest m. Umzug (GS)
DESCRIPTION:
URL:https://sehlde.info/content/event/martinsfest-m-umzug-gs/
LOCATION:Schulhof
CATEGORIES:Grundschule / Schulverein,Vereinekalender
END:VEVENT
BEGIN:VEVENT
DTSTART;TZID=Europe/Berlin:20241112T180000
DTEND;TZID=Europe/Berlin:20241112T180000
DTSTAMP:20260425T185859
CREATED:20240623T112947Z
LAST-MODIFIED:20241021T042318Z
UID:3730-1731434400-1731434400@sehlde.info
SUMMARY:Sportheimtag (SSV)
DESCRIPTION:
URL:https://sehlde.info/content/event/sportheimtag-ssv-13/
CATEGORIES:Öffentlich,Sportverein,Vereinekalender
END:VEVENT
BEGIN:VEVENT
DTSTART;TZID=Europe/Berlin:20241116T180000
DTEND;TZID=Europe/Berlin:20241116T180000
DTSTAMP:20260425T185859
CREATED:20231121T165446Z
LAST-MODIFIED:20241021T042323Z
UID:3378-1731780000-1731780000@sehlde.info
SUMMARY:Volkstrauertag (Div)
DESCRIPTION:
URL:https://sehlde.info/content/event/volkstrauertag-div/
LOCATION:Sehlder Kirche\, An der Kirche 1\, Sehlde\, 38279\, Deutschland
CATEGORIES:Öffentlich,Sehlder Vereine,Vereinekalender
END:VEVENT
BEGIN:VEVENT
DTSTART;TZID=Europe/Berlin:20241119T180000
DTEND;TZID=Europe/Berlin:20241119T180000
DTSTAMP:20260425T185859
CREATED:20240623T112951Z
LAST-MODIFIED:20241021T042323Z
UID:3732-1732039200-1732039200@sehlde.info
SUMMARY:Sportheimtag (SSV)
DESCRIPTION:
URL:https://sehlde.info/content/event/sportheimtag-ssv-14/
CATEGORIES:Öffentlich,Sportverein,Vereinekalender
END:VEVENT
BEGIN:VEVENT
DTSTART;TZID=Europe/Berlin:20241123T190000
DTEND;TZID=Europe/Berlin:20241123T190000
DTSTAMP:20260425T185859
CREATED:20231121T165446Z
LAST-MODIFIED:20241021T042323Z
UID:3379-1732388400-1732388400@sehlde.info
SUMMARY:Grünkohlessen (FF)
DESCRIPTION:
URL:https://sehlde.info/content/event/gruenkohlessen-ff/
LOCATION:Feuerwehrhaus\, Am Friedhof\, Sehlde\, 38279\, Deutschland
CATEGORIES:Feuerwehr,Vereinekalender
END:VEVENT
BEGIN:VEVENT
DTSTART;TZID=Europe/Berlin:20241126T180000
DTEND;TZID=Europe/Berlin:20241126T180000
DTSTAMP:20260425T185859
CREATED:20240623T112951Z
LAST-MODIFIED:20241021T042323Z
UID:3734-1732644000-1732644000@sehlde.info
SUMMARY:Sportheimtag (SSV)
DESCRIPTION:
URL:https://sehlde.info/content/event/sportheimtag-ssv-15/
CATEGORIES:Öffentlich,Sportverein,Vereinekalender
END:VEVENT
BEGIN:VEVENT
DTSTART;TZID=Europe/Berlin:20241127T150000
DTEND;TZID=Europe/Berlin:20241127T150000
DTSTAMP:20260425T185859
CREATED:20240623T112951Z
LAST-MODIFIED:20241021T042323Z
UID:3735-1732719600-1732719600@sehlde.info
SUMMARY:Frauencafe im MLH (FH)
DESCRIPTION:
URL:https://sehlde.info/content/event/frauencafe-im-mlh-fh-7/
LOCATION:Martin-Luther-Haus\, An der Kirche 1\, Sehlde\, 38279\, Deutschland
CATEGORIES:Öffentlich,Sehlder Frauentreff,Vereinekalender
END:VEVENT
BEGIN:VEVENT
DTSTART;TZID=Europe/Berlin:20241130T190000
DTEND;TZID=Europe/Berlin:20241130T190000
DTSTAMP:20260425T185859
CREATED:20231121T165447Z
LAST-MODIFIED:20241021T042328Z
UID:3380-1732993200-1732993200@sehlde.info
SUMMARY:Hubertusabschluss/ Proklamation (KKS)
DESCRIPTION:
URL:https://sehlde.info/content/event/hubertusabschluss-proklamation-kks/
LOCATION:Schützenhaus\, l498\, Sehlde\, 38279\, Deutschland
CATEGORIES:Mit Voranmeldung,Öffentlich,Schützenverein,Vereinekalender
ORGANIZER;CN="KKS Waldheil Sehlde e.V.":MAILTO:info@waldheil-sehlde.de
END:VEVENT
END:VCALENDAR