BEGIN:VCALENDAR
VERSION:2.0
PRODID:-//sehlde.info - ECPv6.15.20//NONSGML v1.0//EN
CALSCALE:GREGORIAN
METHOD:PUBLISH
X-WR-CALNAME:sehlde.info
X-ORIGINAL-URL:https://sehlde.info/content
X-WR-CALDESC:Veranstaltungen für sehlde.info
REFRESH-INTERVAL;VALUE=DURATION:PT1H
X-Robots-Tag:noindex
X-PUBLISHED-TTL:PT1H
BEGIN:VTIMEZONE
TZID:Europe/Berlin
BEGIN:DAYLIGHT
TZOFFSETFROM:+0100
TZOFFSETTO:+0200
TZNAME:CEST
DTSTART:20230326T010000
END:DAYLIGHT
BEGIN:STANDARD
TZOFFSETFROM:+0200
TZOFFSETTO:+0100
TZNAME:CET
DTSTART:20231029T010000
END:STANDARD
BEGIN:DAYLIGHT
TZOFFSETFROM:+0100
TZOFFSETTO:+0200
TZNAME:CEST
DTSTART:20240331T010000
END:DAYLIGHT
BEGIN:STANDARD
TZOFFSETFROM:+0200
TZOFFSETTO:+0100
TZNAME:CET
DTSTART:20241027T010000
END:STANDARD
BEGIN:DAYLIGHT
TZOFFSETFROM:+0100
TZOFFSETTO:+0200
TZNAME:CEST
DTSTART:20250330T010000
END:DAYLIGHT
BEGIN:STANDARD
TZOFFSETFROM:+0200
TZOFFSETTO:+0100
TZNAME:CET
DTSTART:20251026T010000
END:STANDARD
END:VTIMEZONE
BEGIN:VEVENT
DTSTART;TZID=Europe/Berlin:20241201T140000
DTEND;TZID=Europe/Berlin:20241201T140000
DTSTAMP:20260425T192321
CREATED:20231121T165451Z
LAST-MODIFIED:20241021T042328Z
UID:3381-1733061600-1733061600@sehlde.info
SUMMARY:Nachmittag d. Begegnung (KG)
DESCRIPTION:
URL:https://sehlde.info/content/event/nachmittag-d-begegnung-kg/
CATEGORIES:Kirchengemeinde,Vereinekalender
END:VEVENT
BEGIN:VEVENT
DTSTART;TZID=Europe/Berlin:20241203T180000
DTEND;TZID=Europe/Berlin:20241203T180000
DTSTAMP:20260425T192321
CREATED:20240623T112956Z
LAST-MODIFIED:20241021T042328Z
UID:3738-1733248800-1733248800@sehlde.info
SUMMARY:Sportheimtag (SSV)
DESCRIPTION:Jeden Dienstag ab 18 Uhr: Gemütliches Beisammensein für Jedermann mit Getränken und Snacks. Spannende Darts für Interessierte. Kommen Sie vorbei und genießen Sie den Abend in guter Gesellschaft!
URL:https://sehlde.info/content/event/sportheimtag-ssv-16/
CATEGORIES:Öffentlich,Sportverein,Vereinekalender
END:VEVENT
BEGIN:VEVENT
DTSTART;VALUE=DATE:20241207
DTEND;VALUE=DATE:20241208
DTSTAMP:20260425T192321
CREATED:20231121T165451Z
LAST-MODIFIED:20241206T200940Z
UID:3382-1733529600-1733615999@sehlde.info
SUMMARY:Frühschoppenabschluss (KKS)
DESCRIPTION:
URL:https://sehlde.info/content/event/fruehschoppenabschluss-kks/
LOCATION:Schützenhaus\, l498\, Sehlde\, 38279\, Deutschland
CATEGORIES:Auf Einladung,Mit Voranmeldung,Schützenverein,Vereinekalender
ORGANIZER;CN="KKS Waldheil Sehlde e.V.":MAILTO:info@waldheil-sehlde.de
END:VEVENT
BEGIN:VEVENT
DTSTART;TZID=Europe/Berlin:20241208T150000
DTEND;TZID=Europe/Berlin:20241208T150000
DTSTAMP:20260425T192321
CREATED:20231121T165451Z
LAST-MODIFIED:20241021T042328Z
UID:3383-1733670000-1733670000@sehlde.info
SUMMARY:Seniorenadventsfeier (Div)
DESCRIPTION:
URL:https://sehlde.info/content/event/seniorenadventsfeier-div/
CATEGORIES:Gemeinde,Kirchengemeinde,Vereinekalender
END:VEVENT
BEGIN:VEVENT
DTSTART;TZID=Europe/Berlin:20241210T180000
DTEND;TZID=Europe/Berlin:20241210T180000
DTSTAMP:20260425T192321
CREATED:20240623T113001Z
LAST-MODIFIED:20240623T113001Z
UID:3741-1733853600-1733853600@sehlde.info
SUMMARY:Sportheimtag (SSV)
DESCRIPTION:Seid ihr bereit für einen ganz besonderen Nachmittag? Denn jeden letzten Mittwoch im Monat lädt das Martin Luther Haus alle Sehlder Frauen herzlich zum gemütlichen Kaffeetrinken ein! Taucht ein in eine entspannte Atmosphäre\, genießt köstlichen Kaffee und verbringt gemeinsam eine schöne Zeit. Die Veranstaltung startet um 15 Uhr und ist für jede Sehlderin offen! Ansprechpartnerin für weitere Informationen ist Siegrid Schwager. Wir freuen uns darauf\, euch bei unserem nächsten Treffen zu begrüßen! ????
URL:https://sehlde.info/content/event/sportheimtag-ssv-17/
CATEGORIES:Öffentlich,Sportverein,Vereinekalender
END:VEVENT
BEGIN:VEVENT
DTSTART;TZID=Europe/Berlin:20241211T190000
DTEND;TZID=Europe/Berlin:20241211T190000
DTSTAMP:20260425T192321
CREATED:20241206T180759Z
LAST-MODIFIED:20241206T180759Z
UID:3974-1733943600-1733943600@sehlde.info
SUMMARY:Gemeinderatssitzung
DESCRIPTION:Einladung zur Gemeinderatssitzung: Wichtige Themen für die Gemeinde\n\n\nAm Mittwoch\, den 11. Dezember 2024\, findet die nächste öffentliche Gemeinderatssitzung der Gemeinde Sehlde statt. Im Sportheim Sehlde werden unter anderem der Haushaltsplan 2025\, ein Antrag zur Änderung der Geschäftsordnung und die Ernennung eines neuen Ortsheimatpflegers besprochen. \n#Sehlde #Gemeinderat #Ortsheimatpflege #Kultur #Mitgestalten \nEin besonderer Tagesordnungspunkt ist die geplante Ernennung eines neuen Ortsheimatpflegers. Die Gemeinde hat nach einer geeigneten Person gesucht und ist nun bereit\, diese wichtige Position neu zu besetzen. Ortsheimatpflegerinnen und Ortsheimatpfleger übernehmen eine zentrale Rolle im Erhalt und der Förderung der lokalen Geschichte und Kultur. Sie dokumentieren historische Entwicklungen\, pflegen das kulturelle Erbe und tragen aktiv zur Identität der Gemeinde bei. Mit ihrer Arbeit schaffen sie eine Verbindung zwischen Vergangenheit\, Gegenwart und Zukunft. \nDie Sitzung bietet zudem die Gelegenheit\, über die Stärkung der Transparenz in Ausschüssen zu diskutieren. Ein Antrag sieht vor\, Ausschüsse der Gemeinde zukünftig öffentlich tagen zu lassen. Dies soll demokratische Prozesse nachvollziehbarer machen und die Bürgerbeteiligung fördern. \n\nSitzungstermin:\nDatum: Mittwoch\, 11. Dezember 2024\nZeit: 19:00 Uhr\nOrt: Sportheim Sehlde\, Birkenweg 3\, 38279 Sehlde \nDie Gemeinderatssitzung ist eine hervorragende Gelegenheit\, aktiv am Gemeindeleben teilzuhaben und sich über die neuesten Entwicklungen zu informieren. Einwohnerinnen und Einwohner können in der Einwohnerfragestunde ihre Anliegen und Fragen direkt vorbringen.
URL:https://sehlde.info/content/event/gemeinderatssitzung-3/
LOCATION:Sportheim\, Birkenweg\, Sehlde\, 38279\, Deutschland
CATEGORIES:Gemeinde,Öffentlich
ATTACH;FMTTYPE=image/png:https://sehlde.info/content/wp-content/uploads/2020/08/Nuvola_apps_date.svg_.png
END:VEVENT
BEGIN:VEVENT
DTSTART;TZID=Europe/Berlin:20241217T180000
DTEND;TZID=Europe/Berlin:20241217T180000
DTSTAMP:20260425T192321
CREATED:20240623T113001Z
LAST-MODIFIED:20240623T113001Z
UID:3742-1734458400-1734458400@sehlde.info
SUMMARY:Sportheimtag (SSV)
DESCRIPTION:Seid ihr bereit für einen ganz besonderen Nachmittag? Denn jeden letzten Mittwoch im Monat lädt das Martin Luther Haus alle Sehlder Frauen herzlich zum gemütlichen Kaffeetrinken ein! Taucht ein in eine entspannte Atmosphäre\, genießt köstlichen Kaffee und verbringt gemeinsam eine schöne Zeit. Die Veranstaltung startet um 15 Uhr und ist für jede Sehlderin offen! Ansprechpartnerin für weitere Informationen ist Siegrid Schwager. Wir freuen uns darauf\, euch bei unserem nächsten Treffen zu begrüßen! ????
URL:https://sehlde.info/content/event/sportheimtag-ssv-18/
CATEGORIES:Öffentlich,Sportverein,Vereinekalender
END:VEVENT
BEGIN:VEVENT
DTSTART;TZID=Europe/Berlin:20241221T160000
DTEND;TZID=Europe/Berlin:20241221T160000
DTSTAMP:20260425T192321
CREATED:20231121T165451Z
LAST-MODIFIED:20240623T113001Z
UID:3384-1734796800-1734796800@sehlde.info
SUMMARY:Weihnachtsmarkt (Div)
DESCRIPTION:Seid ihr bereit für einen ganz besonderen Nachmittag? Denn jeden letzten Mittwoch im Monat lädt das Martin Luther Haus alle Sehlder Frauen herzlich zum gemütlichen Kaffeetrinken ein! Taucht ein in eine entspannte Atmosphäre\, genießt köstlichen Kaffee und verbringt gemeinsam eine schöne Zeit. Die Veranstaltung startet um 15 Uhr und ist für jede Sehlderin offen! Ansprechpartnerin für weitere Informationen ist Siegrid Schwager. Wir freuen uns darauf\, euch bei unserem nächsten Treffen zu begrüßen! ????
URL:https://sehlde.info/content/event/weihnachtsmarkt-div/
LOCATION:Schulhof
CATEGORIES:Jugend/ Kinder,Öffentlich,Sehlder Vereine,Vereinekalender
END:VEVENT
END:VCALENDAR