BEGIN:VCALENDAR
VERSION:2.0
PRODID:-//sehlde.info - ECPv6.15.20//NONSGML v1.0//EN
CALSCALE:GREGORIAN
METHOD:PUBLISH
X-ORIGINAL-URL:https://sehlde.info/content
X-WR-CALDESC:Veranstaltungen für sehlde.info
REFRESH-INTERVAL;VALUE=DURATION:PT1H
X-Robots-Tag:noindex
X-PUBLISHED-TTL:PT1H
BEGIN:VTIMEZONE
TZID:Europe/Berlin
BEGIN:DAYLIGHT
TZOFFSETFROM:+0100
TZOFFSETTO:+0200
TZNAME:CEST
DTSTART:20240331T010000
END:DAYLIGHT
BEGIN:STANDARD
TZOFFSETFROM:+0200
TZOFFSETTO:+0100
TZNAME:CET
DTSTART:20241027T010000
END:STANDARD
BEGIN:DAYLIGHT
TZOFFSETFROM:+0100
TZOFFSETTO:+0200
TZNAME:CEST
DTSTART:20250330T010000
END:DAYLIGHT
BEGIN:STANDARD
TZOFFSETFROM:+0200
TZOFFSETTO:+0100
TZNAME:CET
DTSTART:20251026T010000
END:STANDARD
BEGIN:DAYLIGHT
TZOFFSETFROM:+0100
TZOFFSETTO:+0200
TZNAME:CEST
DTSTART:20260329T010000
END:DAYLIGHT
BEGIN:STANDARD
TZOFFSETFROM:+0200
TZOFFSETTO:+0100
TZNAME:CET
DTSTART:20261025T010000
END:STANDARD
END:VTIMEZONE
BEGIN:VEVENT
DTSTART;TZID=Europe/Berlin:20250111T090000
DTEND;TZID=Europe/Berlin:20250111T090000
DTSTAMP:20260425T174413
CREATED:20241123T085622Z
LAST-MODIFIED:20250326T153446Z
UID:3861-1736586000-1736586000@sehlde.info
SUMMARY:Weihnachtsbäume einsammeln (FF)
DESCRIPTION:
URL:https://sehlde.info/content/event/weihnachtsbaeume-einsammeln-ff/
CATEGORIES:Feuerwehr,Öffentlich,Vereinekalender
END:VEVENT
BEGIN:VEVENT
DTSTART;TZID=Europe/Berlin:20250118T140000
DTEND;TZID=Europe/Berlin:20250118T140000
DTSTAMP:20260425T174413
CREATED:20241123T085623Z
LAST-MODIFIED:20250326T153448Z
UID:3862-1737208800-1737208800@sehlde.info
SUMMARY:Grünkohlwanderung (KKS)
DESCRIPTION:
URL:https://sehlde.info/content/event/gruenkohlwanderung-kks/
CATEGORIES:Mit Voranmeldung,Öffentlich,Schützenverein,Vereinekalender
ORGANIZER;CN="KKS Waldheil Sehlde e.V.":MAILTO:info@waldheil-sehlde.de
END:VEVENT
BEGIN:VEVENT
DTSTART;TZID=Europe/Berlin:20250125T190000
DTEND;TZID=Europe/Berlin:20250125T190000
DTSTAMP:20260425T174413
CREATED:20241123T085623Z
LAST-MODIFIED:20250326T153449Z
UID:3863-1737831600-1737831600@sehlde.info
SUMMARY:Jahreshauptversammlung (FF)
DESCRIPTION:
URL:https://sehlde.info/content/event/jahreshauptversammlung-ff/
CATEGORIES:Feuerwehr,Öffentlich,Vereinekalender
END:VEVENT
BEGIN:VEVENT
DTSTART;TZID=Europe/Berlin:20250129T150000
DTEND;TZID=Europe/Berlin:20250129T150000
DTSTAMP:20260425T174413
CREATED:20250326T153557Z
LAST-MODIFIED:20250326T153557Z
UID:4065-1738162800-1738162800@sehlde.info
SUMMARY:Frauennachmittag (FH)
DESCRIPTION:
URL:https://sehlde.info/content/event/frauennachmittag-fh/
LOCATION:Martin-Luther-Haus\, An der Kirche 1\, Sehlde\, 38279\, Deutschland
CATEGORIES:Öffentlich,Sehlder Frauentreff,Vereinekalender
END:VEVENT
END:VCALENDAR