BEGIN:VCALENDAR
VERSION:2.0
PRODID:-//sehlde.info - ECPv6.15.20//NONSGML v1.0//EN
CALSCALE:GREGORIAN
METHOD:PUBLISH
X-ORIGINAL-URL:https://sehlde.info/content
X-WR-CALDESC:Veranstaltungen für sehlde.info
REFRESH-INTERVAL;VALUE=DURATION:PT1H
X-Robots-Tag:noindex
X-PUBLISHED-TTL:PT1H
BEGIN:VTIMEZONE
TZID:Europe/Berlin
BEGIN:DAYLIGHT
TZOFFSETFROM:+0100
TZOFFSETTO:+0200
TZNAME:CEST
DTSTART:20240331T010000
END:DAYLIGHT
BEGIN:STANDARD
TZOFFSETFROM:+0200
TZOFFSETTO:+0100
TZNAME:CET
DTSTART:20241027T010000
END:STANDARD
BEGIN:DAYLIGHT
TZOFFSETFROM:+0100
TZOFFSETTO:+0200
TZNAME:CEST
DTSTART:20250330T010000
END:DAYLIGHT
BEGIN:STANDARD
TZOFFSETFROM:+0200
TZOFFSETTO:+0100
TZNAME:CET
DTSTART:20251026T010000
END:STANDARD
BEGIN:DAYLIGHT
TZOFFSETFROM:+0100
TZOFFSETTO:+0200
TZNAME:CEST
DTSTART:20260329T010000
END:DAYLIGHT
BEGIN:STANDARD
TZOFFSETFROM:+0200
TZOFFSETTO:+0100
TZNAME:CET
DTSTART:20261025T010000
END:STANDARD
END:VTIMEZONE
BEGIN:VEVENT
DTSTART;TZID=Europe/Berlin:20250307T150000
DTEND;TZID=Europe/Berlin:20250307T150000
DTSTAMP:20260425T121832
CREATED:20250326T153557Z
LAST-MODIFIED:20250326T153557Z
UID:4066-1741359600-1741359600@sehlde.info
SUMMARY:Weltgebetstag (KG)
DESCRIPTION:
URL:https://sehlde.info/content/event/weltgebetstag-kg-2/
LOCATION:Sehlder Kirche\, An der Kirche 1\, Sehlde\, 38279\, Deutschland
CATEGORIES:Kirchengemeinde,Öffentlich,Vereinekalender
END:VEVENT
BEGIN:VEVENT
DTSTART;TZID=Europe/Berlin:20250314T190000
DTEND;TZID=Europe/Berlin:20250314T190000
DTSTAMP:20260425T121832
CREATED:20241123T085626Z
LAST-MODIFIED:20250326T153454Z
UID:3868-1741978800-1741978800@sehlde.info
SUMMARY:Jahreshauptversammlung (SSV)
DESCRIPTION:
URL:https://sehlde.info/content/event/jahreshauptversammlung-ssv/
CATEGORIES:Öffentlich,Sportverein,Vereinekalender
END:VEVENT
BEGIN:VEVENT
DTSTART;TZID=Europe/Berlin:20250315T133000
DTEND;TZID=Europe/Berlin:20250315T133000
DTSTAMP:20260425T121832
CREATED:20241123T085627Z
LAST-MODIFIED:20250326T153454Z
UID:3869-1742045400-1742045400@sehlde.info
SUMMARY:Grünkohlwanderung (OTV)
DESCRIPTION:
URL:https://sehlde.info/content/event/gruenkohlwanderung-otv-2/
CATEGORIES:Treckervereinigung,Vereinekalender
END:VEVENT
END:VCALENDAR