BEGIN:VCALENDAR
VERSION:2.0
PRODID:-//sehlde.info - ECPv6.15.20//NONSGML v1.0//EN
CALSCALE:GREGORIAN
METHOD:PUBLISH
X-ORIGINAL-URL:https://sehlde.info/content
X-WR-CALDESC:Veranstaltungen für sehlde.info
REFRESH-INTERVAL;VALUE=DURATION:PT1H
X-Robots-Tag:noindex
X-PUBLISHED-TTL:PT1H
BEGIN:VTIMEZONE
TZID:Europe/Berlin
BEGIN:DAYLIGHT
TZOFFSETFROM:+0100
TZOFFSETTO:+0200
TZNAME:CEST
DTSTART:20240331T010000
END:DAYLIGHT
BEGIN:STANDARD
TZOFFSETFROM:+0200
TZOFFSETTO:+0100
TZNAME:CET
DTSTART:20241027T010000
END:STANDARD
BEGIN:DAYLIGHT
TZOFFSETFROM:+0100
TZOFFSETTO:+0200
TZNAME:CEST
DTSTART:20250330T010000
END:DAYLIGHT
BEGIN:STANDARD
TZOFFSETFROM:+0200
TZOFFSETTO:+0100
TZNAME:CET
DTSTART:20251026T010000
END:STANDARD
BEGIN:DAYLIGHT
TZOFFSETFROM:+0100
TZOFFSETTO:+0200
TZNAME:CEST
DTSTART:20260329T010000
END:DAYLIGHT
BEGIN:STANDARD
TZOFFSETFROM:+0200
TZOFFSETTO:+0100
TZNAME:CET
DTSTART:20261025T010000
END:STANDARD
END:VTIMEZONE
BEGIN:VEVENT
DTSTART;TZID=Europe/Berlin:20251107T170000
DTEND;TZID=Europe/Berlin:20251107T170000
DTSTAMP:20260422T163653
CREATED:20241123T085647Z
LAST-MODIFIED:20250326T153546Z
UID:3895-1762534800-1762534800@sehlde.info
SUMMARY:Martinsfest mit Umzug (GS)
DESCRIPTION:
URL:https://sehlde.info/content/event/martinsfest-mit-umzug-gs/
LOCATION:Schulhof
CATEGORIES:Grundschule / Schulverein,Jugend/ Kinder,Öffentlich,Vereinekalender
END:VEVENT
BEGIN:VEVENT
DTSTART;TZID=Europe/Berlin:20251108T140000
DTEND;TZID=Europe/Berlin:20251108T140000
DTSTAMP:20260422T163653
CREATED:20241123T085652Z
LAST-MODIFIED:20250326T153546Z
UID:3896-1762610400-1762610400@sehlde.info
SUMMARY:Hubertusschießen & Kaffeetafel (KKS)
DESCRIPTION:
URL:https://sehlde.info/content/event/hubertusschiessen-kaffeetafel-kks/
LOCATION:Schützenhaus\, l498\, Sehlde\, 38279\, Deutschland
CATEGORIES:Öffentlich,Schützenverein,Vereinekalender
ORGANIZER;CN="KKS Waldheil Sehlde e.V.":MAILTO:info@waldheil-sehlde.de
END:VEVENT
BEGIN:VEVENT
DTSTART;TZID=Europe/Berlin:20251112T190000
DTEND;TZID=Europe/Berlin:20251112T190000
DTSTAMP:20260422T163653
CREATED:20241123T085652Z
LAST-MODIFIED:20250326T153546Z
UID:3897-1762974000-1762974000@sehlde.info
SUMMARY:Terminabsprache 2026 (Div)
DESCRIPTION:
URL:https://sehlde.info/content/event/terminabsprache-2026-div/
CATEGORIES:Auf Einladung,Sehlder Vereine,Vereinekalender
END:VEVENT
BEGIN:VEVENT
DTSTART;TZID=Europe/Berlin:20251115T180000
DTEND;TZID=Europe/Berlin:20251115T180000
DTSTAMP:20260422T163653
CREATED:20241123T085652Z
LAST-MODIFIED:20250326T153551Z
UID:3898-1763229600-1763229600@sehlde.info
SUMMARY:Kranzniederlegung und Imbiss (Div)
DESCRIPTION:
URL:https://sehlde.info/content/event/kranzniederlegung-und-imbiss-div/
LOCATION:Sehlder Kirche\, An der Kirche 1\, Sehlde\, 38279\, Deutschland
CATEGORIES:Öffentlich,Sehlder Vereine,Vereinekalender
END:VEVENT
BEGIN:VEVENT
DTSTART;TZID=Europe/Berlin:20251121T180000
DTEND;TZID=Europe/Berlin:20251121T180000
DTSTAMP:20260422T163653
CREATED:20241123T085652Z
LAST-MODIFIED:20250326T153551Z
UID:3899-1763748000-1763748000@sehlde.info
SUMMARY:Hubertusschießen (KKS)
DESCRIPTION:
URL:https://sehlde.info/content/event/hubertusschiessen-kks/
LOCATION:Schützenhaus\, l498\, Sehlde\, 38279\, Deutschland
CATEGORIES:Öffentlich,Schützenverein,Vereinekalender
ORGANIZER;CN="KKS Waldheil Sehlde e.V.":MAILTO:info@waldheil-sehlde.de
END:VEVENT
BEGIN:VEVENT
DTSTART;TZID=Europe/Berlin:20251122T190000
DTEND;TZID=Europe/Berlin:20251122T190000
DTSTAMP:20260422T163653
CREATED:20241123T085652Z
LAST-MODIFIED:20250326T153551Z
UID:3900-1763838000-1763838000@sehlde.info
SUMMARY:Grünkohlessen (FF)
DESCRIPTION:
URL:https://sehlde.info/content/event/gruenkohlessen-ff-2/
LOCATION:Feuerwehrhaus\, Am Friedhof\, Sehlde\, 38279\, Deutschland
CATEGORIES:Auf Einladung,Feuerwehr,Vereinekalender
END:VEVENT
BEGIN:VEVENT
DTSTART;VALUE=DATE:20251129
DTEND;VALUE=DATE:20251130
DTSTAMP:20260422T163653
CREATED:20241123T085657Z
LAST-MODIFIED:20250326T153551Z
UID:3901-1764374400-1764460799@sehlde.info
SUMMARY:Hubertusabschluss (KKS)
DESCRIPTION:
URL:https://sehlde.info/content/event/hubertusabschluss-kks/
LOCATION:Schützenhaus\, l498\, Sehlde\, 38279\, Deutschland
CATEGORIES:Mit Voranmeldung,Öffentlich,Schützenverein,Vereinekalender
ORGANIZER;CN="KKS Waldheil Sehlde e.V.":MAILTO:info@waldheil-sehlde.de
END:VEVENT
END:VCALENDAR