BEGIN:VCALENDAR
VERSION:2.0
PRODID:-//sehlde.info - ECPv6.15.20//NONSGML v1.0//EN
CALSCALE:GREGORIAN
METHOD:PUBLISH
X-WR-CALNAME:sehlde.info
X-ORIGINAL-URL:https://sehlde.info/content
X-WR-CALDESC:Veranstaltungen für sehlde.info
REFRESH-INTERVAL;VALUE=DURATION:PT1H
X-Robots-Tag:noindex
X-PUBLISHED-TTL:PT1H
BEGIN:VTIMEZONE
TZID:Europe/Berlin
BEGIN:DAYLIGHT
TZOFFSETFROM:+0100
TZOFFSETTO:+0200
TZNAME:CEST
DTSTART:20250330T010000
END:DAYLIGHT
BEGIN:STANDARD
TZOFFSETFROM:+0200
TZOFFSETTO:+0100
TZNAME:CET
DTSTART:20251026T010000
END:STANDARD
BEGIN:DAYLIGHT
TZOFFSETFROM:+0100
TZOFFSETTO:+0200
TZNAME:CEST
DTSTART:20260329T010000
END:DAYLIGHT
BEGIN:STANDARD
TZOFFSETFROM:+0200
TZOFFSETTO:+0100
TZNAME:CET
DTSTART:20261025T010000
END:STANDARD
BEGIN:DAYLIGHT
TZOFFSETFROM:+0100
TZOFFSETTO:+0200
TZNAME:CEST
DTSTART:20270328T010000
END:DAYLIGHT
BEGIN:STANDARD
TZOFFSETFROM:+0200
TZOFFSETTO:+0100
TZNAME:CET
DTSTART:20271031T010000
END:STANDARD
END:VTIMEZONE
BEGIN:VEVENT
DTSTART;TZID=Europe/Berlin:20260110T090000
DTEND;TZID=Europe/Berlin:20260110T090000
DTSTAMP:20260422T125855
CREATED:20251222T163016Z
LAST-MODIFIED:20260406T071140Z
UID:4475-1768035600-1768035600@sehlde.info
SUMMARY:Tannenbäume einsammeln (kl. Spende) (FF)
DESCRIPTION:
URL:https://sehlde.info/content/event/tannenbaeume-einsammeln-kl-spende-ff/
LOCATION:Ortsgebiet\, Sehlde\, 38279\, Deutschland
CATEGORIES:Feuerwehr,Öffentlich,Vereinekalender
END:VEVENT
BEGIN:VEVENT
DTSTART;TZID=Europe/Berlin:20260111T093000
DTEND;TZID=Europe/Berlin:20260111T093000
DTSTAMP:20260422T125855
CREATED:20251206T225740Z
LAST-MODIFIED:20260406T071141Z
UID:4356-1768123800-1768123800@sehlde.info
SUMMARY:Gottesdienst (KG)
DESCRIPTION:
URL:https://sehlde.info/content/event/gottesdienst-kg/
LOCATION:Sehlder Kirche\, An der Kirche 1\, Sehlde\, 38279\, Deutschland
CATEGORIES:Kirchengemeinde,Öffentlich
END:VEVENT
BEGIN:VEVENT
DTSTART;TZID=Europe/Berlin:20260111T093000
DTEND;TZID=Europe/Berlin:20260111T093000
DTSTAMP:20260422T125855
CREATED:20260201T092450Z
LAST-MODIFIED:20260201T121355Z
UID:4694-1768123800-1768123800@sehlde.info
SUMMARY:Frühschoppenschießen (KKS)
DESCRIPTION:Einmal im Monat wird das Frühschoppenschießen ausgetragen. Bei diesem lockeren Wettkampf gewinnt jeder Teilnehmer zum Jahresabschluss einen Preis. Geschossen wird KK oder Luftgewehr\, je nach Jahreszeit.
URL:https://sehlde.info/content/event/fruehschoppenschliessen-kks/
LOCATION:Schützenhaus\, l498\, Sehlde\, 38279\, Deutschland
CATEGORIES:Öffentlich,Schützenverein
ORGANIZER;CN="KKS Waldheil Sehlde e.V.":MAILTO:info@waldheil-sehlde.de
END:VEVENT
BEGIN:VEVENT
DTSTART;TZID=Europe/Berlin:20260111T100000
DTEND;TZID=Europe/Berlin:20260111T100000
DTSTAMP:20260422T125855
CREATED:20260201T120002Z
LAST-MODIFIED:20260201T121342Z
UID:4720-1768125600-1768125600@sehlde.info
SUMMARY:Frühschoppenschießen (KKS)
DESCRIPTION:Einmal im Monat wird das Frühschoppenschießen ausgetragen. Bei diesem lockeren Wettkampf gewinnt jeder Teilnehmer zum Jahresabschluss einen Preis. Geschossen wird KK oder Luftgewehr\, je nach Jahreszeit.
URL:https://sehlde.info/content/event/fruehschoppenschliessen-kks-12/
LOCATION:Schützenhaus\, l498\, Sehlde\, 38279\, Deutschland
CATEGORIES:Öffentlich,Schützenverein
ORGANIZER;CN="KKS Waldheil Sehlde e.V.":MAILTO:info@waldheil-sehlde.de
END:VEVENT
BEGIN:VEVENT
DTSTART;TZID=Europe/Berlin:20260112T150000
DTEND;TZID=Europe/Berlin:20260112T150000
DTSTAMP:20260422T125855
CREATED:20251206T225741Z
LAST-MODIFIED:20260406T071142Z
UID:4357-1768230000-1768230000@sehlde.info
SUMMARY:Bürgerkaffee (SSV)
DESCRIPTION:
URL:https://sehlde.info/content/event/buergerkaffee-ssv/
LOCATION:Sportheim\, Birkenweg\, Sehlde\, 38279\, Deutschland
CATEGORIES:Öffentlich,Sportverein,Vereinekalender
END:VEVENT
BEGIN:VEVENT
DTSTART;TZID=Europe/Berlin:20260112T173000
DTEND;TZID=Europe/Berlin:20260112T180000
DTSTAMP:20260422T125855
CREATED:20251206T225742Z
LAST-MODIFIED:20260406T071143Z
UID:4358-1768239000-1768240800@sehlde.info
SUMMARY:Halt Bücherbus (LK WF)
DESCRIPTION:
URL:https://sehlde.info/content/event/halt-buecherbus-lk-wf/
LOCATION:Hubertusstube\, Hubertusstraße 41\, Sehlde\, 38279\, Germany
CATEGORIES:Kinderprogramm,Kreisbücherei WF,Öffentlich
END:VEVENT
BEGIN:VEVENT
DTSTART;TZID=Europe/Berlin:20260125T151100
DTEND;TZID=Europe/Berlin:20260125T151100
DTSTAMP:20260422T125855
CREATED:20251206T225743Z
LAST-MODIFIED:20260406T071143Z
UID:4359-1769353860-1769353860@sehlde.info
SUMMARY:Kinderkarneval (SSV)
DESCRIPTION:Für Kinder jeden Alters. Vorführung der Sölter Karnevalsfreunde und der Tanzgruppe des SSV. Tanzeinlagen\, Spiele\, Kaffee und Kuchen.
URL:https://sehlde.info/content/event/kinderkarneval-ssv/
CATEGORIES:Kinderprogramm,Öffentlich,Sportverein,Vereinekalender
END:VEVENT
BEGIN:VEVENT
DTSTART;TZID=Europe/Berlin:20260129T180000
DTEND;TZID=Europe/Berlin:20260129T180000
DTSTAMP:20260422T125855
CREATED:20260124T140242Z
LAST-MODIFIED:20260406T071147Z
UID:4657-1769709600-1769709600@sehlde.info
SUMMARY:Spieleabend (KG)
DESCRIPTION:Der Spieleabend findet regelmäßig an jedem letzten Donnerstag im Monat im Martin-Luther-Haus Sehlde statt. Beginn ist um 18.00 Uhr\, ein späteres Dazukommen ist jederzeit möglich\, das Ende ergibt sich im Laufe des Abends. Eingeladen sind Jugendliche ab etwa 15 Jahren sowie Erwachsene jeden Alters\, unabhängig von Spielerfahrung oder Vorkenntnissen. Gespielt werden moderne Brett- und Kartenspiele ebenso wie klassische Spiele\, je nach Interesse der Teilnehmerinnen und Teilnehmer. Die Teilnahme ist kostenfrei\, eine Anmeldung ist nicht erforderlich. Getränke\, kleine Snacks und eigene Spiele können gern mitgebracht werden.
URL:https://sehlde.info/content/event/spieleabend-kg/
CATEGORIES:Kirchengemeinde,Öffentlich
END:VEVENT
BEGIN:VEVENT
DTSTART;TZID=Europe/Berlin:20260131T190000
DTEND;TZID=Europe/Berlin:20260131T190000
DTSTAMP:20260422T125855
CREATED:20251206T225746Z
LAST-MODIFIED:20260406T071148Z
UID:4360-1769886000-1769886000@sehlde.info
SUMMARY:Jahreshauptversammlung (FF)
DESCRIPTION:
URL:https://sehlde.info/content/event/jahreshauptversammlung-ff-2/
CATEGORIES:Feuerwehr,Vereinekalender
END:VEVENT
END:VCALENDAR