BEGIN:VCALENDAR
VERSION:2.0
PRODID:-//sehlde.info - ECPv6.15.20//NONSGML v1.0//EN
CALSCALE:GREGORIAN
METHOD:PUBLISH
X-WR-CALNAME:sehlde.info
X-ORIGINAL-URL:https://sehlde.info/content
X-WR-CALDESC:Veranstaltungen für sehlde.info
REFRESH-INTERVAL;VALUE=DURATION:PT1H
X-Robots-Tag:noindex
X-PUBLISHED-TTL:PT1H
BEGIN:VTIMEZONE
TZID:Europe/Berlin
BEGIN:DAYLIGHT
TZOFFSETFROM:+0100
TZOFFSETTO:+0200
TZNAME:CEST
DTSTART:20250330T010000
END:DAYLIGHT
BEGIN:STANDARD
TZOFFSETFROM:+0200
TZOFFSETTO:+0100
TZNAME:CET
DTSTART:20251026T010000
END:STANDARD
BEGIN:DAYLIGHT
TZOFFSETFROM:+0100
TZOFFSETTO:+0200
TZNAME:CEST
DTSTART:20260329T010000
END:DAYLIGHT
BEGIN:STANDARD
TZOFFSETFROM:+0200
TZOFFSETTO:+0100
TZNAME:CET
DTSTART:20261025T010000
END:STANDARD
BEGIN:DAYLIGHT
TZOFFSETFROM:+0100
TZOFFSETTO:+0200
TZNAME:CEST
DTSTART:20270328T010000
END:DAYLIGHT
BEGIN:STANDARD
TZOFFSETFROM:+0200
TZOFFSETTO:+0100
TZNAME:CET
DTSTART:20271031T010000
END:STANDARD
END:VTIMEZONE
BEGIN:VEVENT
DTSTART;TZID=Europe/Berlin:20260501T090000
DTEND;TZID=Europe/Berlin:20260501T090000
DTSTAMP:20260420T004751
CREATED:20251206T225806Z
LAST-MODIFIED:20260406T071213Z
UID:4380-1777626000-1777626000@sehlde.info
SUMMARY:Treckerausfahrt (OTV)
DESCRIPTION:
URL:https://sehlde.info/content/event/treckerausfahrt-otv-2/
LOCATION:Treckerhalle\, ggü. Heerer Straße 5\, Sehlde\, 38279\, Deutschland
CATEGORIES:Auf Einladung,Treckervereinigung,Vereinekalender
END:VEVENT
BEGIN:VEVENT
DTSTART;TZID=Europe/Berlin:20260503T000000
DTEND;TZID=Europe/Berlin:20260503T000000
DTSTAMP:20260420T004751
CREATED:20251206T225806Z
LAST-MODIFIED:20260406T071213Z
UID:4381-1777766400-1777766400@sehlde.info
SUMMARY:Konfirmation (KG)
DESCRIPTION:
URL:https://sehlde.info/content/event/konfirmation-kg-2/
LOCATION:Sehlder Kirche\, An der Kirche 1\, Sehlde\, 38279\, Deutschland
CATEGORIES:Kirchengemeinde,Öffentlich,Vereinekalender
END:VEVENT
BEGIN:VEVENT
DTSTART;TZID=Europe/Berlin:20260503T100000
DTEND;TZID=Europe/Berlin:20260503T100000
DTSTAMP:20260420T004751
CREATED:20260201T120038Z
LAST-MODIFIED:20260201T121315Z
UID:4724-1777802400-1777802400@sehlde.info
SUMMARY:Frühschoppenschießen (KKS)
DESCRIPTION:Einmal im Monat wird das Frühschoppenschießen ausgetragen. Bei diesem lockeren Wettkampf gewinnt jeder Teilnehmer zum Jahresabschluss einen Preis. Geschossen wird KK oder Luftgewehr\, je nach Jahreszeit.
URL:https://sehlde.info/content/event/fruehschoppenschliessen-kks-16/
LOCATION:Schützenhaus\, l498\, Sehlde\, 38279\, Deutschland
CATEGORIES:Öffentlich,Schützenverein
ORGANIZER;CN="KKS Waldheil Sehlde e.V.":MAILTO:info@waldheil-sehlde.de
END:VEVENT
BEGIN:VEVENT
DTSTART;TZID=Europe/Berlin:20260503T100000
DTEND;TZID=Europe/Berlin:20260503T100000
DTSTAMP:20260420T004751
CREATED:20260406T071213Z
LAST-MODIFIED:20260406T071213Z
UID:4831-1777802400-1777802400@sehlde.info
SUMMARY:Gottesdienst (KG)
DESCRIPTION:
URL:https://sehlde.info/content/event/gottesdienst-kg-4/
LOCATION:Sehlder Kirche\, An der Kirche 1\, Sehlde\, 38279\, Deutschland
CATEGORIES:Kirchengemeinde,Öffentlich
END:VEVENT
BEGIN:VEVENT
DTSTART;TZID=Europe/Berlin:20260509T140000
DTEND;TZID=Europe/Berlin:20260509T140000
DTSTAMP:20260420T004751
CREATED:20251206T225806Z
LAST-MODIFIED:20260406T071213Z
UID:4382-1778335200-1778335200@sehlde.info
SUMMARY:Sehlder Pokalschießen (KKS)
DESCRIPTION:
URL:https://sehlde.info/content/event/sehlder-pokalschiessen-kks-2/
LOCATION:Schützenhaus\, l498\, Sehlde\, 38279\, Deutschland
CATEGORIES:Mit Voranmeldung,Öffentlich,Schützenverein,Vereinekalender
ORGANIZER;CN="KKS Waldheil Sehlde e.V.":MAILTO:info@waldheil-sehlde.de
END:VEVENT
BEGIN:VEVENT
DTSTART;TZID=Europe/Berlin:20260511T150000
DTEND;TZID=Europe/Berlin:20260511T150000
DTSTAMP:20260420T004751
CREATED:20251206T225807Z
LAST-MODIFIED:20260406T071218Z
UID:4383-1778511600-1778511600@sehlde.info
SUMMARY:Bürgerkaffee (SSV)
DESCRIPTION:
URL:https://sehlde.info/content/event/buergerkaffee-ssv-5/
LOCATION:Sportheim\, Birkenweg\, Sehlde\, 38279\, Deutschland
CATEGORIES:Öffentlich,Sportverein,Vereinekalender
END:VEVENT
BEGIN:VEVENT
DTSTART;TZID=Europe/Berlin:20260511T173000
DTEND;TZID=Europe/Berlin:20260511T180000
DTSTAMP:20260420T004751
CREATED:20251206T225807Z
LAST-MODIFIED:20260406T071218Z
UID:4384-1778520600-1778522400@sehlde.info
SUMMARY:Halt Bücherbus (LK WF)
DESCRIPTION:
URL:https://sehlde.info/content/event/halt-buecherbus-lk-wf-5/
LOCATION:Hubertusstube\, Hubertusstraße 41\, Sehlde\, 38279\, Germany
CATEGORIES:Kinderprogramm,Kreisbücherei WF,Öffentlich
END:VEVENT
BEGIN:VEVENT
DTSTART;TZID=Europe/Berlin:20260517T104500
DTEND;TZID=Europe/Berlin:20260517T104500
DTSTAMP:20260420T004751
CREATED:20260406T071218Z
LAST-MODIFIED:20260406T071218Z
UID:4832-1779014700-1779014700@sehlde.info
SUMMARY:Gottesdienst (KG)
DESCRIPTION:
URL:https://sehlde.info/content/event/gottesdienst-kg-5/
LOCATION:Sehlder Kirche\, An der Kirche 1\, Sehlde\, 38279\, Deutschland
CATEGORIES:Kirchengemeinde,Öffentlich
END:VEVENT
BEGIN:VEVENT
DTSTART;TZID=Europe/Berlin:20260528T180000
DTEND;TZID=Europe/Berlin:20260528T180000
DTSTAMP:20260420T004751
CREATED:20260124T140455Z
LAST-MODIFIED:20260406T071218Z
UID:4662-1779991200-1779991200@sehlde.info
SUMMARY:Spieleabend (KG)
DESCRIPTION:Der Spieleabend findet regelmäßig an jedem letzten Donnerstag im Monat im Martin-Luther-Haus Sehlde statt. Beginn ist um 18.00 Uhr\, ein späteres Dazukommen ist jederzeit möglich\, das Ende ergibt sich im Laufe des Abends. Eingeladen sind Jugendliche ab etwa 15 Jahren sowie Erwachsene jeden Alters\, unabhängig von Spielerfahrung oder Vorkenntnissen. Gespielt werden moderne Brett- und Kartenspiele ebenso wie klassische Spiele\, je nach Interesse der Teilnehmerinnen und Teilnehmer. Die Teilnahme ist kostenfrei\, eine Anmeldung ist nicht erforderlich. Getränke\, kleine Snacks und eigene Spiele können gern mitgebracht werden.
URL:https://sehlde.info/content/event/spieleabend-kg-5/
CATEGORIES:Kirchengemeinde,Öffentlich
END:VEVENT
BEGIN:VEVENT
DTSTART;TZID=Europe/Berlin:20260530T000000
DTEND;TZID=Europe/Berlin:20260530T000000
DTSTAMP:20260420T004751
CREATED:20251206T225811Z
LAST-MODIFIED:20260406T071218Z
UID:4385-1780099200-1780099200@sehlde.info
SUMMARY:Kinderfest (Div)
DESCRIPTION:
URL:https://sehlde.info/content/event/kinderfest-div-3/
CATEGORIES:Sehlder Vereine,Vereinekalender
END:VEVENT
END:VCALENDAR