BEGIN:VCALENDAR
VERSION:2.0
PRODID:-//sehlde.info - ECPv6.15.20//NONSGML v1.0//EN
CALSCALE:GREGORIAN
METHOD:PUBLISH
X-WR-CALNAME:sehlde.info
X-ORIGINAL-URL:https://sehlde.info/content
X-WR-CALDESC:Veranstaltungen für sehlde.info
REFRESH-INTERVAL;VALUE=DURATION:PT1H
X-Robots-Tag:noindex
X-PUBLISHED-TTL:PT1H
BEGIN:VTIMEZONE
TZID:Europe/Berlin
BEGIN:DAYLIGHT
TZOFFSETFROM:+0100
TZOFFSETTO:+0200
TZNAME:CEST
DTSTART:20250330T010000
END:DAYLIGHT
BEGIN:STANDARD
TZOFFSETFROM:+0200
TZOFFSETTO:+0100
TZNAME:CET
DTSTART:20251026T010000
END:STANDARD
BEGIN:DAYLIGHT
TZOFFSETFROM:+0100
TZOFFSETTO:+0200
TZNAME:CEST
DTSTART:20260329T010000
END:DAYLIGHT
BEGIN:STANDARD
TZOFFSETFROM:+0200
TZOFFSETTO:+0100
TZNAME:CET
DTSTART:20261025T010000
END:STANDARD
BEGIN:DAYLIGHT
TZOFFSETFROM:+0100
TZOFFSETTO:+0200
TZNAME:CEST
DTSTART:20270328T010000
END:DAYLIGHT
BEGIN:STANDARD
TZOFFSETFROM:+0200
TZOFFSETTO:+0100
TZNAME:CET
DTSTART:20271031T010000
END:STANDARD
END:VTIMEZONE
BEGIN:VEVENT
DTSTART;TZID=Europe/Berlin:20260905T190000
DTEND;TZID=Europe/Berlin:20260905T190000
DTSTAMP:20260420T070327
CREATED:20251206T225822Z
LAST-MODIFIED:20260406T071238Z
UID:4399-1788634800-1788634800@sehlde.info
SUMMARY:Proklamation mit Party (KKS)
DESCRIPTION:
URL:https://sehlde.info/content/event/proklamation-mit-party-kks/
LOCATION:Schützenhaus\, l498\, Sehlde\, 38279\, Deutschland
CATEGORIES:Mit Voranmeldung,Öffentlich,Schützenverein,Vereinekalender
ORGANIZER;CN="KKS Waldheil Sehlde e.V.":MAILTO:info@waldheil-sehlde.de
END:VEVENT
BEGIN:VEVENT
DTSTART;TZID=Europe/Berlin:20260906T100000
DTEND;TZID=Europe/Berlin:20260906T100000
DTSTAMP:20260420T070327
CREATED:20260201T120259Z
LAST-MODIFIED:20260201T121254Z
UID:4727-1788688800-1788688800@sehlde.info
SUMMARY:Frühschoppenschießen (KKS)
DESCRIPTION:Einmal im Monat wird das Frühschoppenschießen ausgetragen. Bei diesem lockeren Wettkampf gewinnt jeder Teilnehmer zum Jahresabschluss einen Preis. Geschossen wird KK oder Luftgewehr\, je nach Jahreszeit.
URL:https://sehlde.info/content/event/fruehschoppenschliessen-kks-19/
LOCATION:Schützenhaus\, l498\, Sehlde\, 38279\, Deutschland
CATEGORIES:Öffentlich,Schützenverein
ORGANIZER;CN="KKS Waldheil Sehlde e.V.":MAILTO:info@waldheil-sehlde.de
END:VEVENT
BEGIN:VEVENT
DTSTART;TZID=Europe/Berlin:20260913T100000
DTEND;TZID=Europe/Berlin:20260913T180000
DTSTAMP:20260420T070327
CREATED:20251206T225826Z
LAST-MODIFIED:20260406T071238Z
UID:4400-1789293600-1789322400@sehlde.info
SUMMARY:Kommunalwahl (SG)
DESCRIPTION:
URL:https://sehlde.info/content/event/kommunalwahl-sg/
LOCATION:Feuerwehrhaus\, Am Friedhof\, Sehlde\, 38279\, Deutschland
CATEGORIES:Samtgemeinde,Vereinekalender
END:VEVENT
BEGIN:VEVENT
DTSTART;TZID=Europe/Berlin:20260914T150000
DTEND;TZID=Europe/Berlin:20260914T150000
DTSTAMP:20260420T070327
CREATED:20251206T225826Z
LAST-MODIFIED:20260406T071243Z
UID:4401-1789398000-1789398000@sehlde.info
SUMMARY:Bürgerkaffee (SSV)
DESCRIPTION:
URL:https://sehlde.info/content/event/buergerkaffee-ssv-8/
LOCATION:Sportheim\, Birkenweg\, Sehlde\, 38279\, Deutschland
CATEGORIES:Öffentlich,Sportverein,Vereinekalender
END:VEVENT
BEGIN:VEVENT
DTSTART;TZID=Europe/Berlin:20260924T180000
DTEND;TZID=Europe/Berlin:20260924T180000
DTSTAMP:20260420T070327
CREATED:20260124T140520Z
LAST-MODIFIED:20260406T071243Z
UID:4668-1790272800-1790272800@sehlde.info
SUMMARY:Spieleabend (KG)
DESCRIPTION:Der Spieleabend findet regelmäßig an jedem letzten Donnerstag im Monat im Martin-Luther-Haus Sehlde statt. Beginn ist um 18.00 Uhr\, ein späteres Dazukommen ist jederzeit möglich\, das Ende ergibt sich im Laufe des Abends. Eingeladen sind Jugendliche ab etwa 15 Jahren sowie Erwachsene jeden Alters\, unabhängig von Spielerfahrung oder Vorkenntnissen. Gespielt werden moderne Brett- und Kartenspiele ebenso wie klassische Spiele\, je nach Interesse der Teilnehmerinnen und Teilnehmer. Die Teilnahme ist kostenfrei\, eine Anmeldung ist nicht erforderlich. Getränke\, kleine Snacks und eigene Spiele können gern mitgebracht werden.
URL:https://sehlde.info/content/event/spieleabend-kg-9/
CATEGORIES:Kirchengemeinde,Öffentlich
END:VEVENT
BEGIN:VEVENT
DTSTART;TZID=Europe/Berlin:20260926T150000
DTEND;TZID=Europe/Berlin:20260926T150000
DTSTAMP:20260420T070327
CREATED:20251206T225827Z
LAST-MODIFIED:20260406T071243Z
UID:4402-1790434800-1790434800@sehlde.info
SUMMARY:Kickerturnier (FF)
DESCRIPTION:
URL:https://sehlde.info/content/event/kickerturnier-ff-3/
CATEGORIES:Feuerwehr,Mit Voranmeldung,Öffentlich,Vereinekalender
END:VEVENT
BEGIN:VEVENT
DTSTART;TZID=Europe/Berlin:20260927T000000
DTEND;TZID=Europe/Berlin:20260927T000000
DTSTAMP:20260420T070327
CREATED:20251206T225827Z
LAST-MODIFIED:20260406T071243Z
UID:4403-1790467200-1790467200@sehlde.info
SUMMARY:Stichwahl (SG)
DESCRIPTION:
URL:https://sehlde.info/content/event/stichwahl-sg/
LOCATION:Feuerwehrhaus\, Am Friedhof\, Sehlde\, 38279\, Deutschland
CATEGORIES:Samtgemeinde,Vereinekalender
END:VEVENT
BEGIN:VEVENT
DTSTART;TZID=Europe/Berlin:20260927T110000
DTEND;TZID=Europe/Berlin:20260927T110000
DTSTAMP:20260420T070327
CREATED:20251206T225827Z
LAST-MODIFIED:20260406T071243Z
UID:4404-1790506800-1790506800@sehlde.info
SUMMARY:Erntedank GD\, anschl. Fest (KG)
DESCRIPTION:
URL:https://sehlde.info/content/event/erntedank-gd-anschl-fest-kg/
LOCATION:Sehlder Kirche\, An der Kirche 1\, Sehlde\, 38279\, Deutschland
CATEGORIES:Kirchengemeinde,Öffentlich,Vereinekalender
END:VEVENT
END:VCALENDAR