BEGIN:VCALENDAR
VERSION:2.0
PRODID:-//sehlde.info - ECPv6.15.20//NONSGML v1.0//EN
CALSCALE:GREGORIAN
METHOD:PUBLISH
X-ORIGINAL-URL:https://sehlde.info/content
X-WR-CALDESC:Veranstaltungen für sehlde.info
REFRESH-INTERVAL;VALUE=DURATION:PT1H
X-Robots-Tag:noindex
X-PUBLISHED-TTL:PT1H
BEGIN:VTIMEZONE
TZID:Europe/Berlin
BEGIN:DAYLIGHT
TZOFFSETFROM:+0100
TZOFFSETTO:+0200
TZNAME:CEST
DTSTART:20250330T010000
END:DAYLIGHT
BEGIN:STANDARD
TZOFFSETFROM:+0200
TZOFFSETTO:+0100
TZNAME:CET
DTSTART:20251026T010000
END:STANDARD
BEGIN:DAYLIGHT
TZOFFSETFROM:+0100
TZOFFSETTO:+0200
TZNAME:CEST
DTSTART:20260329T010000
END:DAYLIGHT
BEGIN:STANDARD
TZOFFSETFROM:+0200
TZOFFSETTO:+0100
TZNAME:CET
DTSTART:20261025T010000
END:STANDARD
BEGIN:DAYLIGHT
TZOFFSETFROM:+0100
TZOFFSETTO:+0200
TZNAME:CEST
DTSTART:20270328T010000
END:DAYLIGHT
BEGIN:STANDARD
TZOFFSETFROM:+0200
TZOFFSETTO:+0100
TZNAME:CET
DTSTART:20271031T010000
END:STANDARD
END:VTIMEZONE
BEGIN:VEVENT
DTSTART;TZID=Europe/Berlin:20261101T100000
DTEND;TZID=Europe/Berlin:20261101T100000
DTSTAMP:20260422T121730
CREATED:20260201T120715Z
LAST-MODIFIED:20260201T121238Z
UID:4729-1793527200-1793527200@sehlde.info
SUMMARY:Frühschoppenschießen (KKS)
DESCRIPTION:Einmal im Monat wird das Frühschoppenschießen ausgetragen. Bei diesem lockeren Wettkampf gewinnt jeder Teilnehmer zum Jahresabschluss einen Preis. Geschossen wird KK oder Luftgewehr\, je nach Jahreszeit.
URL:https://sehlde.info/content/event/fruehschoppenschliessen-kks-21/
LOCATION:Schützenhaus\, l498\, Sehlde\, 38279\, Deutschland
CATEGORIES:Öffentlich,Schützenverein
ORGANIZER;CN="KKS Waldheil Sehlde e.V.":MAILTO:info@waldheil-sehlde.de
END:VEVENT
BEGIN:VEVENT
DTSTART;TZID=Europe/Berlin:20261106T170000
DTEND;TZID=Europe/Berlin:20261106T170000
DTSTAMP:20260422T121730
CREATED:20251206T225836Z
LAST-MODIFIED:20260406T071253Z
UID:4410-1793984400-1793984400@sehlde.info
SUMMARY:Martinsfest (GS)
DESCRIPTION:
URL:https://sehlde.info/content/event/martinsfest-gs/
LOCATION:Schulhof
CATEGORIES:Schulverein,Vereinekalender
END:VEVENT
BEGIN:VEVENT
DTSTART;TZID=Europe/Berlin:20261107T190000
DTEND;TZID=Europe/Berlin:20261107T190000
DTSTAMP:20260422T121730
CREATED:20251206T225836Z
LAST-MODIFIED:20260406T071253Z
UID:4411-1794078000-1794078000@sehlde.info
SUMMARY:Hubertusabschluss (KKS)
DESCRIPTION:
URL:https://sehlde.info/content/event/hubertusabschluss-kks-2/
LOCATION:Schützenhaus\, l498\, Sehlde\, 38279\, Deutschland
CATEGORIES:Öffentlich,Schützenverein,Vereinekalender
ORGANIZER;CN="KKS Waldheil Sehlde e.V.":MAILTO:info@waldheil-sehlde.de
END:VEVENT
BEGIN:VEVENT
DTSTART;TZID=Europe/Berlin:20261109T150000
DTEND;TZID=Europe/Berlin:20261109T150000
DTSTAMP:20260422T121730
CREATED:20251206T225837Z
LAST-MODIFIED:20260406T071253Z
UID:4412-1794236400-1794236400@sehlde.info
SUMMARY:Bürgerkaffee (SSV)
DESCRIPTION:
URL:https://sehlde.info/content/event/buergerkaffee-ssv-10/
LOCATION:Sportheim\, Birkenweg\, Sehlde\, 38279\, Deutschland
CATEGORIES:Öffentlich,Sportverein,Vereinekalender
END:VEVENT
BEGIN:VEVENT
DTSTART;TZID=Europe/Berlin:20261114T000000
DTEND;TZID=Europe/Berlin:20261114T000000
DTSTAMP:20260422T121730
CREATED:20251206T225837Z
LAST-MODIFIED:20260406T071253Z
UID:4413-1794614400-1794614400@sehlde.info
SUMMARY:Volkstrauertag (Gem)
DESCRIPTION:
URL:https://sehlde.info/content/event/volkstrauertag-gem/
LOCATION:Ehrenmal
CATEGORIES:Gemeinde,Vereinekalender
END:VEVENT
BEGIN:VEVENT
DTSTART;TZID=Europe/Berlin:20261121T190000
DTEND;TZID=Europe/Berlin:20261121T190000
DTSTAMP:20260422T121730
CREATED:20251206T225837Z
LAST-MODIFIED:20260406T071258Z
UID:4414-1795287600-1795287600@sehlde.info
SUMMARY:Grünkohlessen (FF)
DESCRIPTION:
URL:https://sehlde.info/content/event/gruenkohlessen-ff-3/
LOCATION:Feuerwehrhaus\, Am Friedhof\, Sehlde\, 38279\, Deutschland
CATEGORIES:Feuerwehr,Vereinekalender
END:VEVENT
BEGIN:VEVENT
DTSTART;TZID=Europe/Berlin:20261125T190000
DTEND;TZID=Europe/Berlin:20261125T190000
DTSTAMP:20260422T121730
CREATED:20251206T225841Z
LAST-MODIFIED:20260406T071258Z
UID:4415-1795633200-1795633200@sehlde.info
SUMMARY:Vereinebesprechung (Div)
DESCRIPTION:
URL:https://sehlde.info/content/event/vereinebesprechung-div/
LOCATION:Sportheim\, Birkenweg\, Sehlde\, 38279\, Deutschland
CATEGORIES:Sehlder Vereine,Vereinekalender
END:VEVENT
BEGIN:VEVENT
DTSTART;TZID=Europe/Berlin:20261126T180000
DTEND;TZID=Europe/Berlin:20261126T180000
DTSTAMP:20260422T121730
CREATED:20260124T140611Z
LAST-MODIFIED:20260406T071258Z
UID:4670-1795716000-1795716000@sehlde.info
SUMMARY:Spieleabend (KG)
DESCRIPTION:Der Spieleabend findet regelmäßig an jedem letzten Donnerstag im Monat im Martin-Luther-Haus Sehlde statt. Beginn ist um 18.00 Uhr\, ein späteres Dazukommen ist jederzeit möglich\, das Ende ergibt sich im Laufe des Abends. Eingeladen sind Jugendliche ab etwa 15 Jahren sowie Erwachsene jeden Alters\, unabhängig von Spielerfahrung oder Vorkenntnissen. Gespielt werden moderne Brett- und Kartenspiele ebenso wie klassische Spiele\, je nach Interesse der Teilnehmerinnen und Teilnehmer. Die Teilnahme ist kostenfrei\, eine Anmeldung ist nicht erforderlich. Getränke\, kleine Snacks und eigene Spiele können gern mitgebracht werden.
URL:https://sehlde.info/content/event/spieleabend-kg-11/
CATEGORIES:Kirchengemeinde,Öffentlich
END:VEVENT
END:VCALENDAR