BEGIN:VCALENDAR
VERSION:2.0
PRODID:-//sehlde.info - ECPv6.15.20//NONSGML v1.0//EN
CALSCALE:GREGORIAN
METHOD:PUBLISH
X-WR-CALNAME:sehlde.info
X-ORIGINAL-URL:https://sehlde.info/content
X-WR-CALDESC:Veranstaltungen für sehlde.info
REFRESH-INTERVAL;VALUE=DURATION:PT1H
X-Robots-Tag:noindex
X-PUBLISHED-TTL:PT1H
BEGIN:VTIMEZONE
TZID:Europe/Berlin
BEGIN:DAYLIGHT
TZOFFSETFROM:+0100
TZOFFSETTO:+0200
TZNAME:CEST
DTSTART:20230326T010000
END:DAYLIGHT
BEGIN:STANDARD
TZOFFSETFROM:+0200
TZOFFSETTO:+0100
TZNAME:CET
DTSTART:20231029T010000
END:STANDARD
BEGIN:DAYLIGHT
TZOFFSETFROM:+0100
TZOFFSETTO:+0200
TZNAME:CEST
DTSTART:20240331T010000
END:DAYLIGHT
BEGIN:STANDARD
TZOFFSETFROM:+0200
TZOFFSETTO:+0100
TZNAME:CET
DTSTART:20241027T010000
END:STANDARD
BEGIN:DAYLIGHT
TZOFFSETFROM:+0100
TZOFFSETTO:+0200
TZNAME:CEST
DTSTART:20250330T010000
END:DAYLIGHT
BEGIN:STANDARD
TZOFFSETFROM:+0200
TZOFFSETTO:+0100
TZNAME:CET
DTSTART:20251026T010000
END:STANDARD
END:VTIMEZONE
BEGIN:VEVENT
DTSTART;TZID=Europe/Berlin:20240812T150000
DTEND;TZID=Europe/Berlin:20240812T150000
DTSTAMP:20260422T142344
CREATED:20240713T065230Z
LAST-MODIFIED:20240713T065230Z
UID:3760-1723474800-1723474800@sehlde.info
SUMMARY:Bürgercafe im Sportheim (SSV)
DESCRIPTION:Am Montag\, den 12. August 2024 um 15:00 Uhr findet im Sportheim das nächste BÜRGERCAFE statt. Dieses Angebot richtet sich an alle Bürger\, nicht nur an Senioren. Beim Bürgercafe im Juli waren es schon rund 20 Gäste\, die den Duft von selbstgebackenem Kuchen und frisch gebrühtem Kaffee genießen konnten. Es wurden angeregte Gespräche geführt und Bingo gespielt. Weitersagen!
URL:https://sehlde.info/content/event/buergercafe-im-sportheim-ssv/
LOCATION:Sportheim\, Birkenweg\, Sehlde\, 38279\, Deutschland
CATEGORIES:Gemeinde,Sportverein
END:VEVENT
END:VCALENDAR